BEGIN:VCALENDAR
VERSION:2.0
PRODID:-//Craiova Live - ECPv6.15.18//NONSGML v1.0//EN
CALSCALE:GREGORIAN
METHOD:PUBLISH
X-WR-CALNAME:Craiova Live
X-ORIGINAL-URL:https://craiovalive.ro
X-WR-CALDESC:Evenimente pentru Craiova Live
REFRESH-INTERVAL;VALUE=DURATION:PT1H
X-Robots-Tag:noindex
X-PUBLISHED-TTL:PT1H
BEGIN:VTIMEZONE
TZID:Europe/Bucharest
BEGIN:DAYLIGHT
TZOFFSETFROM:+0200
TZOFFSETTO:+0300
TZNAME:EEST
DTSTART:20240331T010000
END:DAYLIGHT
BEGIN:STANDARD
TZOFFSETFROM:+0300
TZOFFSETTO:+0200
TZNAME:EET
DTSTART:20241027T010000
END:STANDARD
BEGIN:DAYLIGHT
TZOFFSETFROM:+0200
TZOFFSETTO:+0300
TZNAME:EEST
DTSTART:20250330T010000
END:DAYLIGHT
BEGIN:STANDARD
TZOFFSETFROM:+0300
TZOFFSETTO:+0200
TZNAME:EET
DTSTART:20251026T010000
END:STANDARD
BEGIN:DAYLIGHT
TZOFFSETFROM:+0200
TZOFFSETTO:+0300
TZNAME:EEST
DTSTART:20260329T010000
END:DAYLIGHT
BEGIN:STANDARD
TZOFFSETFROM:+0300
TZOFFSETTO:+0200
TZNAME:EET
DTSTART:20261025T010000
END:STANDARD
END:VTIMEZONE
BEGIN:VEVENT
DTSTART;TZID=Europe/Bucharest:20250425T190000
DTEND;TZID=Europe/Bucharest:20250425T203000
DTSTAMP:20260425T005825
CREATED:20250307T075728Z
LAST-MODIFIED:20250307T075728Z
UID:10005681-1745607600-1745613000@craiovalive.ro
SUMMARY:O moștenire și doi nepoți
DESCRIPTION:Nepoții Zamboc nici nu realizează cum devin bogați peste noapte. Dar ce să facă ei cu o ditamai moștenirea? Nici nu contează\, dar le place acest nou statut și nu vor să renunțe la el nici în ruptul capului\, la propriu. \nViața de “proaspăt îmbogățit” nu e simplă\, cu atât mai mult cu cât împart același acoperiș cu bunica lor Angela Zamboc\, care nu e nici pe departe cea mai dulce bătrânică. \nÎnsă apare Specialistul\, un om bun la toate care mediază\, discret și fin\, conflictele.\nCe iese\, cu ce se alege fiecare\, de ce sunt capabili niște nepoței\, dar mai ales cât de efervescentă poate fi o bunicuță\, aflați venind la “ O moștenire și doi nepoți“ \nDistribuție: \nMariana Zamboc – Ana Odagiu \nCornel Zamboc – Sergiu Costache \nAngela – Maria Radu \nLeo – Silviu Mircescu \nDirecția scenică – Radu Gabriel \nText : Ana Odagiu \nProducător – Rotari Entertainment\nVârsta recomandată : +12 ani!
URL:https://craiovalive.ro/eveniment/o-mostenire-si-doi-nepoti/
LOCATION:Teatrul pentru copii și tineret Colibri\, Calea București\, nr. 56\, Craiova\, Dolj\, România
CATEGORIES:Teatru
ATTACH;FMTTYPE=image/jpeg:https://craiovalive.ro/wp-content/uploads/2025/03/O-mostenire-si-doi-nepoti.jpg
GEO:44.3151148;23.8215842
X-APPLE-STRUCTURED-LOCATION;VALUE=URI;X-ADDRESS=Teatrul pentru copii și tineret Colibri Calea București nr. 56 Craiova Dolj România;X-APPLE-RADIUS=500;X-TITLE=Calea București\, nr. 56:geo:23.8215842,44.3151148
END:VEVENT
BEGIN:VEVENT
DTSTART;TZID=Europe/Bucharest:20250428T170000
DTEND;TZID=Europe/Bucharest:20250428T180000
DTSTAMP:20260425T005825
CREATED:20250419T223312Z
LAST-MODIFIED:20250419T223312Z
UID:10006174-1745859600-1745863200@craiovalive.ro
SUMMARY:Poezie de aprilie la Shakespeare Hub Craiova
DESCRIPTION:
URL:https://craiovalive.ro/eveniment/poezie-de-aprilie-la-shakespeare-hub-craiova/
LOCATION:Shakespeare Hub\, Str. Popa Șapcă\, nr. 14\, Craiova\, Dolj\, 200416\, România
CATEGORIES:Teatru
ATTACH;FMTTYPE=image/jpeg:https://craiovalive.ro/wp-content/uploads/2025/04/Poezie-de-aprilie.jpg
GEO:44.3190038;23.7929149
X-APPLE-STRUCTURED-LOCATION;VALUE=URI;X-ADDRESS=Shakespeare Hub Str. Popa Șapcă nr. 14 Craiova Dolj 200416 România;X-APPLE-RADIUS=500;X-TITLE=Str. Popa Șapcă\, nr. 14:geo:23.7929149,44.3190038
END:VEVENT
BEGIN:VEVENT
DTSTART;TZID=Europe/Bucharest:20250428T190000
DTEND;TZID=Europe/Bucharest:20250428T203000
DTSTAMP:20260425T005825
CREATED:20250301T135730Z
LAST-MODIFIED:20250304T081830Z
UID:10005607-1745866800-1745872200@craiovalive.ro
SUMMARY:Fidelitate
DESCRIPTION:Piesa lui Chazz Palminteri\, scenarist\, regizor\, actor și producător de origine italiană\, poate fi integrată teatrului bulevardier modern. A fost jucată cu succes pe alte meridiane\, s-a realizat și un film în care autorul a jucat\, este amuzant scrisă ca situații cu lovituri spectaculoase de teatru\, cu replici pline de umor și personaje bine construite. \nÎn relația unui cuplu de oameni avuți – Maggie (Adelaida Zamfira) și Jack (Florin Busuioc) ajunsă într-un impact\, cu ironie analizată psihologic\, intervine un ucigaș plătit\, Tony (Gheorghe Ifrim)\, nu se știe de cine\, și el cu probleme psihologice; acțiunea\, conflictele\, sunt dibaci expuse dramatic cu savoare comică. Autorul se dovedește că știe a scrie comedii cu motivare psihologică în relații și subtile trimiterii spre actualitatea curentă. \nÎntâlnim din nou pe Gheorghe Ifrim într-un rol cu bază comică – Tony\, interpretat cu intenția logică de a arăta că trăirea dramatică a unor situații poate evidenția exploziv scopul scrierii ironic\, satiric. Excelent actorul definește personajul\, un ucigaș plătit\, un posibil mafiot care își are problemele sale personale și drept ajutor un psiholog. Gheorghe Ifrim speculează cu măsură în expresie stările personajului și relațiile sale cu Maggie\, interpretarea sa având drept rezultat un umor rafinat\, cuceritor\, actorul demonstrând din nou\, capacitățile sale speciale pentru comedie. \nMaggie\, femeia plictisită de viața casnică\, dar care a adus fondurile necesare afacerilor soțului este caracterizată sugestiv de Adelaida Zamfira. Actrița dezvoltă ambiguitatea lui Maggie mai ales când aceasta devine o doamnă elegantă care își afirmă dorința de aventură și răzbunare. Este un rol de referință realizarea credibilă a personajului pentru această talentată actriță independentă. \nO surpriză plăcută produce apariția în teatru a lui Florin Busuioc. Actorul se pliază la nuanță pentru definirea esenței profilului și atitudinilor soțului infidel al lui Maggie\, om de afaceri. Florin Busuioc transmite verosimil atenționarea că imoralitatea poate fi specifică\, firească și multora din cei avuți. Cei trei sunt minunați prin modul în care relatând situații dramatice cu sinceritate interioară\, produc comicul scopului satiric al textului și umorul aplaudat de public. \n„Fidelitate” este un spectacol de la care nimeni nu poate pleca dezamăgit. De la regizor\, scenograf până la cei trei interpreți de excepție\, „Fidelitate” ne arată că teatrul independent activează consecvent cultural\, fără sofisticări derizorii de imagine\, fiind direct în comunicarea cu haz a unor „fotografii” desprinse din actualitatea zilelor noastre. \n  \nDistributie:  Adelaida Zamfira\, Florin Busuioc\, Gheorghe Ifrim
URL:https://craiovalive.ro/eveniment/fidelitate/
LOCATION:Filarmonica Oltenia\, Calea Unirii\, nr. 16\, Craiova\, Dolj\, 200585\, România
CATEGORIES:Teatru
ATTACH;FMTTYPE=image/jpeg:https://craiovalive.ro/wp-content/uploads/2025/03/Fidelitate-Craiova.jpg
GEO:44.3172308;23.7944364
X-APPLE-STRUCTURED-LOCATION;VALUE=URI;X-ADDRESS=Filarmonica Oltenia Calea Unirii nr. 16 Craiova Dolj 200585 România;X-APPLE-RADIUS=500;X-TITLE=Calea Unirii\, nr. 16:geo:23.7944364,44.3172308
END:VEVENT
BEGIN:VEVENT
DTSTART;TZID=Europe/Bucharest:20250429T200000
DTEND;TZID=Europe/Bucharest:20250429T213000
DTSTAMP:20260425T005825
CREATED:20240619T221308Z
LAST-MODIFIED:20250326T113016Z
UID:10001718-1745956800-1745962200@craiovalive.ro
SUMMARY:O noapte furtunoasă
DESCRIPTION:TEATRUL NATIONAL CRAIOVA\n\n\n\nDistribuție:\nMAIA MORGENSTERN – Zița\nMARIUS MANOLE – Rică Venturiano\nCARMEN TĂNASE – Veta\nVLAD ZAMFIRESCU – Chiriac\nMIRCEA RUSU – Nae Ipingescu\nNICULAE URS – Jupân Dumitrache Titircă\nGABRIEL VATAVU – Spiridon\nRegia: VLAD ZAMFIRESCU\nScenografia: IMELDA MANU-JIPA\nAsistent regie: MĂDĂLINA CIUPITU\n\nCapodoperă a geniului caragialian\, „O noapte furtunoasă” este suprema radiografie spumoasă\, dulce-amăruie\, plină de culoare și de savoare a spiritului românesc\, în toate ale sale\, cu bune și… mai (ne)bune. \nÎn noua cheie regizorală propusă de VLAD ZAMFIRESCU\, redescoperim personajele lui Caragiale pentru lumea de azi\, cu parfumul și emoția unei mahalele de demult\, în care răsună muzica lui Jean Moscopol\, și care ne invită să pătrundem\, în arome de mirodenii și mâncare aburindă\, printre schele\, reparații și pisici care-și miorlăie „furtunos” aleanul. \n\n\nÎn acest spațiu pitoresc\, în care tumultul de-afară dă într-un clocot interior de nestăpânit\, bucătăria devine inima mult încercată a universului intim. Jupân Dumitrache\, jucat de NICULAE URS\, este ca un (master)șef al casei și al mesei\, cel care pregătește cu grijă și ambiț mâncarea\, lăsându-l totuși și pe înflăcăratul Ipingescu\, în interpretarea puternică a lui MIRCEA RUSU\, să-și încerce talentele culinaro-politice\, până la a „mânca sfânta Constituțiune”. \nÎn propunerea scenică a formidabilei CARMEN TĂNASE\, Veta este păstrătoarea curățeniei și ordinii\, în această poveste cu iz de fason\, dichis și trădare de mahala\, pe care șiretul și fermecătorul Chiriac\, jucat de VLAD ZAMFIRESCU o conduce cu mult farmec. Asta în timp ce Spiridon (GABRIEL VATAVU/ȘTEFAN RADU) primește cu zâmbetul (prea larg) pe buze toate întâlnirile cu Sf. Niculae\, dat una-două jos din cui. \nÎntr-o partitură absulut surprinzătoare\, MAIA MORGENSTERN este o Zița explozivă și nebunesc de delicioasă\, în vreme ce MARIUS MANOLE construiește un Rică Venturiano bogat în angoase\, care amenință să pulverizeze onoarea de familist\, în timp ce-și negociază\, ridicol și sensibil deopotrivă\, rolul în patria mică\, dar mai ales pe cel în patria mare. \n„Poporul șade la masă” în această montare în care se zugrăvește\, se tencuiește\, se construiește\, se mănâncă și se combate\, și în care toate se amestecă\, de la idei\, la sentimente\, la ingrediente și relații\, dând savoare unei „Nopți furtunoase” cum nu s-a mai văzut până acum. \nUn spectacol alert și surprinzător\, de un comic exploziv\, care te pune pe gânduri\, cu o distribuție excepțională – este „O noapte furtunoasă” despre valori naționale și personale\, despre haz de necaz\, despre patrioți și familiști\, ciocoi și ziariști care combat\, dar mai ales despre iubire\, în formele ei mai mult sau mai puțin… tradiționale. \nScenografia spectaculoasă este semnată de Imelda Manu-Jipa\, costumele-personaj aparțin Mariei Ștefănescu\, iar Mădălina Ciupitu este asistent de regie.
URL:https://craiovalive.ro/eveniment/o-noapte-furtunoasa/2025-04-29/
LOCATION:Teatrul Național Craiova – Sala Amza Pellea\, Str. A. I. Cuza\, nr. 11\, Craiova\, Dolj\, 200585\, România
CATEGORIES:Teatru
ATTACH;FMTTYPE=image/jpeg:https://craiovalive.ro/wp-content/uploads/2024/06/O-noapte-furtunoasa.jpg
GEO:44.3186661;23.8003743
X-APPLE-STRUCTURED-LOCATION;VALUE=URI;X-ADDRESS=Teatrul Național Craiova – Sala Amza Pellea Str. A. I. Cuza nr. 11 Craiova Dolj 200585 România;X-APPLE-RADIUS=500;X-TITLE=Str. A. I. Cuza\, nr. 11:geo:23.8003743,44.3186661
END:VEVENT
END:VCALENDAR