BEGIN:VCALENDAR
VERSION:2.0
PRODID:-//Craiova Live - ECPv6.15.18//NONSGML v1.0//EN
CALSCALE:GREGORIAN
METHOD:PUBLISH
X-WR-CALNAME:Craiova Live
X-ORIGINAL-URL:https://craiovalive.ro
X-WR-CALDESC:Evenimente pentru Craiova Live
REFRESH-INTERVAL;VALUE=DURATION:PT1H
X-Robots-Tag:noindex
X-PUBLISHED-TTL:PT1H
BEGIN:VTIMEZONE
TZID:Europe/Bucharest
BEGIN:DAYLIGHT
TZOFFSETFROM:+0200
TZOFFSETTO:+0300
TZNAME:EEST
DTSTART:20250330T010000
END:DAYLIGHT
BEGIN:STANDARD
TZOFFSETFROM:+0300
TZOFFSETTO:+0200
TZNAME:EET
DTSTART:20251026T010000
END:STANDARD
BEGIN:DAYLIGHT
TZOFFSETFROM:+0200
TZOFFSETTO:+0300
TZNAME:EEST
DTSTART:20260329T010000
END:DAYLIGHT
BEGIN:STANDARD
TZOFFSETFROM:+0300
TZOFFSETTO:+0200
TZNAME:EET
DTSTART:20261025T010000
END:STANDARD
BEGIN:DAYLIGHT
TZOFFSETFROM:+0200
TZOFFSETTO:+0300
TZNAME:EEST
DTSTART:20270328T010000
END:DAYLIGHT
BEGIN:STANDARD
TZOFFSETFROM:+0300
TZOFFSETTO:+0200
TZNAME:EET
DTSTART:20271031T010000
END:STANDARD
END:VTIMEZONE
BEGIN:VEVENT
DTSTART;TZID=Europe/Bucharest:20260311T100000
DTEND;TZID=Europe/Bucharest:20260311T190000
DTSTAMP:20260424T014251
CREATED:20260307T204159Z
LAST-MODIFIED:20260309T160730Z
UID:10014105-1773223200-1773255600@craiovalive.ro
SUMMARY:Târgul de Carte Gaudeamus Craiova 2026
DESCRIPTION:Târgul de Carte Gaudeamus Craiova 2026: 11-15 martie 2026\, Teatrul Național Craiova \nGaudeamus Radio România deschide și în acest an calendarul 📋național al târgurilor de carte 📖\, la Craiova! \nÎn perioada 11 – 15 martie\, ediția cu numărul 24 a celui mai cunoscut târg de carte din România vă așteaptă în Foaierul Teatrului Național „Marin Sorescu” și pe www.gaudeamus.ro! \nMii de cărți📚\, zeci de povești și cei mai îndrăgiți autori vă dau întâlnire la Târgul de Carte Gaudeamus Radio România! \nProgram de vizitare: de miercuri până sâmbătă\, între orele 10.00 și 19.00 și duminică între orele 10.00 și 14.00. \nEveniment organizat de Radio România\, prin Echipa Gaudeamus și Radio România Oltenia – Craiova \n\nÎn fiecare an\, primăvara cărții începe la Gaudeamus Craiova. Pentru că\, în fiecare an\, de peste două decenii\, Radio România dă startul sezonului național al târgurilor de carte\, în Cetatea Băniei. 11 – 15 martie este intervalul în care\, în 2026\, cel mai citit târg de carte\, de la cel mai ascultat radio va lua în stăpânire foaierul generos al Teatrului Național „Marin Sorescu”.\nEvenimentul este organizat de Radio România\, prin echipa Gaudeamus și Radio România Oltenia – Craiova.\nDeschiderea oficială a ediției va avea loc miercuri\, 11 martie\, la ora 12.00\, iar președintele de onoare al acestei ediții va fi domnul Demeter Andràs Istvan\, Ministrul Culturii din România. Târgul va fi deschis zilnic\, între orele 10.00 și 19.00\, în primele patru zile\, și între orele 10.00 și 14.00\, duminică\, 15 martie. Accesul publicului va fi gratuit.\nSponsorul acestei ediții a evenimentului: Lions Club Craiova
URL:https://craiovalive.ro/eveniment/targul-de-carte-gaudeamus-craiova-2026/2026-03-11/
LOCATION:Teatrul Național Craiova – Foaier\, Str. A. I. Cuza\, nr. 11\, Craiova\, Dolj\, 200585\, România
CATEGORIES:Târguri
ATTACH;FMTTYPE=image/png:https://craiovalive.ro/wp-content/uploads/2026/03/Targul-de-Carte-Gaudeamus-Craiova-2026.png
GEO:44.3186661;23.8003743
X-APPLE-STRUCTURED-LOCATION;VALUE=URI;X-ADDRESS=Teatrul Național Craiova – Foaier Str. A. I. Cuza nr. 11 Craiova Dolj 200585 România;X-APPLE-RADIUS=500;X-TITLE=Str. A. I. Cuza\, nr. 11:geo:23.8003743,44.3186661
END:VEVENT
BEGIN:VEVENT
DTSTART;TZID=Europe/Bucharest:20260312T100000
DTEND;TZID=Europe/Bucharest:20260312T190000
DTSTAMP:20260424T014251
CREATED:20260307T204159Z
LAST-MODIFIED:20260309T160730Z
UID:10014106-1773309600-1773342000@craiovalive.ro
SUMMARY:Târgul de Carte Gaudeamus Craiova 2026
DESCRIPTION:Târgul de Carte Gaudeamus Craiova 2026: 11-15 martie 2026\, Teatrul Național Craiova \nGaudeamus Radio România deschide și în acest an calendarul 📋național al târgurilor de carte 📖\, la Craiova! \nÎn perioada 11 – 15 martie\, ediția cu numărul 24 a celui mai cunoscut târg de carte din România vă așteaptă în Foaierul Teatrului Național „Marin Sorescu” și pe www.gaudeamus.ro! \nMii de cărți📚\, zeci de povești și cei mai îndrăgiți autori vă dau întâlnire la Târgul de Carte Gaudeamus Radio România! \nProgram de vizitare: de miercuri până sâmbătă\, între orele 10.00 și 19.00 și duminică între orele 10.00 și 14.00. \nEveniment organizat de Radio România\, prin Echipa Gaudeamus și Radio România Oltenia – Craiova \n\nÎn fiecare an\, primăvara cărții începe la Gaudeamus Craiova. Pentru că\, în fiecare an\, de peste două decenii\, Radio România dă startul sezonului național al târgurilor de carte\, în Cetatea Băniei. 11 – 15 martie este intervalul în care\, în 2026\, cel mai citit târg de carte\, de la cel mai ascultat radio va lua în stăpânire foaierul generos al Teatrului Național „Marin Sorescu”.\nEvenimentul este organizat de Radio România\, prin echipa Gaudeamus și Radio România Oltenia – Craiova.\nDeschiderea oficială a ediției va avea loc miercuri\, 11 martie\, la ora 12.00\, iar președintele de onoare al acestei ediții va fi domnul Demeter Andràs Istvan\, Ministrul Culturii din România. Târgul va fi deschis zilnic\, între orele 10.00 și 19.00\, în primele patru zile\, și între orele 10.00 și 14.00\, duminică\, 15 martie. Accesul publicului va fi gratuit.\nSponsorul acestei ediții a evenimentului: Lions Club Craiova
URL:https://craiovalive.ro/eveniment/targul-de-carte-gaudeamus-craiova-2026/2026-03-12/
LOCATION:Teatrul Național Craiova – Foaier\, Str. A. I. Cuza\, nr. 11\, Craiova\, Dolj\, 200585\, România
CATEGORIES:Târguri
ATTACH;FMTTYPE=image/png:https://craiovalive.ro/wp-content/uploads/2026/03/Targul-de-Carte-Gaudeamus-Craiova-2026.png
GEO:44.3186661;23.8003743
X-APPLE-STRUCTURED-LOCATION;VALUE=URI;X-ADDRESS=Teatrul Național Craiova – Foaier Str. A. I. Cuza nr. 11 Craiova Dolj 200585 România;X-APPLE-RADIUS=500;X-TITLE=Str. A. I. Cuza\, nr. 11:geo:23.8003743,44.3186661
END:VEVENT
BEGIN:VEVENT
DTSTART;TZID=Europe/Bucharest:20260313T100000
DTEND;TZID=Europe/Bucharest:20260313T190000
DTSTAMP:20260424T014251
CREATED:20260307T204159Z
LAST-MODIFIED:20260309T160730Z
UID:10014107-1773396000-1773428400@craiovalive.ro
SUMMARY:Târgul de Carte Gaudeamus Craiova 2026
DESCRIPTION:Târgul de Carte Gaudeamus Craiova 2026: 11-15 martie 2026\, Teatrul Național Craiova \nGaudeamus Radio România deschide și în acest an calendarul 📋național al târgurilor de carte 📖\, la Craiova! \nÎn perioada 11 – 15 martie\, ediția cu numărul 24 a celui mai cunoscut târg de carte din România vă așteaptă în Foaierul Teatrului Național „Marin Sorescu” și pe www.gaudeamus.ro! \nMii de cărți📚\, zeci de povești și cei mai îndrăgiți autori vă dau întâlnire la Târgul de Carte Gaudeamus Radio România! \nProgram de vizitare: de miercuri până sâmbătă\, între orele 10.00 și 19.00 și duminică între orele 10.00 și 14.00. \nEveniment organizat de Radio România\, prin Echipa Gaudeamus și Radio România Oltenia – Craiova \n\nÎn fiecare an\, primăvara cărții începe la Gaudeamus Craiova. Pentru că\, în fiecare an\, de peste două decenii\, Radio România dă startul sezonului național al târgurilor de carte\, în Cetatea Băniei. 11 – 15 martie este intervalul în care\, în 2026\, cel mai citit târg de carte\, de la cel mai ascultat radio va lua în stăpânire foaierul generos al Teatrului Național „Marin Sorescu”.\nEvenimentul este organizat de Radio România\, prin echipa Gaudeamus și Radio România Oltenia – Craiova.\nDeschiderea oficială a ediției va avea loc miercuri\, 11 martie\, la ora 12.00\, iar președintele de onoare al acestei ediții va fi domnul Demeter Andràs Istvan\, Ministrul Culturii din România. Târgul va fi deschis zilnic\, între orele 10.00 și 19.00\, în primele patru zile\, și între orele 10.00 și 14.00\, duminică\, 15 martie. Accesul publicului va fi gratuit.\nSponsorul acestei ediții a evenimentului: Lions Club Craiova
URL:https://craiovalive.ro/eveniment/targul-de-carte-gaudeamus-craiova-2026/2026-03-13/
LOCATION:Teatrul Național Craiova – Foaier\, Str. A. I. Cuza\, nr. 11\, Craiova\, Dolj\, 200585\, România
CATEGORIES:Târguri
ATTACH;FMTTYPE=image/png:https://craiovalive.ro/wp-content/uploads/2026/03/Targul-de-Carte-Gaudeamus-Craiova-2026.png
GEO:44.3186661;23.8003743
X-APPLE-STRUCTURED-LOCATION;VALUE=URI;X-ADDRESS=Teatrul Național Craiova – Foaier Str. A. I. Cuza nr. 11 Craiova Dolj 200585 România;X-APPLE-RADIUS=500;X-TITLE=Str. A. I. Cuza\, nr. 11:geo:23.8003743,44.3186661
END:VEVENT
BEGIN:VEVENT
DTSTART;TZID=Europe/Bucharest:20260314T100000
DTEND;TZID=Europe/Bucharest:20260314T190000
DTSTAMP:20260424T014251
CREATED:20260307T204159Z
LAST-MODIFIED:20260309T160730Z
UID:10014108-1773482400-1773514800@craiovalive.ro
SUMMARY:Târgul de Carte Gaudeamus Craiova 2026
DESCRIPTION:Târgul de Carte Gaudeamus Craiova 2026: 11-15 martie 2026\, Teatrul Național Craiova \nGaudeamus Radio România deschide și în acest an calendarul 📋național al târgurilor de carte 📖\, la Craiova! \nÎn perioada 11 – 15 martie\, ediția cu numărul 24 a celui mai cunoscut târg de carte din România vă așteaptă în Foaierul Teatrului Național „Marin Sorescu” și pe www.gaudeamus.ro! \nMii de cărți📚\, zeci de povești și cei mai îndrăgiți autori vă dau întâlnire la Târgul de Carte Gaudeamus Radio România! \nProgram de vizitare: de miercuri până sâmbătă\, între orele 10.00 și 19.00 și duminică între orele 10.00 și 14.00. \nEveniment organizat de Radio România\, prin Echipa Gaudeamus și Radio România Oltenia – Craiova \n\nÎn fiecare an\, primăvara cărții începe la Gaudeamus Craiova. Pentru că\, în fiecare an\, de peste două decenii\, Radio România dă startul sezonului național al târgurilor de carte\, în Cetatea Băniei. 11 – 15 martie este intervalul în care\, în 2026\, cel mai citit târg de carte\, de la cel mai ascultat radio va lua în stăpânire foaierul generos al Teatrului Național „Marin Sorescu”.\nEvenimentul este organizat de Radio România\, prin echipa Gaudeamus și Radio România Oltenia – Craiova.\nDeschiderea oficială a ediției va avea loc miercuri\, 11 martie\, la ora 12.00\, iar președintele de onoare al acestei ediții va fi domnul Demeter Andràs Istvan\, Ministrul Culturii din România. Târgul va fi deschis zilnic\, între orele 10.00 și 19.00\, în primele patru zile\, și între orele 10.00 și 14.00\, duminică\, 15 martie. Accesul publicului va fi gratuit.\nSponsorul acestei ediții a evenimentului: Lions Club Craiova
URL:https://craiovalive.ro/eveniment/targul-de-carte-gaudeamus-craiova-2026/2026-03-14/
LOCATION:Teatrul Național Craiova – Foaier\, Str. A. I. Cuza\, nr. 11\, Craiova\, Dolj\, 200585\, România
CATEGORIES:Târguri
ATTACH;FMTTYPE=image/png:https://craiovalive.ro/wp-content/uploads/2026/03/Targul-de-Carte-Gaudeamus-Craiova-2026.png
GEO:44.3186661;23.8003743
X-APPLE-STRUCTURED-LOCATION;VALUE=URI;X-ADDRESS=Teatrul Național Craiova – Foaier Str. A. I. Cuza nr. 11 Craiova Dolj 200585 România;X-APPLE-RADIUS=500;X-TITLE=Str. A. I. Cuza\, nr. 11:geo:23.8003743,44.3186661
END:VEVENT
BEGIN:VEVENT
DTSTART;TZID=Europe/Bucharest:20260315T100000
DTEND;TZID=Europe/Bucharest:20260315T140000
DTSTAMP:20260424T014251
CREATED:20260307T204159Z
LAST-MODIFIED:20260309T160730Z
UID:10014109-1773568800-1773583200@craiovalive.ro
SUMMARY:Târgul de Carte Gaudeamus Craiova 2026
DESCRIPTION:Târgul de Carte Gaudeamus Craiova 2026: 11-15 martie 2026\, Teatrul Național Craiova \nGaudeamus Radio România deschide și în acest an calendarul 📋național al târgurilor de carte 📖\, la Craiova! \nÎn perioada 11 – 15 martie\, ediția cu numărul 24 a celui mai cunoscut târg de carte din România vă așteaptă în Foaierul Teatrului Național „Marin Sorescu” și pe www.gaudeamus.ro! \nMii de cărți📚\, zeci de povești și cei mai îndrăgiți autori vă dau întâlnire la Târgul de Carte Gaudeamus Radio România! \nProgram de vizitare: de miercuri până sâmbătă\, între orele 10.00 și 19.00 și duminică între orele 10.00 și 14.00. \nEveniment organizat de Radio România\, prin Echipa Gaudeamus și Radio România Oltenia – Craiova \n\nÎn fiecare an\, primăvara cărții începe la Gaudeamus Craiova. Pentru că\, în fiecare an\, de peste două decenii\, Radio România dă startul sezonului național al târgurilor de carte\, în Cetatea Băniei. 11 – 15 martie este intervalul în care\, în 2026\, cel mai citit târg de carte\, de la cel mai ascultat radio va lua în stăpânire foaierul generos al Teatrului Național „Marin Sorescu”.\nEvenimentul este organizat de Radio România\, prin echipa Gaudeamus și Radio România Oltenia – Craiova.\nDeschiderea oficială a ediției va avea loc miercuri\, 11 martie\, la ora 12.00\, iar președintele de onoare al acestei ediții va fi domnul Demeter Andràs Istvan\, Ministrul Culturii din România. Târgul va fi deschis zilnic\, între orele 10.00 și 19.00\, în primele patru zile\, și între orele 10.00 și 14.00\, duminică\, 15 martie. Accesul publicului va fi gratuit.\nSponsorul acestei ediții a evenimentului: Lions Club Craiova
URL:https://craiovalive.ro/eveniment/targul-de-carte-gaudeamus-craiova-2026/2026-03-15/
LOCATION:Teatrul Național Craiova – Foaier\, Str. A. I. Cuza\, nr. 11\, Craiova\, Dolj\, 200585\, România
CATEGORIES:Târguri
ATTACH;FMTTYPE=image/png:https://craiovalive.ro/wp-content/uploads/2026/03/Targul-de-Carte-Gaudeamus-Craiova-2026.png
GEO:44.3186661;23.8003743
X-APPLE-STRUCTURED-LOCATION;VALUE=URI;X-ADDRESS=Teatrul Național Craiova – Foaier Str. A. I. Cuza nr. 11 Craiova Dolj 200585 România;X-APPLE-RADIUS=500;X-TITLE=Str. A. I. Cuza\, nr. 11:geo:23.8003743,44.3186661
END:VEVENT
END:VCALENDAR