BEGIN:VCALENDAR
VERSION:2.0
PRODID:-//Craiova Live - ECPv6.15.18//NONSGML v1.0//EN
CALSCALE:GREGORIAN
METHOD:PUBLISH
X-ORIGINAL-URL:https://craiovalive.ro
X-WR-CALDESC:Evenimente pentru Craiova Live
REFRESH-INTERVAL;VALUE=DURATION:PT1H
X-Robots-Tag:noindex
X-PUBLISHED-TTL:PT1H
BEGIN:VTIMEZONE
TZID:Europe/Bucharest
BEGIN:DAYLIGHT
TZOFFSETFROM:+0200
TZOFFSETTO:+0300
TZNAME:EEST
DTSTART:20250330T010000
END:DAYLIGHT
BEGIN:STANDARD
TZOFFSETFROM:+0300
TZOFFSETTO:+0200
TZNAME:EET
DTSTART:20251026T010000
END:STANDARD
BEGIN:DAYLIGHT
TZOFFSETFROM:+0200
TZOFFSETTO:+0300
TZNAME:EEST
DTSTART:20260329T010000
END:DAYLIGHT
BEGIN:STANDARD
TZOFFSETFROM:+0300
TZOFFSETTO:+0200
TZNAME:EET
DTSTART:20261025T010000
END:STANDARD
BEGIN:DAYLIGHT
TZOFFSETFROM:+0200
TZOFFSETTO:+0300
TZNAME:EEST
DTSTART:20270328T010000
END:DAYLIGHT
BEGIN:STANDARD
TZOFFSETFROM:+0300
TZOFFSETTO:+0200
TZNAME:EET
DTSTART:20271031T010000
END:STANDARD
END:VTIMEZONE
BEGIN:VEVENT
DTSTART;TZID=Europe/Bucharest:20260302T090000
DTEND;TZID=Europe/Bucharest:20260302T220000
DTSTAMP:20260424T031255
CREATED:20260216T104414Z
LAST-MODIFIED:20260216T104414Z
UID:10013852-1772442000-1772488800@craiovalive.ro
SUMMARY:Bizarre Bazaar - Târg de Mărțișor
DESCRIPTION:Puterea Primăverii la Electro\n20 februarie- 8 martie\, Târg de Mărțișor\nUn spațiu creativ\, unde descoperi daruri realizate handmade\, cu suflet — pentru a fi oferite sau a fi purtate cu zâmbet\nEveniment organizat în parteneriat cu Asociația CAROUSEL PROJECT.\n ElectroPutere Mall · zona de evenimente\nVino să te încarci cu energia Primăverii
URL:https://craiovalive.ro/eveniment/bizarre-bazaar-targ-de-martisor/2026-03-02/
LOCATION:Electroputere Parc Mall\, Calea București\, nr. 80\, Craiova\, Dolj\, România
CATEGORIES:Târguri
ATTACH;FMTTYPE=image/jpeg:https://craiovalive.ro/wp-content/uploads/2026/02/Bizarre-Bazaar-Targ-de-Martisor.jpg
GEO:44.312934978525;23.833569266691
X-APPLE-STRUCTURED-LOCATION;VALUE=URI;X-ADDRESS=Electroputere Parc Mall Calea București nr. 80 Craiova Dolj România;X-APPLE-RADIUS=500;X-TITLE=Calea București\, nr. 80:geo:23.833569266691,44.312934978525
END:VEVENT
BEGIN:VEVENT
DTSTART;TZID=Europe/Bucharest:20260303T090000
DTEND;TZID=Europe/Bucharest:20260303T220000
DTSTAMP:20260424T031255
CREATED:20260216T104414Z
LAST-MODIFIED:20260216T104414Z
UID:10013853-1772528400-1772575200@craiovalive.ro
SUMMARY:Bizarre Bazaar - Târg de Mărțișor
DESCRIPTION:Puterea Primăverii la Electro\n20 februarie- 8 martie\, Târg de Mărțișor\nUn spațiu creativ\, unde descoperi daruri realizate handmade\, cu suflet — pentru a fi oferite sau a fi purtate cu zâmbet\nEveniment organizat în parteneriat cu Asociația CAROUSEL PROJECT.\n ElectroPutere Mall · zona de evenimente\nVino să te încarci cu energia Primăverii
URL:https://craiovalive.ro/eveniment/bizarre-bazaar-targ-de-martisor/2026-03-03/
LOCATION:Electroputere Parc Mall\, Calea București\, nr. 80\, Craiova\, Dolj\, România
CATEGORIES:Târguri
ATTACH;FMTTYPE=image/jpeg:https://craiovalive.ro/wp-content/uploads/2026/02/Bizarre-Bazaar-Targ-de-Martisor.jpg
GEO:44.312934978525;23.833569266691
X-APPLE-STRUCTURED-LOCATION;VALUE=URI;X-ADDRESS=Electroputere Parc Mall Calea București nr. 80 Craiova Dolj România;X-APPLE-RADIUS=500;X-TITLE=Calea București\, nr. 80:geo:23.833569266691,44.312934978525
END:VEVENT
BEGIN:VEVENT
DTSTART;TZID=Europe/Bucharest:20260304T090000
DTEND;TZID=Europe/Bucharest:20260304T220000
DTSTAMP:20260424T031255
CREATED:20260216T104414Z
LAST-MODIFIED:20260216T104414Z
UID:10013854-1772614800-1772661600@craiovalive.ro
SUMMARY:Bizarre Bazaar - Târg de Mărțișor
DESCRIPTION:Puterea Primăverii la Electro\n20 februarie- 8 martie\, Târg de Mărțișor\nUn spațiu creativ\, unde descoperi daruri realizate handmade\, cu suflet — pentru a fi oferite sau a fi purtate cu zâmbet\nEveniment organizat în parteneriat cu Asociația CAROUSEL PROJECT.\n ElectroPutere Mall · zona de evenimente\nVino să te încarci cu energia Primăverii
URL:https://craiovalive.ro/eveniment/bizarre-bazaar-targ-de-martisor/2026-03-04/
LOCATION:Electroputere Parc Mall\, Calea București\, nr. 80\, Craiova\, Dolj\, România
CATEGORIES:Târguri
ATTACH;FMTTYPE=image/jpeg:https://craiovalive.ro/wp-content/uploads/2026/02/Bizarre-Bazaar-Targ-de-Martisor.jpg
GEO:44.312934978525;23.833569266691
X-APPLE-STRUCTURED-LOCATION;VALUE=URI;X-ADDRESS=Electroputere Parc Mall Calea București nr. 80 Craiova Dolj România;X-APPLE-RADIUS=500;X-TITLE=Calea București\, nr. 80:geo:23.833569266691,44.312934978525
END:VEVENT
BEGIN:VEVENT
DTSTART;TZID=Europe/Bucharest:20260305T090000
DTEND;TZID=Europe/Bucharest:20260305T220000
DTSTAMP:20260424T031255
CREATED:20260216T104414Z
LAST-MODIFIED:20260216T104414Z
UID:10013855-1772701200-1772748000@craiovalive.ro
SUMMARY:Bizarre Bazaar - Târg de Mărțișor
DESCRIPTION:Puterea Primăverii la Electro\n20 februarie- 8 martie\, Târg de Mărțișor\nUn spațiu creativ\, unde descoperi daruri realizate handmade\, cu suflet — pentru a fi oferite sau a fi purtate cu zâmbet\nEveniment organizat în parteneriat cu Asociația CAROUSEL PROJECT.\n ElectroPutere Mall · zona de evenimente\nVino să te încarci cu energia Primăverii
URL:https://craiovalive.ro/eveniment/bizarre-bazaar-targ-de-martisor/2026-03-05/
LOCATION:Electroputere Parc Mall\, Calea București\, nr. 80\, Craiova\, Dolj\, România
CATEGORIES:Târguri
ATTACH;FMTTYPE=image/jpeg:https://craiovalive.ro/wp-content/uploads/2026/02/Bizarre-Bazaar-Targ-de-Martisor.jpg
GEO:44.312934978525;23.833569266691
X-APPLE-STRUCTURED-LOCATION;VALUE=URI;X-ADDRESS=Electroputere Parc Mall Calea București nr. 80 Craiova Dolj România;X-APPLE-RADIUS=500;X-TITLE=Calea București\, nr. 80:geo:23.833569266691,44.312934978525
END:VEVENT
BEGIN:VEVENT
DTSTART;TZID=Europe/Bucharest:20260306T090000
DTEND;TZID=Europe/Bucharest:20260306T220000
DTSTAMP:20260424T031255
CREATED:20260216T104414Z
LAST-MODIFIED:20260216T104414Z
UID:10013856-1772787600-1772834400@craiovalive.ro
SUMMARY:Bizarre Bazaar - Târg de Mărțișor
DESCRIPTION:Puterea Primăverii la Electro\n20 februarie- 8 martie\, Târg de Mărțișor\nUn spațiu creativ\, unde descoperi daruri realizate handmade\, cu suflet — pentru a fi oferite sau a fi purtate cu zâmbet\nEveniment organizat în parteneriat cu Asociația CAROUSEL PROJECT.\n ElectroPutere Mall · zona de evenimente\nVino să te încarci cu energia Primăverii
URL:https://craiovalive.ro/eveniment/bizarre-bazaar-targ-de-martisor/2026-03-06/
LOCATION:Electroputere Parc Mall\, Calea București\, nr. 80\, Craiova\, Dolj\, România
CATEGORIES:Târguri
ATTACH;FMTTYPE=image/jpeg:https://craiovalive.ro/wp-content/uploads/2026/02/Bizarre-Bazaar-Targ-de-Martisor.jpg
GEO:44.312934978525;23.833569266691
X-APPLE-STRUCTURED-LOCATION;VALUE=URI;X-ADDRESS=Electroputere Parc Mall Calea București nr. 80 Craiova Dolj România;X-APPLE-RADIUS=500;X-TITLE=Calea București\, nr. 80:geo:23.833569266691,44.312934978525
END:VEVENT
BEGIN:VEVENT
DTSTART;TZID=Europe/Bucharest:20260307T090000
DTEND;TZID=Europe/Bucharest:20260307T220000
DTSTAMP:20260424T031255
CREATED:20260216T104414Z
LAST-MODIFIED:20260216T104414Z
UID:10013857-1772874000-1772920800@craiovalive.ro
SUMMARY:Bizarre Bazaar - Târg de Mărțișor
DESCRIPTION:Puterea Primăverii la Electro\n20 februarie- 8 martie\, Târg de Mărțișor\nUn spațiu creativ\, unde descoperi daruri realizate handmade\, cu suflet — pentru a fi oferite sau a fi purtate cu zâmbet\nEveniment organizat în parteneriat cu Asociația CAROUSEL PROJECT.\n ElectroPutere Mall · zona de evenimente\nVino să te încarci cu energia Primăverii
URL:https://craiovalive.ro/eveniment/bizarre-bazaar-targ-de-martisor/2026-03-07/
LOCATION:Electroputere Parc Mall\, Calea București\, nr. 80\, Craiova\, Dolj\, România
CATEGORIES:Târguri
ATTACH;FMTTYPE=image/jpeg:https://craiovalive.ro/wp-content/uploads/2026/02/Bizarre-Bazaar-Targ-de-Martisor.jpg
GEO:44.312934978525;23.833569266691
X-APPLE-STRUCTURED-LOCATION;VALUE=URI;X-ADDRESS=Electroputere Parc Mall Calea București nr. 80 Craiova Dolj România;X-APPLE-RADIUS=500;X-TITLE=Calea București\, nr. 80:geo:23.833569266691,44.312934978525
END:VEVENT
BEGIN:VEVENT
DTSTART;TZID=Europe/Bucharest:20260308T090000
DTEND;TZID=Europe/Bucharest:20260308T220000
DTSTAMP:20260424T031255
CREATED:20260216T104414Z
LAST-MODIFIED:20260216T104414Z
UID:10013858-1772960400-1773007200@craiovalive.ro
SUMMARY:Bizarre Bazaar - Târg de Mărțișor
DESCRIPTION:Puterea Primăverii la Electro\n20 februarie- 8 martie\, Târg de Mărțișor\nUn spațiu creativ\, unde descoperi daruri realizate handmade\, cu suflet — pentru a fi oferite sau a fi purtate cu zâmbet\nEveniment organizat în parteneriat cu Asociația CAROUSEL PROJECT.\n ElectroPutere Mall · zona de evenimente\nVino să te încarci cu energia Primăverii
URL:https://craiovalive.ro/eveniment/bizarre-bazaar-targ-de-martisor/2026-03-08/
LOCATION:Electroputere Parc Mall\, Calea București\, nr. 80\, Craiova\, Dolj\, România
CATEGORIES:Târguri
ATTACH;FMTTYPE=image/jpeg:https://craiovalive.ro/wp-content/uploads/2026/02/Bizarre-Bazaar-Targ-de-Martisor.jpg
GEO:44.312934978525;23.833569266691
X-APPLE-STRUCTURED-LOCATION;VALUE=URI;X-ADDRESS=Electroputere Parc Mall Calea București nr. 80 Craiova Dolj România;X-APPLE-RADIUS=500;X-TITLE=Calea București\, nr. 80:geo:23.833569266691,44.312934978525
END:VEVENT
END:VCALENDAR