BEGIN:VCALENDAR
VERSION:2.0
PRODID:-//Craiova Live - ECPv6.15.18//NONSGML v1.0//EN
CALSCALE:GREGORIAN
METHOD:PUBLISH
X-WR-CALNAME:Craiova Live
X-ORIGINAL-URL:https://craiovalive.ro
X-WR-CALDESC:Evenimente pentru Craiova Live
REFRESH-INTERVAL;VALUE=DURATION:PT1H
X-Robots-Tag:noindex
X-PUBLISHED-TTL:PT1H
BEGIN:VTIMEZONE
TZID:Europe/Bucharest
BEGIN:DAYLIGHT
TZOFFSETFROM:+0200
TZOFFSETTO:+0300
TZNAME:EEST
DTSTART:20250330T010000
END:DAYLIGHT
BEGIN:STANDARD
TZOFFSETFROM:+0300
TZOFFSETTO:+0200
TZNAME:EET
DTSTART:20251026T010000
END:STANDARD
BEGIN:DAYLIGHT
TZOFFSETFROM:+0200
TZOFFSETTO:+0300
TZNAME:EEST
DTSTART:20260329T010000
END:DAYLIGHT
BEGIN:STANDARD
TZOFFSETFROM:+0300
TZOFFSETTO:+0200
TZNAME:EET
DTSTART:20261025T010000
END:STANDARD
BEGIN:DAYLIGHT
TZOFFSETFROM:+0200
TZOFFSETTO:+0300
TZNAME:EEST
DTSTART:20270328T010000
END:DAYLIGHT
BEGIN:STANDARD
TZOFFSETFROM:+0300
TZOFFSETTO:+0200
TZNAME:EET
DTSTART:20271031T010000
END:STANDARD
END:VTIMEZONE
BEGIN:VEVENT
DTSTART;TZID=Europe/Bucharest:20260223T090000
DTEND;TZID=Europe/Bucharest:20260223T220000
DTSTAMP:20260424T094844
CREATED:20260216T104414Z
LAST-MODIFIED:20260216T104414Z
UID:10013845-1771837200-1771884000@craiovalive.ro
SUMMARY:Bizarre Bazaar - Târg de Mărțișor
DESCRIPTION:Puterea Primăverii la Electro\n20 februarie- 8 martie\, Târg de Mărțișor\nUn spațiu creativ\, unde descoperi daruri realizate handmade\, cu suflet — pentru a fi oferite sau a fi purtate cu zâmbet\nEveniment organizat în parteneriat cu Asociația CAROUSEL PROJECT.\n ElectroPutere Mall · zona de evenimente\nVino să te încarci cu energia Primăverii
URL:https://craiovalive.ro/eveniment/bizarre-bazaar-targ-de-martisor/2026-02-23/
LOCATION:Electroputere Parc Mall\, Calea București\, nr. 80\, Craiova\, Dolj\, România
CATEGORIES:Târguri
ATTACH;FMTTYPE=image/jpeg:https://craiovalive.ro/wp-content/uploads/2026/02/Bizarre-Bazaar-Targ-de-Martisor.jpg
GEO:44.312934978525;23.833569266691
X-APPLE-STRUCTURED-LOCATION;VALUE=URI;X-ADDRESS=Electroputere Parc Mall Calea București nr. 80 Craiova Dolj România;X-APPLE-RADIUS=500;X-TITLE=Calea București\, nr. 80:geo:23.833569266691,44.312934978525
END:VEVENT
BEGIN:VEVENT
DTSTART;TZID=Europe/Bucharest:20260224T090000
DTEND;TZID=Europe/Bucharest:20260224T220000
DTSTAMP:20260424T094844
CREATED:20260216T104414Z
LAST-MODIFIED:20260216T104414Z
UID:10013846-1771923600-1771970400@craiovalive.ro
SUMMARY:Bizarre Bazaar - Târg de Mărțișor
DESCRIPTION:Puterea Primăverii la Electro\n20 februarie- 8 martie\, Târg de Mărțișor\nUn spațiu creativ\, unde descoperi daruri realizate handmade\, cu suflet — pentru a fi oferite sau a fi purtate cu zâmbet\nEveniment organizat în parteneriat cu Asociația CAROUSEL PROJECT.\n ElectroPutere Mall · zona de evenimente\nVino să te încarci cu energia Primăverii
URL:https://craiovalive.ro/eveniment/bizarre-bazaar-targ-de-martisor/2026-02-24/
LOCATION:Electroputere Parc Mall\, Calea București\, nr. 80\, Craiova\, Dolj\, România
CATEGORIES:Târguri
ATTACH;FMTTYPE=image/jpeg:https://craiovalive.ro/wp-content/uploads/2026/02/Bizarre-Bazaar-Targ-de-Martisor.jpg
GEO:44.312934978525;23.833569266691
X-APPLE-STRUCTURED-LOCATION;VALUE=URI;X-ADDRESS=Electroputere Parc Mall Calea București nr. 80 Craiova Dolj România;X-APPLE-RADIUS=500;X-TITLE=Calea București\, nr. 80:geo:23.833569266691,44.312934978525
END:VEVENT
BEGIN:VEVENT
DTSTART;TZID=Europe/Bucharest:20260225T090000
DTEND;TZID=Europe/Bucharest:20260225T220000
DTSTAMP:20260424T094844
CREATED:20260216T104414Z
LAST-MODIFIED:20260216T104414Z
UID:10013847-1772010000-1772056800@craiovalive.ro
SUMMARY:Bizarre Bazaar - Târg de Mărțișor
DESCRIPTION:Puterea Primăverii la Electro\n20 februarie- 8 martie\, Târg de Mărțișor\nUn spațiu creativ\, unde descoperi daruri realizate handmade\, cu suflet — pentru a fi oferite sau a fi purtate cu zâmbet\nEveniment organizat în parteneriat cu Asociația CAROUSEL PROJECT.\n ElectroPutere Mall · zona de evenimente\nVino să te încarci cu energia Primăverii
URL:https://craiovalive.ro/eveniment/bizarre-bazaar-targ-de-martisor/2026-02-25/
LOCATION:Electroputere Parc Mall\, Calea București\, nr. 80\, Craiova\, Dolj\, România
CATEGORIES:Târguri
ATTACH;FMTTYPE=image/jpeg:https://craiovalive.ro/wp-content/uploads/2026/02/Bizarre-Bazaar-Targ-de-Martisor.jpg
GEO:44.312934978525;23.833569266691
X-APPLE-STRUCTURED-LOCATION;VALUE=URI;X-ADDRESS=Electroputere Parc Mall Calea București nr. 80 Craiova Dolj România;X-APPLE-RADIUS=500;X-TITLE=Calea București\, nr. 80:geo:23.833569266691,44.312934978525
END:VEVENT
BEGIN:VEVENT
DTSTART;TZID=Europe/Bucharest:20260226T090000
DTEND;TZID=Europe/Bucharest:20260226T220000
DTSTAMP:20260424T094844
CREATED:20260216T104414Z
LAST-MODIFIED:20260216T104414Z
UID:10013848-1772096400-1772143200@craiovalive.ro
SUMMARY:Bizarre Bazaar - Târg de Mărțișor
DESCRIPTION:Puterea Primăverii la Electro\n20 februarie- 8 martie\, Târg de Mărțișor\nUn spațiu creativ\, unde descoperi daruri realizate handmade\, cu suflet — pentru a fi oferite sau a fi purtate cu zâmbet\nEveniment organizat în parteneriat cu Asociația CAROUSEL PROJECT.\n ElectroPutere Mall · zona de evenimente\nVino să te încarci cu energia Primăverii
URL:https://craiovalive.ro/eveniment/bizarre-bazaar-targ-de-martisor/2026-02-26/
LOCATION:Electroputere Parc Mall\, Calea București\, nr. 80\, Craiova\, Dolj\, România
CATEGORIES:Târguri
ATTACH;FMTTYPE=image/jpeg:https://craiovalive.ro/wp-content/uploads/2026/02/Bizarre-Bazaar-Targ-de-Martisor.jpg
GEO:44.312934978525;23.833569266691
X-APPLE-STRUCTURED-LOCATION;VALUE=URI;X-ADDRESS=Electroputere Parc Mall Calea București nr. 80 Craiova Dolj România;X-APPLE-RADIUS=500;X-TITLE=Calea București\, nr. 80:geo:23.833569266691,44.312934978525
END:VEVENT
BEGIN:VEVENT
DTSTART;TZID=Europe/Bucharest:20260227T090000
DTEND;TZID=Europe/Bucharest:20260227T220000
DTSTAMP:20260424T094844
CREATED:20260216T104414Z
LAST-MODIFIED:20260216T104414Z
UID:10013849-1772182800-1772229600@craiovalive.ro
SUMMARY:Bizarre Bazaar - Târg de Mărțișor
DESCRIPTION:Puterea Primăverii la Electro\n20 februarie- 8 martie\, Târg de Mărțișor\nUn spațiu creativ\, unde descoperi daruri realizate handmade\, cu suflet — pentru a fi oferite sau a fi purtate cu zâmbet\nEveniment organizat în parteneriat cu Asociația CAROUSEL PROJECT.\n ElectroPutere Mall · zona de evenimente\nVino să te încarci cu energia Primăverii
URL:https://craiovalive.ro/eveniment/bizarre-bazaar-targ-de-martisor/2026-02-27/
LOCATION:Electroputere Parc Mall\, Calea București\, nr. 80\, Craiova\, Dolj\, România
CATEGORIES:Târguri
ATTACH;FMTTYPE=image/jpeg:https://craiovalive.ro/wp-content/uploads/2026/02/Bizarre-Bazaar-Targ-de-Martisor.jpg
GEO:44.312934978525;23.833569266691
X-APPLE-STRUCTURED-LOCATION;VALUE=URI;X-ADDRESS=Electroputere Parc Mall Calea București nr. 80 Craiova Dolj România;X-APPLE-RADIUS=500;X-TITLE=Calea București\, nr. 80:geo:23.833569266691,44.312934978525
END:VEVENT
BEGIN:VEVENT
DTSTART;TZID=Europe/Bucharest:20260228T090000
DTEND;TZID=Europe/Bucharest:20260228T220000
DTSTAMP:20260424T094844
CREATED:20260216T104414Z
LAST-MODIFIED:20260216T104414Z
UID:10013850-1772269200-1772316000@craiovalive.ro
SUMMARY:Bizarre Bazaar - Târg de Mărțișor
DESCRIPTION:Puterea Primăverii la Electro\n20 februarie- 8 martie\, Târg de Mărțișor\nUn spațiu creativ\, unde descoperi daruri realizate handmade\, cu suflet — pentru a fi oferite sau a fi purtate cu zâmbet\nEveniment organizat în parteneriat cu Asociația CAROUSEL PROJECT.\n ElectroPutere Mall · zona de evenimente\nVino să te încarci cu energia Primăverii
URL:https://craiovalive.ro/eveniment/bizarre-bazaar-targ-de-martisor/2026-02-28/
LOCATION:Electroputere Parc Mall\, Calea București\, nr. 80\, Craiova\, Dolj\, România
CATEGORIES:Târguri
ATTACH;FMTTYPE=image/jpeg:https://craiovalive.ro/wp-content/uploads/2026/02/Bizarre-Bazaar-Targ-de-Martisor.jpg
GEO:44.312934978525;23.833569266691
X-APPLE-STRUCTURED-LOCATION;VALUE=URI;X-ADDRESS=Electroputere Parc Mall Calea București nr. 80 Craiova Dolj România;X-APPLE-RADIUS=500;X-TITLE=Calea București\, nr. 80:geo:23.833569266691,44.312934978525
END:VEVENT
BEGIN:VEVENT
DTSTART;TZID=Europe/Bucharest:20260301T090000
DTEND;TZID=Europe/Bucharest:20260301T220000
DTSTAMP:20260424T094844
CREATED:20260216T104414Z
LAST-MODIFIED:20260216T104414Z
UID:10013851-1772355600-1772402400@craiovalive.ro
SUMMARY:Bizarre Bazaar - Târg de Mărțișor
DESCRIPTION:Puterea Primăverii la Electro\n20 februarie- 8 martie\, Târg de Mărțișor\nUn spațiu creativ\, unde descoperi daruri realizate handmade\, cu suflet — pentru a fi oferite sau a fi purtate cu zâmbet\nEveniment organizat în parteneriat cu Asociația CAROUSEL PROJECT.\n ElectroPutere Mall · zona de evenimente\nVino să te încarci cu energia Primăverii
URL:https://craiovalive.ro/eveniment/bizarre-bazaar-targ-de-martisor/2026-03-01/
LOCATION:Electroputere Parc Mall\, Calea București\, nr. 80\, Craiova\, Dolj\, România
CATEGORIES:Târguri
ATTACH;FMTTYPE=image/jpeg:https://craiovalive.ro/wp-content/uploads/2026/02/Bizarre-Bazaar-Targ-de-Martisor.jpg
GEO:44.312934978525;23.833569266691
X-APPLE-STRUCTURED-LOCATION;VALUE=URI;X-ADDRESS=Electroputere Parc Mall Calea București nr. 80 Craiova Dolj România;X-APPLE-RADIUS=500;X-TITLE=Calea București\, nr. 80:geo:23.833569266691,44.312934978525
END:VEVENT
END:VCALENDAR