BEGIN:VCALENDAR
VERSION:2.0
PRODID:-//Craiova Live - ECPv6.15.18//NONSGML v1.0//EN
CALSCALE:GREGORIAN
METHOD:PUBLISH
X-WR-CALNAME:Craiova Live
X-ORIGINAL-URL:https://craiovalive.ro
X-WR-CALDESC:Evenimente pentru Craiova Live
REFRESH-INTERVAL;VALUE=DURATION:PT1H
X-Robots-Tag:noindex
X-PUBLISHED-TTL:PT1H
BEGIN:VTIMEZONE
TZID:Europe/Bucharest
BEGIN:DAYLIGHT
TZOFFSETFROM:+0200
TZOFFSETTO:+0300
TZNAME:EEST
DTSTART:20240331T010000
END:DAYLIGHT
BEGIN:STANDARD
TZOFFSETFROM:+0300
TZOFFSETTO:+0200
TZNAME:EET
DTSTART:20241027T010000
END:STANDARD
BEGIN:DAYLIGHT
TZOFFSETFROM:+0200
TZOFFSETTO:+0300
TZNAME:EEST
DTSTART:20250330T010000
END:DAYLIGHT
BEGIN:STANDARD
TZOFFSETFROM:+0300
TZOFFSETTO:+0200
TZNAME:EET
DTSTART:20251026T010000
END:STANDARD
BEGIN:DAYLIGHT
TZOFFSETFROM:+0200
TZOFFSETTO:+0300
TZNAME:EEST
DTSTART:20260329T010000
END:DAYLIGHT
BEGIN:STANDARD
TZOFFSETFROM:+0300
TZOFFSETTO:+0200
TZNAME:EET
DTSTART:20261025T010000
END:STANDARD
BEGIN:DAYLIGHT
TZOFFSETFROM:+0200
TZOFFSETTO:+0300
TZNAME:EEST
DTSTART:20270328T010000
END:DAYLIGHT
BEGIN:STANDARD
TZOFFSETFROM:+0300
TZOFFSETTO:+0200
TZNAME:EET
DTSTART:20271031T010000
END:STANDARD
END:VTIMEZONE
BEGIN:VEVENT
DTSTART;TZID=Europe/Bucharest:20251229T100000
DTEND;TZID=Europe/Bucharest:20251229T230000
DTSTAMP:20260424T122352
CREATED:20250802T111419Z
LAST-MODIFIED:20251228T201917Z
UID:10007853-1767002400-1767049200@craiovalive.ro
SUMMARY:Târgul de Crăciun Craiova 2025
DESCRIPTION:Târgul de Crăciun Craiova  Magia sărbătorilor de iarnă revine în Craiova în perioada 14 noiembrie 2025 – 11 ianuarie 2026. Tema ediției din acest an este „Spărgătorul de Nuci”\, povestea clasică a Crăciunului care va prinde viață în inima orașului. Craiova va fi luminată cu peste două milioane de beculețe\, iar noile căsuțe de turtă dulce cu acoperișuri din zăpadă vor aduce farmecul unei lumi desprinse din basme. \nLocuri de desfășurare Târgul de Crăciun Craiova 2025:\nAnul acesta\, povestea Târgului de Crăciun se întinde în șase piețe tematice\, fiecare cu propriul univers: \n\n– Piața Mihai Viteazul – „Candy Land” – un regat al dulciurilor\, unde fiecare colț strălucește în culori de poveste\,.\n– Zona Doljana – „Carousel Christmas” – căsuțe inedite\, decorate în spirit de sărbătoare\, pentru cei mari și mici.\n– Piața Frații Buzești – „Crăciun Tradițional” – locul unde tradițiile prind viață\, între colinde\, meșteșuguri și bucate românești.\n– Piața William Shakespeare – „Țara lui Moș Crăciun” – un univers magic pentru copii și tineret\, unde pot găsi carousele\, trenulețe\, filme VR și roata panoramică care îi poartă pe copii spre cerul luminat al Craiovei.\n– Strada Theodor Aman – „Best Christmas Street Food” – un festin culinar modern\, unde aromele tradiționale se împletesc cu gusturi internaționale.\n–  English Park – „Țara Jucăriilor” – paradisul copiilor\, cu figurine uriașe\, jocuri și personaje de basm.\n\n\n\n✓ Tema principală: „Spărgătorul de nuci”\n\n\n✓ 6 zone personalizate diferit\n✓ Peste 2 milioane de beculețe și decorațiuni luminoase\n✓ Căsuțe unicat tip căsuță de turtă dulce\, dar și altele cu design diferit\n✓ Brad spectaculos în Piața Mihai Viteazul\, cu un design inedit\, sub formă de magazin de jucării\n✓ Bradul-scenă în Piața Frații Buzești\n✓ Mii de decorațiuni tip jucării și dulciuri gigant\n\n\nProgram Târgul de Crăciun Craiova 2025!\n\n\n\n\n\n\n\n\n Roata panoramică\, patinoarul\, căsuțele cu bunătăți\, decorațiunile spectaculoase și cele peste 2 milioane de luminițe vă așteaptă în continuare până pe 11 ianuarie 2026 să vă bucurați de magia sărbătorilor. (ATENȚIE! Show-ul Sania lui Moș Crăciun nu se mai organizează!)\n\n\n Program de vizitare:\n Luni – Joi: 13:00 – 22:00\n Vineri – Duminică: 10:00 – 23:00\n\n\n\nNOTĂ: Condiţiile meteorologice nefavorabile pot anula o parte dintre manifestările programate în aer liber!
URL:https://craiovalive.ro/eveniment/targul-de-craciun-craiova-2025/2025-12-29/
LOCATION:Locații multiple\, Craiova\, Dolj\, România
CATEGORIES:Târguri
ATTACH;FMTTYPE=image/jpeg:https://craiovalive.ro/wp-content/uploads/2025/08/Targul-de-Craciun-Craiova-nov-2025-ian-2026.jpg
ORGANIZER;CN="Prim%C4%83ria Municipiului Craiova":MAILTO:imaginecv@primariacraiova.ro
GEO:44.3301785;23.7948808
END:VEVENT
BEGIN:VEVENT
DTSTART;TZID=Europe/Bucharest:20251230T100000
DTEND;TZID=Europe/Bucharest:20251230T230000
DTSTAMP:20260424T122352
CREATED:20250802T111419Z
LAST-MODIFIED:20251228T201917Z
UID:10007854-1767088800-1767135600@craiovalive.ro
SUMMARY:Târgul de Crăciun Craiova 2025
DESCRIPTION:Târgul de Crăciun Craiova  Magia sărbătorilor de iarnă revine în Craiova în perioada 14 noiembrie 2025 – 11 ianuarie 2026. Tema ediției din acest an este „Spărgătorul de Nuci”\, povestea clasică a Crăciunului care va prinde viață în inima orașului. Craiova va fi luminată cu peste două milioane de beculețe\, iar noile căsuțe de turtă dulce cu acoperișuri din zăpadă vor aduce farmecul unei lumi desprinse din basme. \nLocuri de desfășurare Târgul de Crăciun Craiova 2025:\nAnul acesta\, povestea Târgului de Crăciun se întinde în șase piețe tematice\, fiecare cu propriul univers: \n\n– Piața Mihai Viteazul – „Candy Land” – un regat al dulciurilor\, unde fiecare colț strălucește în culori de poveste\,.\n– Zona Doljana – „Carousel Christmas” – căsuțe inedite\, decorate în spirit de sărbătoare\, pentru cei mari și mici.\n– Piața Frații Buzești – „Crăciun Tradițional” – locul unde tradițiile prind viață\, între colinde\, meșteșuguri și bucate românești.\n– Piața William Shakespeare – „Țara lui Moș Crăciun” – un univers magic pentru copii și tineret\, unde pot găsi carousele\, trenulețe\, filme VR și roata panoramică care îi poartă pe copii spre cerul luminat al Craiovei.\n– Strada Theodor Aman – „Best Christmas Street Food” – un festin culinar modern\, unde aromele tradiționale se împletesc cu gusturi internaționale.\n–  English Park – „Țara Jucăriilor” – paradisul copiilor\, cu figurine uriașe\, jocuri și personaje de basm.\n\n\n\n✓ Tema principală: „Spărgătorul de nuci”\n\n\n✓ 6 zone personalizate diferit\n✓ Peste 2 milioane de beculețe și decorațiuni luminoase\n✓ Căsuțe unicat tip căsuță de turtă dulce\, dar și altele cu design diferit\n✓ Brad spectaculos în Piața Mihai Viteazul\, cu un design inedit\, sub formă de magazin de jucării\n✓ Bradul-scenă în Piața Frații Buzești\n✓ Mii de decorațiuni tip jucării și dulciuri gigant\n\n\nProgram Târgul de Crăciun Craiova 2025!\n\n\n\n\n\n\n\n\n Roata panoramică\, patinoarul\, căsuțele cu bunătăți\, decorațiunile spectaculoase și cele peste 2 milioane de luminițe vă așteaptă în continuare până pe 11 ianuarie 2026 să vă bucurați de magia sărbătorilor. (ATENȚIE! Show-ul Sania lui Moș Crăciun nu se mai organizează!)\n\n\n Program de vizitare:\n Luni – Joi: 13:00 – 22:00\n Vineri – Duminică: 10:00 – 23:00\n\n\n\nNOTĂ: Condiţiile meteorologice nefavorabile pot anula o parte dintre manifestările programate în aer liber!
URL:https://craiovalive.ro/eveniment/targul-de-craciun-craiova-2025/2025-12-30/
LOCATION:Locații multiple\, Craiova\, Dolj\, România
CATEGORIES:Târguri
ATTACH;FMTTYPE=image/jpeg:https://craiovalive.ro/wp-content/uploads/2025/08/Targul-de-Craciun-Craiova-nov-2025-ian-2026.jpg
ORGANIZER;CN="Prim%C4%83ria Municipiului Craiova":MAILTO:imaginecv@primariacraiova.ro
GEO:44.3301785;23.7948808
END:VEVENT
BEGIN:VEVENT
DTSTART;TZID=Europe/Bucharest:20251231T100000
DTEND;TZID=Europe/Bucharest:20251231T230000
DTSTAMP:20260424T122352
CREATED:20250802T111419Z
LAST-MODIFIED:20251228T201917Z
UID:10007855-1767175200-1767222000@craiovalive.ro
SUMMARY:Târgul de Crăciun Craiova 2025
DESCRIPTION:Târgul de Crăciun Craiova  Magia sărbătorilor de iarnă revine în Craiova în perioada 14 noiembrie 2025 – 11 ianuarie 2026. Tema ediției din acest an este „Spărgătorul de Nuci”\, povestea clasică a Crăciunului care va prinde viață în inima orașului. Craiova va fi luminată cu peste două milioane de beculețe\, iar noile căsuțe de turtă dulce cu acoperișuri din zăpadă vor aduce farmecul unei lumi desprinse din basme. \nLocuri de desfășurare Târgul de Crăciun Craiova 2025:\nAnul acesta\, povestea Târgului de Crăciun se întinde în șase piețe tematice\, fiecare cu propriul univers: \n\n– Piața Mihai Viteazul – „Candy Land” – un regat al dulciurilor\, unde fiecare colț strălucește în culori de poveste\,.\n– Zona Doljana – „Carousel Christmas” – căsuțe inedite\, decorate în spirit de sărbătoare\, pentru cei mari și mici.\n– Piața Frații Buzești – „Crăciun Tradițional” – locul unde tradițiile prind viață\, între colinde\, meșteșuguri și bucate românești.\n– Piața William Shakespeare – „Țara lui Moș Crăciun” – un univers magic pentru copii și tineret\, unde pot găsi carousele\, trenulețe\, filme VR și roata panoramică care îi poartă pe copii spre cerul luminat al Craiovei.\n– Strada Theodor Aman – „Best Christmas Street Food” – un festin culinar modern\, unde aromele tradiționale se împletesc cu gusturi internaționale.\n–  English Park – „Țara Jucăriilor” – paradisul copiilor\, cu figurine uriașe\, jocuri și personaje de basm.\n\n\n\n✓ Tema principală: „Spărgătorul de nuci”\n\n\n✓ 6 zone personalizate diferit\n✓ Peste 2 milioane de beculețe și decorațiuni luminoase\n✓ Căsuțe unicat tip căsuță de turtă dulce\, dar și altele cu design diferit\n✓ Brad spectaculos în Piața Mihai Viteazul\, cu un design inedit\, sub formă de magazin de jucării\n✓ Bradul-scenă în Piața Frații Buzești\n✓ Mii de decorațiuni tip jucării și dulciuri gigant\n\n\nProgram Târgul de Crăciun Craiova 2025!\n\n\n\n\n\n\n\n\n Roata panoramică\, patinoarul\, căsuțele cu bunătăți\, decorațiunile spectaculoase și cele peste 2 milioane de luminițe vă așteaptă în continuare până pe 11 ianuarie 2026 să vă bucurați de magia sărbătorilor. (ATENȚIE! Show-ul Sania lui Moș Crăciun nu se mai organizează!)\n\n\n Program de vizitare:\n Luni – Joi: 13:00 – 22:00\n Vineri – Duminică: 10:00 – 23:00\n\n\n\nNOTĂ: Condiţiile meteorologice nefavorabile pot anula o parte dintre manifestările programate în aer liber!
URL:https://craiovalive.ro/eveniment/targul-de-craciun-craiova-2025/2025-12-31/
LOCATION:Locații multiple\, Craiova\, Dolj\, România
CATEGORIES:Târguri
ATTACH;FMTTYPE=image/jpeg:https://craiovalive.ro/wp-content/uploads/2025/08/Targul-de-Craciun-Craiova-nov-2025-ian-2026.jpg
ORGANIZER;CN="Prim%C4%83ria Municipiului Craiova":MAILTO:imaginecv@primariacraiova.ro
GEO:44.3301785;23.7948808
END:VEVENT
BEGIN:VEVENT
DTSTART;TZID=Europe/Bucharest:20260101T100000
DTEND;TZID=Europe/Bucharest:20260101T230000
DTSTAMP:20260424T122352
CREATED:20250802T111419Z
LAST-MODIFIED:20251228T201917Z
UID:10007856-1767261600-1767308400@craiovalive.ro
SUMMARY:Târgul de Crăciun Craiova 2025
DESCRIPTION:Târgul de Crăciun Craiova  Magia sărbătorilor de iarnă revine în Craiova în perioada 14 noiembrie 2025 – 11 ianuarie 2026. Tema ediției din acest an este „Spărgătorul de Nuci”\, povestea clasică a Crăciunului care va prinde viață în inima orașului. Craiova va fi luminată cu peste două milioane de beculețe\, iar noile căsuțe de turtă dulce cu acoperișuri din zăpadă vor aduce farmecul unei lumi desprinse din basme. \nLocuri de desfășurare Târgul de Crăciun Craiova 2025:\nAnul acesta\, povestea Târgului de Crăciun se întinde în șase piețe tematice\, fiecare cu propriul univers: \n\n– Piața Mihai Viteazul – „Candy Land” – un regat al dulciurilor\, unde fiecare colț strălucește în culori de poveste\,.\n– Zona Doljana – „Carousel Christmas” – căsuțe inedite\, decorate în spirit de sărbătoare\, pentru cei mari și mici.\n– Piața Frații Buzești – „Crăciun Tradițional” – locul unde tradițiile prind viață\, între colinde\, meșteșuguri și bucate românești.\n– Piața William Shakespeare – „Țara lui Moș Crăciun” – un univers magic pentru copii și tineret\, unde pot găsi carousele\, trenulețe\, filme VR și roata panoramică care îi poartă pe copii spre cerul luminat al Craiovei.\n– Strada Theodor Aman – „Best Christmas Street Food” – un festin culinar modern\, unde aromele tradiționale se împletesc cu gusturi internaționale.\n–  English Park – „Țara Jucăriilor” – paradisul copiilor\, cu figurine uriașe\, jocuri și personaje de basm.\n\n\n\n✓ Tema principală: „Spărgătorul de nuci”\n\n\n✓ 6 zone personalizate diferit\n✓ Peste 2 milioane de beculețe și decorațiuni luminoase\n✓ Căsuțe unicat tip căsuță de turtă dulce\, dar și altele cu design diferit\n✓ Brad spectaculos în Piața Mihai Viteazul\, cu un design inedit\, sub formă de magazin de jucării\n✓ Bradul-scenă în Piața Frații Buzești\n✓ Mii de decorațiuni tip jucării și dulciuri gigant\n\n\nProgram Târgul de Crăciun Craiova 2025!\n\n\n\n\n\n\n\n\n Roata panoramică\, patinoarul\, căsuțele cu bunătăți\, decorațiunile spectaculoase și cele peste 2 milioane de luminițe vă așteaptă în continuare până pe 11 ianuarie 2026 să vă bucurați de magia sărbătorilor. (ATENȚIE! Show-ul Sania lui Moș Crăciun nu se mai organizează!)\n\n\n Program de vizitare:\n Luni – Joi: 13:00 – 22:00\n Vineri – Duminică: 10:00 – 23:00\n\n\n\nNOTĂ: Condiţiile meteorologice nefavorabile pot anula o parte dintre manifestările programate în aer liber!
URL:https://craiovalive.ro/eveniment/targul-de-craciun-craiova-2025/2026-01-01/
LOCATION:Locații multiple\, Craiova\, Dolj\, România
CATEGORIES:Târguri
ATTACH;FMTTYPE=image/jpeg:https://craiovalive.ro/wp-content/uploads/2025/08/Targul-de-Craciun-Craiova-nov-2025-ian-2026.jpg
ORGANIZER;CN="Prim%C4%83ria Municipiului Craiova":MAILTO:imaginecv@primariacraiova.ro
GEO:44.3301785;23.7948808
END:VEVENT
BEGIN:VEVENT
DTSTART;TZID=Europe/Bucharest:20260102T100000
DTEND;TZID=Europe/Bucharest:20260102T230000
DTSTAMP:20260424T122352
CREATED:20250802T111419Z
LAST-MODIFIED:20251228T201917Z
UID:10007857-1767348000-1767394800@craiovalive.ro
SUMMARY:Târgul de Crăciun Craiova 2025
DESCRIPTION:Târgul de Crăciun Craiova  Magia sărbătorilor de iarnă revine în Craiova în perioada 14 noiembrie 2025 – 11 ianuarie 2026. Tema ediției din acest an este „Spărgătorul de Nuci”\, povestea clasică a Crăciunului care va prinde viață în inima orașului. Craiova va fi luminată cu peste două milioane de beculețe\, iar noile căsuțe de turtă dulce cu acoperișuri din zăpadă vor aduce farmecul unei lumi desprinse din basme. \nLocuri de desfășurare Târgul de Crăciun Craiova 2025:\nAnul acesta\, povestea Târgului de Crăciun se întinde în șase piețe tematice\, fiecare cu propriul univers: \n\n– Piața Mihai Viteazul – „Candy Land” – un regat al dulciurilor\, unde fiecare colț strălucește în culori de poveste\,.\n– Zona Doljana – „Carousel Christmas” – căsuțe inedite\, decorate în spirit de sărbătoare\, pentru cei mari și mici.\n– Piața Frații Buzești – „Crăciun Tradițional” – locul unde tradițiile prind viață\, între colinde\, meșteșuguri și bucate românești.\n– Piața William Shakespeare – „Țara lui Moș Crăciun” – un univers magic pentru copii și tineret\, unde pot găsi carousele\, trenulețe\, filme VR și roata panoramică care îi poartă pe copii spre cerul luminat al Craiovei.\n– Strada Theodor Aman – „Best Christmas Street Food” – un festin culinar modern\, unde aromele tradiționale se împletesc cu gusturi internaționale.\n–  English Park – „Țara Jucăriilor” – paradisul copiilor\, cu figurine uriașe\, jocuri și personaje de basm.\n\n\n\n✓ Tema principală: „Spărgătorul de nuci”\n\n\n✓ 6 zone personalizate diferit\n✓ Peste 2 milioane de beculețe și decorațiuni luminoase\n✓ Căsuțe unicat tip căsuță de turtă dulce\, dar și altele cu design diferit\n✓ Brad spectaculos în Piața Mihai Viteazul\, cu un design inedit\, sub formă de magazin de jucării\n✓ Bradul-scenă în Piața Frații Buzești\n✓ Mii de decorațiuni tip jucării și dulciuri gigant\n\n\nProgram Târgul de Crăciun Craiova 2025!\n\n\n\n\n\n\n\n\n Roata panoramică\, patinoarul\, căsuțele cu bunătăți\, decorațiunile spectaculoase și cele peste 2 milioane de luminițe vă așteaptă în continuare până pe 11 ianuarie 2026 să vă bucurați de magia sărbătorilor. (ATENȚIE! Show-ul Sania lui Moș Crăciun nu se mai organizează!)\n\n\n Program de vizitare:\n Luni – Joi: 13:00 – 22:00\n Vineri – Duminică: 10:00 – 23:00\n\n\n\nNOTĂ: Condiţiile meteorologice nefavorabile pot anula o parte dintre manifestările programate în aer liber!
URL:https://craiovalive.ro/eveniment/targul-de-craciun-craiova-2025/2026-01-02/
LOCATION:Locații multiple\, Craiova\, Dolj\, România
CATEGORIES:Târguri
ATTACH;FMTTYPE=image/jpeg:https://craiovalive.ro/wp-content/uploads/2025/08/Targul-de-Craciun-Craiova-nov-2025-ian-2026.jpg
ORGANIZER;CN="Prim%C4%83ria Municipiului Craiova":MAILTO:imaginecv@primariacraiova.ro
GEO:44.3301785;23.7948808
END:VEVENT
BEGIN:VEVENT
DTSTART;TZID=Europe/Bucharest:20260103T100000
DTEND;TZID=Europe/Bucharest:20260103T230000
DTSTAMP:20260424T122352
CREATED:20250802T111419Z
LAST-MODIFIED:20251228T201917Z
UID:10007858-1767434400-1767481200@craiovalive.ro
SUMMARY:Târgul de Crăciun Craiova 2025
DESCRIPTION:Târgul de Crăciun Craiova  Magia sărbătorilor de iarnă revine în Craiova în perioada 14 noiembrie 2025 – 11 ianuarie 2026. Tema ediției din acest an este „Spărgătorul de Nuci”\, povestea clasică a Crăciunului care va prinde viață în inima orașului. Craiova va fi luminată cu peste două milioane de beculețe\, iar noile căsuțe de turtă dulce cu acoperișuri din zăpadă vor aduce farmecul unei lumi desprinse din basme. \nLocuri de desfășurare Târgul de Crăciun Craiova 2025:\nAnul acesta\, povestea Târgului de Crăciun se întinde în șase piețe tematice\, fiecare cu propriul univers: \n\n– Piața Mihai Viteazul – „Candy Land” – un regat al dulciurilor\, unde fiecare colț strălucește în culori de poveste\,.\n– Zona Doljana – „Carousel Christmas” – căsuțe inedite\, decorate în spirit de sărbătoare\, pentru cei mari și mici.\n– Piața Frații Buzești – „Crăciun Tradițional” – locul unde tradițiile prind viață\, între colinde\, meșteșuguri și bucate românești.\n– Piața William Shakespeare – „Țara lui Moș Crăciun” – un univers magic pentru copii și tineret\, unde pot găsi carousele\, trenulețe\, filme VR și roata panoramică care îi poartă pe copii spre cerul luminat al Craiovei.\n– Strada Theodor Aman – „Best Christmas Street Food” – un festin culinar modern\, unde aromele tradiționale se împletesc cu gusturi internaționale.\n–  English Park – „Țara Jucăriilor” – paradisul copiilor\, cu figurine uriașe\, jocuri și personaje de basm.\n\n\n\n✓ Tema principală: „Spărgătorul de nuci”\n\n\n✓ 6 zone personalizate diferit\n✓ Peste 2 milioane de beculețe și decorațiuni luminoase\n✓ Căsuțe unicat tip căsuță de turtă dulce\, dar și altele cu design diferit\n✓ Brad spectaculos în Piața Mihai Viteazul\, cu un design inedit\, sub formă de magazin de jucării\n✓ Bradul-scenă în Piața Frații Buzești\n✓ Mii de decorațiuni tip jucării și dulciuri gigant\n\n\nProgram Târgul de Crăciun Craiova 2025!\n\n\n\n\n\n\n\n\n Roata panoramică\, patinoarul\, căsuțele cu bunătăți\, decorațiunile spectaculoase și cele peste 2 milioane de luminițe vă așteaptă în continuare până pe 11 ianuarie 2026 să vă bucurați de magia sărbătorilor. (ATENȚIE! Show-ul Sania lui Moș Crăciun nu se mai organizează!)\n\n\n Program de vizitare:\n Luni – Joi: 13:00 – 22:00\n Vineri – Duminică: 10:00 – 23:00\n\n\n\nNOTĂ: Condiţiile meteorologice nefavorabile pot anula o parte dintre manifestările programate în aer liber!
URL:https://craiovalive.ro/eveniment/targul-de-craciun-craiova-2025/2026-01-03/
LOCATION:Locații multiple\, Craiova\, Dolj\, România
CATEGORIES:Târguri
ATTACH;FMTTYPE=image/jpeg:https://craiovalive.ro/wp-content/uploads/2025/08/Targul-de-Craciun-Craiova-nov-2025-ian-2026.jpg
ORGANIZER;CN="Prim%C4%83ria Municipiului Craiova":MAILTO:imaginecv@primariacraiova.ro
GEO:44.3301785;23.7948808
END:VEVENT
BEGIN:VEVENT
DTSTART;TZID=Europe/Bucharest:20260104T100000
DTEND;TZID=Europe/Bucharest:20260104T230000
DTSTAMP:20260424T122352
CREATED:20250802T111419Z
LAST-MODIFIED:20251228T201917Z
UID:10007859-1767520800-1767567600@craiovalive.ro
SUMMARY:Târgul de Crăciun Craiova 2025
DESCRIPTION:Târgul de Crăciun Craiova  Magia sărbătorilor de iarnă revine în Craiova în perioada 14 noiembrie 2025 – 11 ianuarie 2026. Tema ediției din acest an este „Spărgătorul de Nuci”\, povestea clasică a Crăciunului care va prinde viață în inima orașului. Craiova va fi luminată cu peste două milioane de beculețe\, iar noile căsuțe de turtă dulce cu acoperișuri din zăpadă vor aduce farmecul unei lumi desprinse din basme. \nLocuri de desfășurare Târgul de Crăciun Craiova 2025:\nAnul acesta\, povestea Târgului de Crăciun se întinde în șase piețe tematice\, fiecare cu propriul univers: \n\n– Piața Mihai Viteazul – „Candy Land” – un regat al dulciurilor\, unde fiecare colț strălucește în culori de poveste\,.\n– Zona Doljana – „Carousel Christmas” – căsuțe inedite\, decorate în spirit de sărbătoare\, pentru cei mari și mici.\n– Piața Frații Buzești – „Crăciun Tradițional” – locul unde tradițiile prind viață\, între colinde\, meșteșuguri și bucate românești.\n– Piața William Shakespeare – „Țara lui Moș Crăciun” – un univers magic pentru copii și tineret\, unde pot găsi carousele\, trenulețe\, filme VR și roata panoramică care îi poartă pe copii spre cerul luminat al Craiovei.\n– Strada Theodor Aman – „Best Christmas Street Food” – un festin culinar modern\, unde aromele tradiționale se împletesc cu gusturi internaționale.\n–  English Park – „Țara Jucăriilor” – paradisul copiilor\, cu figurine uriașe\, jocuri și personaje de basm.\n\n\n\n✓ Tema principală: „Spărgătorul de nuci”\n\n\n✓ 6 zone personalizate diferit\n✓ Peste 2 milioane de beculețe și decorațiuni luminoase\n✓ Căsuțe unicat tip căsuță de turtă dulce\, dar și altele cu design diferit\n✓ Brad spectaculos în Piața Mihai Viteazul\, cu un design inedit\, sub formă de magazin de jucării\n✓ Bradul-scenă în Piața Frații Buzești\n✓ Mii de decorațiuni tip jucării și dulciuri gigant\n\n\nProgram Târgul de Crăciun Craiova 2025!\n\n\n\n\n\n\n\n\n Roata panoramică\, patinoarul\, căsuțele cu bunătăți\, decorațiunile spectaculoase și cele peste 2 milioane de luminițe vă așteaptă în continuare până pe 11 ianuarie 2026 să vă bucurați de magia sărbătorilor. (ATENȚIE! Show-ul Sania lui Moș Crăciun nu se mai organizează!)\n\n\n Program de vizitare:\n Luni – Joi: 13:00 – 22:00\n Vineri – Duminică: 10:00 – 23:00\n\n\n\nNOTĂ: Condiţiile meteorologice nefavorabile pot anula o parte dintre manifestările programate în aer liber!
URL:https://craiovalive.ro/eveniment/targul-de-craciun-craiova-2025/2026-01-04/
LOCATION:Locații multiple\, Craiova\, Dolj\, România
CATEGORIES:Târguri
ATTACH;FMTTYPE=image/jpeg:https://craiovalive.ro/wp-content/uploads/2025/08/Targul-de-Craciun-Craiova-nov-2025-ian-2026.jpg
ORGANIZER;CN="Prim%C4%83ria Municipiului Craiova":MAILTO:imaginecv@primariacraiova.ro
GEO:44.3301785;23.7948808
END:VEVENT
END:VCALENDAR