BEGIN:VCALENDAR
VERSION:2.0
PRODID:-//Craiova Live - ECPv6.15.18//NONSGML v1.0//EN
CALSCALE:GREGORIAN
METHOD:PUBLISH
X-ORIGINAL-URL:https://craiovalive.ro
X-WR-CALDESC:Evenimente pentru Craiova Live
REFRESH-INTERVAL;VALUE=DURATION:PT1H
X-Robots-Tag:noindex
X-PUBLISHED-TTL:PT1H
BEGIN:VTIMEZONE
TZID:Europe/Bucharest
BEGIN:DAYLIGHT
TZOFFSETFROM:+0200
TZOFFSETTO:+0300
TZNAME:EEST
DTSTART:20240331T010000
END:DAYLIGHT
BEGIN:STANDARD
TZOFFSETFROM:+0300
TZOFFSETTO:+0200
TZNAME:EET
DTSTART:20241027T010000
END:STANDARD
BEGIN:DAYLIGHT
TZOFFSETFROM:+0200
TZOFFSETTO:+0300
TZNAME:EEST
DTSTART:20250330T010000
END:DAYLIGHT
BEGIN:STANDARD
TZOFFSETFROM:+0300
TZOFFSETTO:+0200
TZNAME:EET
DTSTART:20251026T010000
END:STANDARD
BEGIN:DAYLIGHT
TZOFFSETFROM:+0200
TZOFFSETTO:+0300
TZNAME:EEST
DTSTART:20260329T010000
END:DAYLIGHT
BEGIN:STANDARD
TZOFFSETFROM:+0300
TZOFFSETTO:+0200
TZNAME:EET
DTSTART:20261025T010000
END:STANDARD
END:VTIMEZONE
BEGIN:VEVENT
DTSTART;TZID=Europe/Bucharest:20251124T100000
DTEND;TZID=Europe/Bucharest:20251124T230000
DTSTAMP:20260424T152645
CREATED:20250802T111419Z
LAST-MODIFIED:20251228T201917Z
UID:10007818-1763978400-1764025200@craiovalive.ro
SUMMARY:Târgul de Crăciun Craiova 2025
DESCRIPTION:Târgul de Crăciun Craiova  Magia sărbătorilor de iarnă revine în Craiova în perioada 14 noiembrie 2025 – 11 ianuarie 2026. Tema ediției din acest an este „Spărgătorul de Nuci”\, povestea clasică a Crăciunului care va prinde viață în inima orașului. Craiova va fi luminată cu peste două milioane de beculețe\, iar noile căsuțe de turtă dulce cu acoperișuri din zăpadă vor aduce farmecul unei lumi desprinse din basme. \nLocuri de desfășurare Târgul de Crăciun Craiova 2025:\nAnul acesta\, povestea Târgului de Crăciun se întinde în șase piețe tematice\, fiecare cu propriul univers: \n\n– Piața Mihai Viteazul – „Candy Land” – un regat al dulciurilor\, unde fiecare colț strălucește în culori de poveste\,.\n– Zona Doljana – „Carousel Christmas” – căsuțe inedite\, decorate în spirit de sărbătoare\, pentru cei mari și mici.\n– Piața Frații Buzești – „Crăciun Tradițional” – locul unde tradițiile prind viață\, între colinde\, meșteșuguri și bucate românești.\n– Piața William Shakespeare – „Țara lui Moș Crăciun” – un univers magic pentru copii și tineret\, unde pot găsi carousele\, trenulețe\, filme VR și roata panoramică care îi poartă pe copii spre cerul luminat al Craiovei.\n– Strada Theodor Aman – „Best Christmas Street Food” – un festin culinar modern\, unde aromele tradiționale se împletesc cu gusturi internaționale.\n–  English Park – „Țara Jucăriilor” – paradisul copiilor\, cu figurine uriașe\, jocuri și personaje de basm.\n\n\n\n✓ Tema principală: „Spărgătorul de nuci”\n\n\n✓ 6 zone personalizate diferit\n✓ Peste 2 milioane de beculețe și decorațiuni luminoase\n✓ Căsuțe unicat tip căsuță de turtă dulce\, dar și altele cu design diferit\n✓ Brad spectaculos în Piața Mihai Viteazul\, cu un design inedit\, sub formă de magazin de jucării\n✓ Bradul-scenă în Piața Frații Buzești\n✓ Mii de decorațiuni tip jucării și dulciuri gigant\n\n\nProgram Târgul de Crăciun Craiova 2025!\n\n\n\n\n\n\n\n\n Roata panoramică\, patinoarul\, căsuțele cu bunătăți\, decorațiunile spectaculoase și cele peste 2 milioane de luminițe vă așteaptă în continuare până pe 11 ianuarie 2026 să vă bucurați de magia sărbătorilor. (ATENȚIE! Show-ul Sania lui Moș Crăciun nu se mai organizează!)\n\n\n Program de vizitare:\n Luni – Joi: 13:00 – 22:00\n Vineri – Duminică: 10:00 – 23:00\n\n\n\nNOTĂ: Condiţiile meteorologice nefavorabile pot anula o parte dintre manifestările programate în aer liber!
URL:https://craiovalive.ro/eveniment/targul-de-craciun-craiova-2025/2025-11-24/
LOCATION:Locații multiple\, Craiova\, Dolj\, România
CATEGORIES:Târguri
ATTACH;FMTTYPE=image/jpeg:https://craiovalive.ro/wp-content/uploads/2025/08/Targul-de-Craciun-Craiova-nov-2025-ian-2026.jpg
ORGANIZER;CN="Prim%C4%83ria Municipiului Craiova":MAILTO:imaginecv@primariacraiova.ro
GEO:44.3301785;23.7948808
END:VEVENT
BEGIN:VEVENT
DTSTART;TZID=Europe/Bucharest:20251125T100000
DTEND;TZID=Europe/Bucharest:20251125T230000
DTSTAMP:20260424T152645
CREATED:20250802T111419Z
LAST-MODIFIED:20251228T201917Z
UID:10007819-1764064800-1764111600@craiovalive.ro
SUMMARY:Târgul de Crăciun Craiova 2025
DESCRIPTION:Târgul de Crăciun Craiova  Magia sărbătorilor de iarnă revine în Craiova în perioada 14 noiembrie 2025 – 11 ianuarie 2026. Tema ediției din acest an este „Spărgătorul de Nuci”\, povestea clasică a Crăciunului care va prinde viață în inima orașului. Craiova va fi luminată cu peste două milioane de beculețe\, iar noile căsuțe de turtă dulce cu acoperișuri din zăpadă vor aduce farmecul unei lumi desprinse din basme. \nLocuri de desfășurare Târgul de Crăciun Craiova 2025:\nAnul acesta\, povestea Târgului de Crăciun se întinde în șase piețe tematice\, fiecare cu propriul univers: \n\n– Piața Mihai Viteazul – „Candy Land” – un regat al dulciurilor\, unde fiecare colț strălucește în culori de poveste\,.\n– Zona Doljana – „Carousel Christmas” – căsuțe inedite\, decorate în spirit de sărbătoare\, pentru cei mari și mici.\n– Piața Frații Buzești – „Crăciun Tradițional” – locul unde tradițiile prind viață\, între colinde\, meșteșuguri și bucate românești.\n– Piața William Shakespeare – „Țara lui Moș Crăciun” – un univers magic pentru copii și tineret\, unde pot găsi carousele\, trenulețe\, filme VR și roata panoramică care îi poartă pe copii spre cerul luminat al Craiovei.\n– Strada Theodor Aman – „Best Christmas Street Food” – un festin culinar modern\, unde aromele tradiționale se împletesc cu gusturi internaționale.\n–  English Park – „Țara Jucăriilor” – paradisul copiilor\, cu figurine uriașe\, jocuri și personaje de basm.\n\n\n\n✓ Tema principală: „Spărgătorul de nuci”\n\n\n✓ 6 zone personalizate diferit\n✓ Peste 2 milioane de beculețe și decorațiuni luminoase\n✓ Căsuțe unicat tip căsuță de turtă dulce\, dar și altele cu design diferit\n✓ Brad spectaculos în Piața Mihai Viteazul\, cu un design inedit\, sub formă de magazin de jucării\n✓ Bradul-scenă în Piața Frații Buzești\n✓ Mii de decorațiuni tip jucării și dulciuri gigant\n\n\nProgram Târgul de Crăciun Craiova 2025!\n\n\n\n\n\n\n\n\n Roata panoramică\, patinoarul\, căsuțele cu bunătăți\, decorațiunile spectaculoase și cele peste 2 milioane de luminițe vă așteaptă în continuare până pe 11 ianuarie 2026 să vă bucurați de magia sărbătorilor. (ATENȚIE! Show-ul Sania lui Moș Crăciun nu se mai organizează!)\n\n\n Program de vizitare:\n Luni – Joi: 13:00 – 22:00\n Vineri – Duminică: 10:00 – 23:00\n\n\n\nNOTĂ: Condiţiile meteorologice nefavorabile pot anula o parte dintre manifestările programate în aer liber!
URL:https://craiovalive.ro/eveniment/targul-de-craciun-craiova-2025/2025-11-25/
LOCATION:Locații multiple\, Craiova\, Dolj\, România
CATEGORIES:Târguri
ATTACH;FMTTYPE=image/jpeg:https://craiovalive.ro/wp-content/uploads/2025/08/Targul-de-Craciun-Craiova-nov-2025-ian-2026.jpg
ORGANIZER;CN="Prim%C4%83ria Municipiului Craiova":MAILTO:imaginecv@primariacraiova.ro
GEO:44.3301785;23.7948808
END:VEVENT
BEGIN:VEVENT
DTSTART;TZID=Europe/Bucharest:20251126T100000
DTEND;TZID=Europe/Bucharest:20251126T230000
DTSTAMP:20260424T152645
CREATED:20250802T111419Z
LAST-MODIFIED:20251228T201917Z
UID:10007820-1764151200-1764198000@craiovalive.ro
SUMMARY:Târgul de Crăciun Craiova 2025
DESCRIPTION:Târgul de Crăciun Craiova  Magia sărbătorilor de iarnă revine în Craiova în perioada 14 noiembrie 2025 – 11 ianuarie 2026. Tema ediției din acest an este „Spărgătorul de Nuci”\, povestea clasică a Crăciunului care va prinde viață în inima orașului. Craiova va fi luminată cu peste două milioane de beculețe\, iar noile căsuțe de turtă dulce cu acoperișuri din zăpadă vor aduce farmecul unei lumi desprinse din basme. \nLocuri de desfășurare Târgul de Crăciun Craiova 2025:\nAnul acesta\, povestea Târgului de Crăciun se întinde în șase piețe tematice\, fiecare cu propriul univers: \n\n– Piața Mihai Viteazul – „Candy Land” – un regat al dulciurilor\, unde fiecare colț strălucește în culori de poveste\,.\n– Zona Doljana – „Carousel Christmas” – căsuțe inedite\, decorate în spirit de sărbătoare\, pentru cei mari și mici.\n– Piața Frații Buzești – „Crăciun Tradițional” – locul unde tradițiile prind viață\, între colinde\, meșteșuguri și bucate românești.\n– Piața William Shakespeare – „Țara lui Moș Crăciun” – un univers magic pentru copii și tineret\, unde pot găsi carousele\, trenulețe\, filme VR și roata panoramică care îi poartă pe copii spre cerul luminat al Craiovei.\n– Strada Theodor Aman – „Best Christmas Street Food” – un festin culinar modern\, unde aromele tradiționale se împletesc cu gusturi internaționale.\n–  English Park – „Țara Jucăriilor” – paradisul copiilor\, cu figurine uriașe\, jocuri și personaje de basm.\n\n\n\n✓ Tema principală: „Spărgătorul de nuci”\n\n\n✓ 6 zone personalizate diferit\n✓ Peste 2 milioane de beculețe și decorațiuni luminoase\n✓ Căsuțe unicat tip căsuță de turtă dulce\, dar și altele cu design diferit\n✓ Brad spectaculos în Piața Mihai Viteazul\, cu un design inedit\, sub formă de magazin de jucării\n✓ Bradul-scenă în Piața Frații Buzești\n✓ Mii de decorațiuni tip jucării și dulciuri gigant\n\n\nProgram Târgul de Crăciun Craiova 2025!\n\n\n\n\n\n\n\n\n Roata panoramică\, patinoarul\, căsuțele cu bunătăți\, decorațiunile spectaculoase și cele peste 2 milioane de luminițe vă așteaptă în continuare până pe 11 ianuarie 2026 să vă bucurați de magia sărbătorilor. (ATENȚIE! Show-ul Sania lui Moș Crăciun nu se mai organizează!)\n\n\n Program de vizitare:\n Luni – Joi: 13:00 – 22:00\n Vineri – Duminică: 10:00 – 23:00\n\n\n\nNOTĂ: Condiţiile meteorologice nefavorabile pot anula o parte dintre manifestările programate în aer liber!
URL:https://craiovalive.ro/eveniment/targul-de-craciun-craiova-2025/2025-11-26/
LOCATION:Locații multiple\, Craiova\, Dolj\, România
CATEGORIES:Târguri
ATTACH;FMTTYPE=image/jpeg:https://craiovalive.ro/wp-content/uploads/2025/08/Targul-de-Craciun-Craiova-nov-2025-ian-2026.jpg
ORGANIZER;CN="Prim%C4%83ria Municipiului Craiova":MAILTO:imaginecv@primariacraiova.ro
GEO:44.3301785;23.7948808
END:VEVENT
BEGIN:VEVENT
DTSTART;TZID=Europe/Bucharest:20251127T100000
DTEND;TZID=Europe/Bucharest:20251127T230000
DTSTAMP:20260424T152645
CREATED:20250802T111419Z
LAST-MODIFIED:20251228T201917Z
UID:10007821-1764237600-1764284400@craiovalive.ro
SUMMARY:Târgul de Crăciun Craiova 2025
DESCRIPTION:Târgul de Crăciun Craiova  Magia sărbătorilor de iarnă revine în Craiova în perioada 14 noiembrie 2025 – 11 ianuarie 2026. Tema ediției din acest an este „Spărgătorul de Nuci”\, povestea clasică a Crăciunului care va prinde viață în inima orașului. Craiova va fi luminată cu peste două milioane de beculețe\, iar noile căsuțe de turtă dulce cu acoperișuri din zăpadă vor aduce farmecul unei lumi desprinse din basme. \nLocuri de desfășurare Târgul de Crăciun Craiova 2025:\nAnul acesta\, povestea Târgului de Crăciun se întinde în șase piețe tematice\, fiecare cu propriul univers: \n\n– Piața Mihai Viteazul – „Candy Land” – un regat al dulciurilor\, unde fiecare colț strălucește în culori de poveste\,.\n– Zona Doljana – „Carousel Christmas” – căsuțe inedite\, decorate în spirit de sărbătoare\, pentru cei mari și mici.\n– Piața Frații Buzești – „Crăciun Tradițional” – locul unde tradițiile prind viață\, între colinde\, meșteșuguri și bucate românești.\n– Piața William Shakespeare – „Țara lui Moș Crăciun” – un univers magic pentru copii și tineret\, unde pot găsi carousele\, trenulețe\, filme VR și roata panoramică care îi poartă pe copii spre cerul luminat al Craiovei.\n– Strada Theodor Aman – „Best Christmas Street Food” – un festin culinar modern\, unde aromele tradiționale se împletesc cu gusturi internaționale.\n–  English Park – „Țara Jucăriilor” – paradisul copiilor\, cu figurine uriașe\, jocuri și personaje de basm.\n\n\n\n✓ Tema principală: „Spărgătorul de nuci”\n\n\n✓ 6 zone personalizate diferit\n✓ Peste 2 milioane de beculețe și decorațiuni luminoase\n✓ Căsuțe unicat tip căsuță de turtă dulce\, dar și altele cu design diferit\n✓ Brad spectaculos în Piața Mihai Viteazul\, cu un design inedit\, sub formă de magazin de jucării\n✓ Bradul-scenă în Piața Frații Buzești\n✓ Mii de decorațiuni tip jucării și dulciuri gigant\n\n\nProgram Târgul de Crăciun Craiova 2025!\n\n\n\n\n\n\n\n\n Roata panoramică\, patinoarul\, căsuțele cu bunătăți\, decorațiunile spectaculoase și cele peste 2 milioane de luminițe vă așteaptă în continuare până pe 11 ianuarie 2026 să vă bucurați de magia sărbătorilor. (ATENȚIE! Show-ul Sania lui Moș Crăciun nu se mai organizează!)\n\n\n Program de vizitare:\n Luni – Joi: 13:00 – 22:00\n Vineri – Duminică: 10:00 – 23:00\n\n\n\nNOTĂ: Condiţiile meteorologice nefavorabile pot anula o parte dintre manifestările programate în aer liber!
URL:https://craiovalive.ro/eveniment/targul-de-craciun-craiova-2025/2025-11-27/
LOCATION:Locații multiple\, Craiova\, Dolj\, România
CATEGORIES:Târguri
ATTACH;FMTTYPE=image/jpeg:https://craiovalive.ro/wp-content/uploads/2025/08/Targul-de-Craciun-Craiova-nov-2025-ian-2026.jpg
ORGANIZER;CN="Prim%C4%83ria Municipiului Craiova":MAILTO:imaginecv@primariacraiova.ro
GEO:44.3301785;23.7948808
END:VEVENT
BEGIN:VEVENT
DTSTART;TZID=Europe/Bucharest:20251128T100000
DTEND;TZID=Europe/Bucharest:20251128T230000
DTSTAMP:20260424T152645
CREATED:20250802T111419Z
LAST-MODIFIED:20251228T201917Z
UID:10007822-1764324000-1764370800@craiovalive.ro
SUMMARY:Târgul de Crăciun Craiova 2025
DESCRIPTION:Târgul de Crăciun Craiova  Magia sărbătorilor de iarnă revine în Craiova în perioada 14 noiembrie 2025 – 11 ianuarie 2026. Tema ediției din acest an este „Spărgătorul de Nuci”\, povestea clasică a Crăciunului care va prinde viață în inima orașului. Craiova va fi luminată cu peste două milioane de beculețe\, iar noile căsuțe de turtă dulce cu acoperișuri din zăpadă vor aduce farmecul unei lumi desprinse din basme. \nLocuri de desfășurare Târgul de Crăciun Craiova 2025:\nAnul acesta\, povestea Târgului de Crăciun se întinde în șase piețe tematice\, fiecare cu propriul univers: \n\n– Piața Mihai Viteazul – „Candy Land” – un regat al dulciurilor\, unde fiecare colț strălucește în culori de poveste\,.\n– Zona Doljana – „Carousel Christmas” – căsuțe inedite\, decorate în spirit de sărbătoare\, pentru cei mari și mici.\n– Piața Frații Buzești – „Crăciun Tradițional” – locul unde tradițiile prind viață\, între colinde\, meșteșuguri și bucate românești.\n– Piața William Shakespeare – „Țara lui Moș Crăciun” – un univers magic pentru copii și tineret\, unde pot găsi carousele\, trenulețe\, filme VR și roata panoramică care îi poartă pe copii spre cerul luminat al Craiovei.\n– Strada Theodor Aman – „Best Christmas Street Food” – un festin culinar modern\, unde aromele tradiționale se împletesc cu gusturi internaționale.\n–  English Park – „Țara Jucăriilor” – paradisul copiilor\, cu figurine uriașe\, jocuri și personaje de basm.\n\n\n\n✓ Tema principală: „Spărgătorul de nuci”\n\n\n✓ 6 zone personalizate diferit\n✓ Peste 2 milioane de beculețe și decorațiuni luminoase\n✓ Căsuțe unicat tip căsuță de turtă dulce\, dar și altele cu design diferit\n✓ Brad spectaculos în Piața Mihai Viteazul\, cu un design inedit\, sub formă de magazin de jucării\n✓ Bradul-scenă în Piața Frații Buzești\n✓ Mii de decorațiuni tip jucării și dulciuri gigant\n\n\nProgram Târgul de Crăciun Craiova 2025!\n\n\n\n\n\n\n\n\n Roata panoramică\, patinoarul\, căsuțele cu bunătăți\, decorațiunile spectaculoase și cele peste 2 milioane de luminițe vă așteaptă în continuare până pe 11 ianuarie 2026 să vă bucurați de magia sărbătorilor. (ATENȚIE! Show-ul Sania lui Moș Crăciun nu se mai organizează!)\n\n\n Program de vizitare:\n Luni – Joi: 13:00 – 22:00\n Vineri – Duminică: 10:00 – 23:00\n\n\n\nNOTĂ: Condiţiile meteorologice nefavorabile pot anula o parte dintre manifestările programate în aer liber!
URL:https://craiovalive.ro/eveniment/targul-de-craciun-craiova-2025/2025-11-28/
LOCATION:Locații multiple\, Craiova\, Dolj\, România
CATEGORIES:Târguri
ATTACH;FMTTYPE=image/jpeg:https://craiovalive.ro/wp-content/uploads/2025/08/Targul-de-Craciun-Craiova-nov-2025-ian-2026.jpg
ORGANIZER;CN="Prim%C4%83ria Municipiului Craiova":MAILTO:imaginecv@primariacraiova.ro
GEO:44.3301785;23.7948808
END:VEVENT
BEGIN:VEVENT
DTSTART;TZID=Europe/Bucharest:20251129T090000
DTEND;TZID=Europe/Bucharest:20251129T210000
DTSTAMP:20260424T152645
CREATED:20251124T111611Z
LAST-MODIFIED:20251124T111611Z
UID:10012565-1764406800-1764450000@craiovalive.ro
SUMMARY:Bizarre Bazaar de Iarnă – Târg de Cadouri Handmade
DESCRIPTION:Bizarre Bazaar de Iarnă – Târg de Cadouri Handmade29 noiembrie – 23 decembrieZilnic\, 09:00 – 21:00Mercur Center\, parter – lângă StarbucksDacă n-ați aflat încă\, să știți că Moș Crăciunnu mai vine pe horn – anul acesta coboară direct în Mercur Center\, unde Bizarre Bazaar de Iarna – Targ de cadouri handmade își deschide porțile larg\, ca o casă plină de lumină\, miros de scorțișoară și daruri făurite cu migală și drag.În chiar inima Târgului de Crăciun organizat de Primăria Craiova\, dar adăpostit la căldură\, ferit de frig\, vânt\, ploaie și fulguieli năstrușnice\, vă așteaptă o lume întreagă de cadouri handmade\, lucrate de artizani talentați din Craiova și din toată țara. Aici\, spiridușii sunt oameni mari\, cu mâini harnice și suflete pline de imaginație\, iar fiecare obiect expus poartă cu sine o poveste.Veți găsi:– ornamente delicate\, jucăușe sau elegante\, numai bune să lumineze casa și bradul;– bijuterii cu alură artistică\, din materiale diverse și formidabile\, pentru cei care iubesc stilul personal și autentic;– haine și accesorii transformate de artizani în piese unicat\, de purtat cu bucuria celor care știu că nimeni nu mai are la fel;– lumânări care parfumează atmosfera de sărbătoare și încălzesc orice masă de Crăciun;– lucrări decorative – pictate\, brodate\, modelate – gata să devină cadouri speciale sau povești agățate pe perete;– țesături\, podoabe și mici minunății lucrate manual\, de la piese textile pufoase până la obiecte din materiale naturale ce aduc un strop de iarnă rustică în decorul tău.Pentru că asta sigur ați aflat\, vă spunem așa\, cu mândrie\, că Bizarre Bazaar – de Iarnă\, de această dată – nu este doar un târg\, ci o călătorie printre idei\, culori și inspirații. O lume în care cadourile se aleg cu inima\, iar vizitatorii – fie că sunt localnici sau că vin de departe – pleacă mereu cu ceva frumos în suflet.Vă așteptăm așadar\, începând de sâmbătă\, 29 noiembrie\, până în ajunul Ajunului \, pe 23 decembrie\, să vă alegeți povestea și să duceți acasă un strop de sărbătoare lucrată cu mâinile oamenilor pricepuți 
URL:https://craiovalive.ro/eveniment/bizarre-bazaar-de-iarna-targ-de-cadouri-handmade/2025-11-29/
LOCATION:Dolj
CATEGORIES:Târguri
ATTACH;FMTTYPE=image/jpeg:https://craiovalive.ro/wp-content/uploads/2025/11/Bizarre-Bazaar-de-Iarna-–-Targ-de-Cadouri-Handmade.jpg
END:VEVENT
BEGIN:VEVENT
DTSTART;TZID=Europe/Bucharest:20251129T100000
DTEND;TZID=Europe/Bucharest:20251129T230000
DTSTAMP:20260424T152645
CREATED:20250802T111419Z
LAST-MODIFIED:20251228T201917Z
UID:10007823-1764410400-1764457200@craiovalive.ro
SUMMARY:Târgul de Crăciun Craiova 2025
DESCRIPTION:Târgul de Crăciun Craiova  Magia sărbătorilor de iarnă revine în Craiova în perioada 14 noiembrie 2025 – 11 ianuarie 2026. Tema ediției din acest an este „Spărgătorul de Nuci”\, povestea clasică a Crăciunului care va prinde viață în inima orașului. Craiova va fi luminată cu peste două milioane de beculețe\, iar noile căsuțe de turtă dulce cu acoperișuri din zăpadă vor aduce farmecul unei lumi desprinse din basme. \nLocuri de desfășurare Târgul de Crăciun Craiova 2025:\nAnul acesta\, povestea Târgului de Crăciun se întinde în șase piețe tematice\, fiecare cu propriul univers: \n\n– Piața Mihai Viteazul – „Candy Land” – un regat al dulciurilor\, unde fiecare colț strălucește în culori de poveste\,.\n– Zona Doljana – „Carousel Christmas” – căsuțe inedite\, decorate în spirit de sărbătoare\, pentru cei mari și mici.\n– Piața Frații Buzești – „Crăciun Tradițional” – locul unde tradițiile prind viață\, între colinde\, meșteșuguri și bucate românești.\n– Piața William Shakespeare – „Țara lui Moș Crăciun” – un univers magic pentru copii și tineret\, unde pot găsi carousele\, trenulețe\, filme VR și roata panoramică care îi poartă pe copii spre cerul luminat al Craiovei.\n– Strada Theodor Aman – „Best Christmas Street Food” – un festin culinar modern\, unde aromele tradiționale se împletesc cu gusturi internaționale.\n–  English Park – „Țara Jucăriilor” – paradisul copiilor\, cu figurine uriașe\, jocuri și personaje de basm.\n\n\n\n✓ Tema principală: „Spărgătorul de nuci”\n\n\n✓ 6 zone personalizate diferit\n✓ Peste 2 milioane de beculețe și decorațiuni luminoase\n✓ Căsuțe unicat tip căsuță de turtă dulce\, dar și altele cu design diferit\n✓ Brad spectaculos în Piața Mihai Viteazul\, cu un design inedit\, sub formă de magazin de jucării\n✓ Bradul-scenă în Piața Frații Buzești\n✓ Mii de decorațiuni tip jucării și dulciuri gigant\n\n\nProgram Târgul de Crăciun Craiova 2025!\n\n\n\n\n\n\n\n\n Roata panoramică\, patinoarul\, căsuțele cu bunătăți\, decorațiunile spectaculoase și cele peste 2 milioane de luminițe vă așteaptă în continuare până pe 11 ianuarie 2026 să vă bucurați de magia sărbătorilor. (ATENȚIE! Show-ul Sania lui Moș Crăciun nu se mai organizează!)\n\n\n Program de vizitare:\n Luni – Joi: 13:00 – 22:00\n Vineri – Duminică: 10:00 – 23:00\n\n\n\nNOTĂ: Condiţiile meteorologice nefavorabile pot anula o parte dintre manifestările programate în aer liber!
URL:https://craiovalive.ro/eveniment/targul-de-craciun-craiova-2025/2025-11-29/
LOCATION:Locații multiple\, Craiova\, Dolj\, România
CATEGORIES:Târguri
ATTACH;FMTTYPE=image/jpeg:https://craiovalive.ro/wp-content/uploads/2025/08/Targul-de-Craciun-Craiova-nov-2025-ian-2026.jpg
ORGANIZER;CN="Prim%C4%83ria Municipiului Craiova":MAILTO:imaginecv@primariacraiova.ro
GEO:44.3301785;23.7948808
END:VEVENT
BEGIN:VEVENT
DTSTART;TZID=Europe/Bucharest:20251130T090000
DTEND;TZID=Europe/Bucharest:20251130T210000
DTSTAMP:20260424T152645
CREATED:20251124T111611Z
LAST-MODIFIED:20251124T111611Z
UID:10012566-1764493200-1764536400@craiovalive.ro
SUMMARY:Bizarre Bazaar de Iarnă – Târg de Cadouri Handmade
DESCRIPTION:Bizarre Bazaar de Iarnă – Târg de Cadouri Handmade29 noiembrie – 23 decembrieZilnic\, 09:00 – 21:00Mercur Center\, parter – lângă StarbucksDacă n-ați aflat încă\, să știți că Moș Crăciunnu mai vine pe horn – anul acesta coboară direct în Mercur Center\, unde Bizarre Bazaar de Iarna – Targ de cadouri handmade își deschide porțile larg\, ca o casă plină de lumină\, miros de scorțișoară și daruri făurite cu migală și drag.În chiar inima Târgului de Crăciun organizat de Primăria Craiova\, dar adăpostit la căldură\, ferit de frig\, vânt\, ploaie și fulguieli năstrușnice\, vă așteaptă o lume întreagă de cadouri handmade\, lucrate de artizani talentați din Craiova și din toată țara. Aici\, spiridușii sunt oameni mari\, cu mâini harnice și suflete pline de imaginație\, iar fiecare obiect expus poartă cu sine o poveste.Veți găsi:– ornamente delicate\, jucăușe sau elegante\, numai bune să lumineze casa și bradul;– bijuterii cu alură artistică\, din materiale diverse și formidabile\, pentru cei care iubesc stilul personal și autentic;– haine și accesorii transformate de artizani în piese unicat\, de purtat cu bucuria celor care știu că nimeni nu mai are la fel;– lumânări care parfumează atmosfera de sărbătoare și încălzesc orice masă de Crăciun;– lucrări decorative – pictate\, brodate\, modelate – gata să devină cadouri speciale sau povești agățate pe perete;– țesături\, podoabe și mici minunății lucrate manual\, de la piese textile pufoase până la obiecte din materiale naturale ce aduc un strop de iarnă rustică în decorul tău.Pentru că asta sigur ați aflat\, vă spunem așa\, cu mândrie\, că Bizarre Bazaar – de Iarnă\, de această dată – nu este doar un târg\, ci o călătorie printre idei\, culori și inspirații. O lume în care cadourile se aleg cu inima\, iar vizitatorii – fie că sunt localnici sau că vin de departe – pleacă mereu cu ceva frumos în suflet.Vă așteptăm așadar\, începând de sâmbătă\, 29 noiembrie\, până în ajunul Ajunului \, pe 23 decembrie\, să vă alegeți povestea și să duceți acasă un strop de sărbătoare lucrată cu mâinile oamenilor pricepuți 
URL:https://craiovalive.ro/eveniment/bizarre-bazaar-de-iarna-targ-de-cadouri-handmade/2025-11-30/
LOCATION:Dolj
CATEGORIES:Târguri
ATTACH;FMTTYPE=image/jpeg:https://craiovalive.ro/wp-content/uploads/2025/11/Bizarre-Bazaar-de-Iarna-–-Targ-de-Cadouri-Handmade.jpg
END:VEVENT
BEGIN:VEVENT
DTSTART;TZID=Europe/Bucharest:20251130T100000
DTEND;TZID=Europe/Bucharest:20251130T230000
DTSTAMP:20260424T152645
CREATED:20250802T111419Z
LAST-MODIFIED:20251228T201917Z
UID:10007824-1764496800-1764543600@craiovalive.ro
SUMMARY:Târgul de Crăciun Craiova 2025
DESCRIPTION:Târgul de Crăciun Craiova  Magia sărbătorilor de iarnă revine în Craiova în perioada 14 noiembrie 2025 – 11 ianuarie 2026. Tema ediției din acest an este „Spărgătorul de Nuci”\, povestea clasică a Crăciunului care va prinde viață în inima orașului. Craiova va fi luminată cu peste două milioane de beculețe\, iar noile căsuțe de turtă dulce cu acoperișuri din zăpadă vor aduce farmecul unei lumi desprinse din basme. \nLocuri de desfășurare Târgul de Crăciun Craiova 2025:\nAnul acesta\, povestea Târgului de Crăciun se întinde în șase piețe tematice\, fiecare cu propriul univers: \n\n– Piața Mihai Viteazul – „Candy Land” – un regat al dulciurilor\, unde fiecare colț strălucește în culori de poveste\,.\n– Zona Doljana – „Carousel Christmas” – căsuțe inedite\, decorate în spirit de sărbătoare\, pentru cei mari și mici.\n– Piața Frații Buzești – „Crăciun Tradițional” – locul unde tradițiile prind viață\, între colinde\, meșteșuguri și bucate românești.\n– Piața William Shakespeare – „Țara lui Moș Crăciun” – un univers magic pentru copii și tineret\, unde pot găsi carousele\, trenulețe\, filme VR și roata panoramică care îi poartă pe copii spre cerul luminat al Craiovei.\n– Strada Theodor Aman – „Best Christmas Street Food” – un festin culinar modern\, unde aromele tradiționale se împletesc cu gusturi internaționale.\n–  English Park – „Țara Jucăriilor” – paradisul copiilor\, cu figurine uriașe\, jocuri și personaje de basm.\n\n\n\n✓ Tema principală: „Spărgătorul de nuci”\n\n\n✓ 6 zone personalizate diferit\n✓ Peste 2 milioane de beculețe și decorațiuni luminoase\n✓ Căsuțe unicat tip căsuță de turtă dulce\, dar și altele cu design diferit\n✓ Brad spectaculos în Piața Mihai Viteazul\, cu un design inedit\, sub formă de magazin de jucării\n✓ Bradul-scenă în Piața Frații Buzești\n✓ Mii de decorațiuni tip jucării și dulciuri gigant\n\n\nProgram Târgul de Crăciun Craiova 2025!\n\n\n\n\n\n\n\n\n Roata panoramică\, patinoarul\, căsuțele cu bunătăți\, decorațiunile spectaculoase și cele peste 2 milioane de luminițe vă așteaptă în continuare până pe 11 ianuarie 2026 să vă bucurați de magia sărbătorilor. (ATENȚIE! Show-ul Sania lui Moș Crăciun nu se mai organizează!)\n\n\n Program de vizitare:\n Luni – Joi: 13:00 – 22:00\n Vineri – Duminică: 10:00 – 23:00\n\n\n\nNOTĂ: Condiţiile meteorologice nefavorabile pot anula o parte dintre manifestările programate în aer liber!
URL:https://craiovalive.ro/eveniment/targul-de-craciun-craiova-2025/2025-11-30/
LOCATION:Locații multiple\, Craiova\, Dolj\, România
CATEGORIES:Târguri
ATTACH;FMTTYPE=image/jpeg:https://craiovalive.ro/wp-content/uploads/2025/08/Targul-de-Craciun-Craiova-nov-2025-ian-2026.jpg
ORGANIZER;CN="Prim%C4%83ria Municipiului Craiova":MAILTO:imaginecv@primariacraiova.ro
GEO:44.3301785;23.7948808
END:VEVENT
END:VCALENDAR