BEGIN:VCALENDAR
VERSION:2.0
PRODID:-//Craiova Live - ECPv6.15.18//NONSGML v1.0//EN
CALSCALE:GREGORIAN
METHOD:PUBLISH
X-WR-CALNAME:Craiova Live
X-ORIGINAL-URL:https://craiovalive.ro
X-WR-CALDESC:Evenimente pentru Craiova Live
REFRESH-INTERVAL;VALUE=DURATION:PT1H
X-Robots-Tag:noindex
X-PUBLISHED-TTL:PT1H
BEGIN:VTIMEZONE
TZID:Europe/Bucharest
BEGIN:DAYLIGHT
TZOFFSETFROM:+0200
TZOFFSETTO:+0300
TZNAME:EEST
DTSTART:20240331T010000
END:DAYLIGHT
BEGIN:STANDARD
TZOFFSETFROM:+0300
TZOFFSETTO:+0200
TZNAME:EET
DTSTART:20241027T010000
END:STANDARD
BEGIN:DAYLIGHT
TZOFFSETFROM:+0200
TZOFFSETTO:+0300
TZNAME:EEST
DTSTART:20250330T010000
END:DAYLIGHT
BEGIN:STANDARD
TZOFFSETFROM:+0300
TZOFFSETTO:+0200
TZNAME:EET
DTSTART:20251026T010000
END:STANDARD
BEGIN:DAYLIGHT
TZOFFSETFROM:+0200
TZOFFSETTO:+0300
TZNAME:EEST
DTSTART:20260329T010000
END:DAYLIGHT
BEGIN:STANDARD
TZOFFSETFROM:+0300
TZOFFSETTO:+0200
TZNAME:EET
DTSTART:20261025T010000
END:STANDARD
END:VTIMEZONE
BEGIN:VEVENT
DTSTART;TZID=Europe/Bucharest:20251023T100000
DTEND;TZID=Europe/Bucharest:20251023T200000
DTSTAMP:20260424T183752
CREATED:20251022T143723Z
LAST-MODIFIED:20251022T143723Z
UID:10012166-1761213600-1761249600@craiovalive.ro
SUMMARY:Bizarre Bazaar – Târg de Toamnă și Vrăjitorii
DESCRIPTION: Bizarre Bazaar – Târg de Toamnă și Vrăjitorii revine!\nÎntre 23 și 26 octombrie\, ne întâlnim din nou în inima orașului\, pe aleile din English Park\, acolo unde magia se împletește cu meșteșugul\, iar toamna aurie prinde viață printre fantome simpatice\, lilieci drăgălași și păianjeni jucăuși!\n Tarabele se umplu iar de bijuterii handmade\, haine pictate\, cosmetice naturale\, lavandă\, decorațiuni și tot ce are mai frumos artizanatul autohton. Iar pentru pofticioși – dulcețuri\, siropuri\, prăjituri\, fructe și flori cât să-ți îndulcească toamna și sufletul!\n Cei mici\, dar și cei mari (care nu s-au vindecat de copilărie) sunt așteptați la atelierele creative: vom sculpta dovleci\, picta figurine\, împleti coronite de toamnă\, modela lut\, ne vom picta pe față și vom râde în hohote la jocurile distractive pregătite de echipe de vrăjitori pricepuți\, trnsformând toamna asta în poveste!\n 23 – 26 octombrie |  English Park\, Craiova Intrarea este liberă\, voia bună obligatorie!
URL:https://craiovalive.ro/eveniment/bizarre-bazaar-targ-de-toamna-si-vrajitorii/2025-10-23/
LOCATION:English Park\, Str. A. I. Cuza\, nr. 7\, Craiova\, Dolj\, România
CATEGORIES:Târguri
ATTACH;FMTTYPE=image/jpeg:https://craiovalive.ro/wp-content/uploads/2025/10/Bizarre-Bazaar-–-Targ-de-Toamna-si-Vrajitorii.jpg
GEO:44.3177787;23.7967431
X-APPLE-STRUCTURED-LOCATION;VALUE=URI;X-ADDRESS=English Park Str. A. I. Cuza nr. 7 Craiova Dolj România;X-APPLE-RADIUS=500;X-TITLE=Str. A. I. Cuza\, nr. 7:geo:23.7967431,44.3177787
END:VEVENT
BEGIN:VEVENT
DTSTART;TZID=Europe/Bucharest:20251024T090000
DTEND;TZID=Europe/Bucharest:20251024T220000
DTSTAMP:20260424T183752
CREATED:20251022T133908Z
LAST-MODIFIED:20251022T133908Z
UID:10012162-1761296400-1761343200@craiovalive.ro
SUMMARY:Târgul Meșterilor Populari Craiova 2025 – ediția a XLVI-a
DESCRIPTION:Târgul Meșterilor Populari – ediția a XLVI-a\n🏛️Muzeul Olteniei Craiova – Secția de Etnografie\, cu sprijinul Consiliului Județean Dolj și în parteneriat cu Primăria și Consiliul Local Municipal Craiova\, Centrul Județean de Cultură și Artă Dolj – Ansamblul de Dans Popular „Maria Tănase” și Teatrul pentru Copii și Tineret „Colibri” Craiova – Secția Folclor „Maria Tănase”\, organizează în perioada 24-26 octombrie 2025\, în Piața „William Shakespeare” din Craiova\, a XLVI-a ediție a Târgului Meșterilor Populari\, reper al tradițiilor și spiritualității populare românești\, ce aduce laolaltă\, într-un spațiu carismatic din Cetatea Băniei\, peste 50 de meșteri populari din toată țara.\n♦️Târgul Meșterilor Populari de la Craiova\, aflat la cea de-a 46-a ediție\, reprezintă un reper identitar în existența Craiovei\, ce oferă publicului craiovean\, sub forma unei manifestări culturale în aer liber\, atât posibilitatea contemplării creativității artizanilor tradițiilor populare românești\, cât și receptarea valenţelor cultural-educative\, prin admirarea obiectelor populare expuse ce poartă emblema identității\, a esenței culturale românești.\n❗️Deschiderea oficială a Târgului Meșterilor Populari\, în fapt\, o expoziţie cu vânzare în aer liber şi demonstraţii ale meşterilor populari\, va avea loc vineri\, 24 octombrie\, ora 12.00\, în Piața „William Shakespeare” din Craiova.\n❗️Festivitatea de premiere a meșterilor populari va avea loc sâmbătă\, 25 octombrie 2025\, ora 12:00\, în Piața „William Shakespeare” din Craiova.\n📌Emblematică pentru comunitatea craioveană\, organizatorii au stabilit ca programul manifestării culturale pentru zilele de vineri\, sâmbătă și duminică (24\, 25\, 26 octombrie)\, atât pentru expoziţia cu vânzare în aer liber\, cât şi pentru demonstraţiile meşterilor populari\, să se desfășoare zilnic\, în intervalul orar 09.00-22.00\, permițând publicului să perceapă târgul de artă populară ca o formă de regăsire\, de corespondență cu prezentul\, dar și cu trecutul și viitorul. Publicul craiovean va regăsi în acest spațiu cultural urban alături de ceramişti\, sculptori în os și lemn\, iconari pe lemn și sticlă\, pielari\, tricotaje\, țesători în lână și păr de capră\, bumbac\, borangic\, papură\, pănușă\, sticlari\, creatori de costume populare și țesături interioare\, producători apicoli\, de bunătăţi tradiţionale\, între care dulciuri de casă ori vestitele brânzeturi şi afumături de Sibiu.\n🔸Reprezentând tradiția în Cetatea Băniei\, matricea autenticului în Oltenia\, Târgul Meșterilor Populari\, oferă craiovenilor ocazia să își reamintească imaginile familiare ale celor peste 50 de meșteri populari din centre meşteşugăreşti active din țară\, ce vor etala publicului craiovean felurite obiecte populare cu valoare estetică sau funcţională\, produse tradiționale de la ceramică la costume populare\, obiecte casnice\, textile\, împletituri\, icoane pe lemn şi sticlă\, scoarţe ţărăneşti\, piese de port\, tablouri lucrate în tehnica goblenului\, produse alimentare tradiţionale\, cofetari cu bunătăţi tradiţionale\, cozonaci și kurtos\, plăcintă\, ciocolată\, turtă dulce\, halva\, magiun\, zacuscă\, gem si diferite dulceţuri ecologice\, acestea din urmă\, la mare căutare în ultima vreme.\n🔸În cadrul evenimentului cultural\, publicul craiovean va avea posibilitatea să admire tehnici de lucru imprimate în obiecte de artă populară\, ce se regăsesc pe Lista Reprezentativă a Patrimoniului Cultural Imaterial al Umanității – U.N.E.S.C.O.\, precum olăritul\, țesutul\, arta cămășii cu altiță\, etc.\n🌼Un Târg al Meșterilor Populari este\, până la urmă\, o prelungire a ideii de muzeu prin obiectele pe care le cuprinde. Astfel de manifestări culturale se transpun\, de fapt\, în instituții cu rol educativ\, instituții informative\, dar și formative\, instituții patrimoniale căci oricine vine în acest spațiu și pleacă de aici cu un obiect\, pe care fie îl oferă\, fie îl păstrează\, va reveni în acest spațiu al tradițiilor populare.\n🔸Ca în fiecare an\, meritele deosebite ale meşteşugarilor în conservarea şi perpetuarea tradiţiei\, calitatea şi valoarea creaţiei vor fi răsplătite cu diplome și premii\, în cadrul festivității de premiere ce va avea loc sâmbătă\, 25 octombrie\, ora 12.00\, în Piața „William Shakespeare”\, respectiv\, „Premiul Târgului”\, oferit de Consiliul Judeţean Dolj\, şi Premiul „Cetatea Băniei”\, acordat din partea Primăriei Municipiului Craiova.
URL:https://craiovalive.ro/eveniment/targul-mesterilor-populari-craiova-2025-editia-a-xlvi-a/2025-10-24/
LOCATION:Piața William Shakespeare\, Craiova\, Dolj\, România
CATEGORIES:Târguri
ATTACH;FMTTYPE=image/jpeg:https://craiovalive.ro/wp-content/uploads/2025/10/Targul-Mesterilor-Populari-Craiova-2025-–-editia-a-XLVI-a.jpg
ORGANIZER;CN="Muzeul Olteniei Craiova":MAILTO:muzeulolteniei@yahoo.com
GEO:44.318785855099;23.798363497388
END:VEVENT
BEGIN:VEVENT
DTSTART;TZID=Europe/Bucharest:20251024T100000
DTEND;TZID=Europe/Bucharest:20251024T200000
DTSTAMP:20260424T183752
CREATED:20251022T143723Z
LAST-MODIFIED:20251022T143723Z
UID:10012167-1761300000-1761336000@craiovalive.ro
SUMMARY:Bizarre Bazaar – Târg de Toamnă și Vrăjitorii
DESCRIPTION: Bizarre Bazaar – Târg de Toamnă și Vrăjitorii revine!\nÎntre 23 și 26 octombrie\, ne întâlnim din nou în inima orașului\, pe aleile din English Park\, acolo unde magia se împletește cu meșteșugul\, iar toamna aurie prinde viață printre fantome simpatice\, lilieci drăgălași și păianjeni jucăuși!\n Tarabele se umplu iar de bijuterii handmade\, haine pictate\, cosmetice naturale\, lavandă\, decorațiuni și tot ce are mai frumos artizanatul autohton. Iar pentru pofticioși – dulcețuri\, siropuri\, prăjituri\, fructe și flori cât să-ți îndulcească toamna și sufletul!\n Cei mici\, dar și cei mari (care nu s-au vindecat de copilărie) sunt așteptați la atelierele creative: vom sculpta dovleci\, picta figurine\, împleti coronite de toamnă\, modela lut\, ne vom picta pe față și vom râde în hohote la jocurile distractive pregătite de echipe de vrăjitori pricepuți\, trnsformând toamna asta în poveste!\n 23 – 26 octombrie |  English Park\, Craiova Intrarea este liberă\, voia bună obligatorie!
URL:https://craiovalive.ro/eveniment/bizarre-bazaar-targ-de-toamna-si-vrajitorii/2025-10-24/
LOCATION:English Park\, Str. A. I. Cuza\, nr. 7\, Craiova\, Dolj\, România
CATEGORIES:Târguri
ATTACH;FMTTYPE=image/jpeg:https://craiovalive.ro/wp-content/uploads/2025/10/Bizarre-Bazaar-–-Targ-de-Toamna-si-Vrajitorii.jpg
GEO:44.3177787;23.7967431
X-APPLE-STRUCTURED-LOCATION;VALUE=URI;X-ADDRESS=English Park Str. A. I. Cuza nr. 7 Craiova Dolj România;X-APPLE-RADIUS=500;X-TITLE=Str. A. I. Cuza\, nr. 7:geo:23.7967431,44.3177787
END:VEVENT
BEGIN:VEVENT
DTSTART;TZID=Europe/Bucharest:20251025T090000
DTEND;TZID=Europe/Bucharest:20251025T220000
DTSTAMP:20260424T183752
CREATED:20251022T133908Z
LAST-MODIFIED:20251022T133908Z
UID:10012163-1761382800-1761429600@craiovalive.ro
SUMMARY:Târgul Meșterilor Populari Craiova 2025 – ediția a XLVI-a
DESCRIPTION:Târgul Meșterilor Populari – ediția a XLVI-a\n🏛️Muzeul Olteniei Craiova – Secția de Etnografie\, cu sprijinul Consiliului Județean Dolj și în parteneriat cu Primăria și Consiliul Local Municipal Craiova\, Centrul Județean de Cultură și Artă Dolj – Ansamblul de Dans Popular „Maria Tănase” și Teatrul pentru Copii și Tineret „Colibri” Craiova – Secția Folclor „Maria Tănase”\, organizează în perioada 24-26 octombrie 2025\, în Piața „William Shakespeare” din Craiova\, a XLVI-a ediție a Târgului Meșterilor Populari\, reper al tradițiilor și spiritualității populare românești\, ce aduce laolaltă\, într-un spațiu carismatic din Cetatea Băniei\, peste 50 de meșteri populari din toată țara.\n♦️Târgul Meșterilor Populari de la Craiova\, aflat la cea de-a 46-a ediție\, reprezintă un reper identitar în existența Craiovei\, ce oferă publicului craiovean\, sub forma unei manifestări culturale în aer liber\, atât posibilitatea contemplării creativității artizanilor tradițiilor populare românești\, cât și receptarea valenţelor cultural-educative\, prin admirarea obiectelor populare expuse ce poartă emblema identității\, a esenței culturale românești.\n❗️Deschiderea oficială a Târgului Meșterilor Populari\, în fapt\, o expoziţie cu vânzare în aer liber şi demonstraţii ale meşterilor populari\, va avea loc vineri\, 24 octombrie\, ora 12.00\, în Piața „William Shakespeare” din Craiova.\n❗️Festivitatea de premiere a meșterilor populari va avea loc sâmbătă\, 25 octombrie 2025\, ora 12:00\, în Piața „William Shakespeare” din Craiova.\n📌Emblematică pentru comunitatea craioveană\, organizatorii au stabilit ca programul manifestării culturale pentru zilele de vineri\, sâmbătă și duminică (24\, 25\, 26 octombrie)\, atât pentru expoziţia cu vânzare în aer liber\, cât şi pentru demonstraţiile meşterilor populari\, să se desfășoare zilnic\, în intervalul orar 09.00-22.00\, permițând publicului să perceapă târgul de artă populară ca o formă de regăsire\, de corespondență cu prezentul\, dar și cu trecutul și viitorul. Publicul craiovean va regăsi în acest spațiu cultural urban alături de ceramişti\, sculptori în os și lemn\, iconari pe lemn și sticlă\, pielari\, tricotaje\, țesători în lână și păr de capră\, bumbac\, borangic\, papură\, pănușă\, sticlari\, creatori de costume populare și țesături interioare\, producători apicoli\, de bunătăţi tradiţionale\, între care dulciuri de casă ori vestitele brânzeturi şi afumături de Sibiu.\n🔸Reprezentând tradiția în Cetatea Băniei\, matricea autenticului în Oltenia\, Târgul Meșterilor Populari\, oferă craiovenilor ocazia să își reamintească imaginile familiare ale celor peste 50 de meșteri populari din centre meşteşugăreşti active din țară\, ce vor etala publicului craiovean felurite obiecte populare cu valoare estetică sau funcţională\, produse tradiționale de la ceramică la costume populare\, obiecte casnice\, textile\, împletituri\, icoane pe lemn şi sticlă\, scoarţe ţărăneşti\, piese de port\, tablouri lucrate în tehnica goblenului\, produse alimentare tradiţionale\, cofetari cu bunătăţi tradiţionale\, cozonaci și kurtos\, plăcintă\, ciocolată\, turtă dulce\, halva\, magiun\, zacuscă\, gem si diferite dulceţuri ecologice\, acestea din urmă\, la mare căutare în ultima vreme.\n🔸În cadrul evenimentului cultural\, publicul craiovean va avea posibilitatea să admire tehnici de lucru imprimate în obiecte de artă populară\, ce se regăsesc pe Lista Reprezentativă a Patrimoniului Cultural Imaterial al Umanității – U.N.E.S.C.O.\, precum olăritul\, țesutul\, arta cămășii cu altiță\, etc.\n🌼Un Târg al Meșterilor Populari este\, până la urmă\, o prelungire a ideii de muzeu prin obiectele pe care le cuprinde. Astfel de manifestări culturale se transpun\, de fapt\, în instituții cu rol educativ\, instituții informative\, dar și formative\, instituții patrimoniale căci oricine vine în acest spațiu și pleacă de aici cu un obiect\, pe care fie îl oferă\, fie îl păstrează\, va reveni în acest spațiu al tradițiilor populare.\n🔸Ca în fiecare an\, meritele deosebite ale meşteşugarilor în conservarea şi perpetuarea tradiţiei\, calitatea şi valoarea creaţiei vor fi răsplătite cu diplome și premii\, în cadrul festivității de premiere ce va avea loc sâmbătă\, 25 octombrie\, ora 12.00\, în Piața „William Shakespeare”\, respectiv\, „Premiul Târgului”\, oferit de Consiliul Judeţean Dolj\, şi Premiul „Cetatea Băniei”\, acordat din partea Primăriei Municipiului Craiova.
URL:https://craiovalive.ro/eveniment/targul-mesterilor-populari-craiova-2025-editia-a-xlvi-a/2025-10-25/
LOCATION:Piața William Shakespeare\, Craiova\, Dolj\, România
CATEGORIES:Târguri
ATTACH;FMTTYPE=image/jpeg:https://craiovalive.ro/wp-content/uploads/2025/10/Targul-Mesterilor-Populari-Craiova-2025-–-editia-a-XLVI-a.jpg
ORGANIZER;CN="Muzeul Olteniei Craiova":MAILTO:muzeulolteniei@yahoo.com
GEO:44.318785855099;23.798363497388
END:VEVENT
BEGIN:VEVENT
DTSTART;TZID=Europe/Bucharest:20251025T100000
DTEND;TZID=Europe/Bucharest:20251025T200000
DTSTAMP:20260424T183752
CREATED:20251022T143723Z
LAST-MODIFIED:20251022T143723Z
UID:10012168-1761386400-1761422400@craiovalive.ro
SUMMARY:Bizarre Bazaar – Târg de Toamnă și Vrăjitorii
DESCRIPTION: Bizarre Bazaar – Târg de Toamnă și Vrăjitorii revine!\nÎntre 23 și 26 octombrie\, ne întâlnim din nou în inima orașului\, pe aleile din English Park\, acolo unde magia se împletește cu meșteșugul\, iar toamna aurie prinde viață printre fantome simpatice\, lilieci drăgălași și păianjeni jucăuși!\n Tarabele se umplu iar de bijuterii handmade\, haine pictate\, cosmetice naturale\, lavandă\, decorațiuni și tot ce are mai frumos artizanatul autohton. Iar pentru pofticioși – dulcețuri\, siropuri\, prăjituri\, fructe și flori cât să-ți îndulcească toamna și sufletul!\n Cei mici\, dar și cei mari (care nu s-au vindecat de copilărie) sunt așteptați la atelierele creative: vom sculpta dovleci\, picta figurine\, împleti coronite de toamnă\, modela lut\, ne vom picta pe față și vom râde în hohote la jocurile distractive pregătite de echipe de vrăjitori pricepuți\, trnsformând toamna asta în poveste!\n 23 – 26 octombrie |  English Park\, Craiova Intrarea este liberă\, voia bună obligatorie!
URL:https://craiovalive.ro/eveniment/bizarre-bazaar-targ-de-toamna-si-vrajitorii/2025-10-25/
LOCATION:English Park\, Str. A. I. Cuza\, nr. 7\, Craiova\, Dolj\, România
CATEGORIES:Târguri
ATTACH;FMTTYPE=image/jpeg:https://craiovalive.ro/wp-content/uploads/2025/10/Bizarre-Bazaar-–-Targ-de-Toamna-si-Vrajitorii.jpg
GEO:44.3177787;23.7967431
X-APPLE-STRUCTURED-LOCATION;VALUE=URI;X-ADDRESS=English Park Str. A. I. Cuza nr. 7 Craiova Dolj România;X-APPLE-RADIUS=500;X-TITLE=Str. A. I. Cuza\, nr. 7:geo:23.7967431,44.3177787
END:VEVENT
BEGIN:VEVENT
DTSTART;TZID=Europe/Bucharest:20251026T090000
DTEND;TZID=Europe/Bucharest:20251026T220000
DTSTAMP:20260424T183752
CREATED:20251022T133908Z
LAST-MODIFIED:20251022T133908Z
UID:10012164-1761469200-1761516000@craiovalive.ro
SUMMARY:Târgul Meșterilor Populari Craiova 2025 – ediția a XLVI-a
DESCRIPTION:Târgul Meșterilor Populari – ediția a XLVI-a\n🏛️Muzeul Olteniei Craiova – Secția de Etnografie\, cu sprijinul Consiliului Județean Dolj și în parteneriat cu Primăria și Consiliul Local Municipal Craiova\, Centrul Județean de Cultură și Artă Dolj – Ansamblul de Dans Popular „Maria Tănase” și Teatrul pentru Copii și Tineret „Colibri” Craiova – Secția Folclor „Maria Tănase”\, organizează în perioada 24-26 octombrie 2025\, în Piața „William Shakespeare” din Craiova\, a XLVI-a ediție a Târgului Meșterilor Populari\, reper al tradițiilor și spiritualității populare românești\, ce aduce laolaltă\, într-un spațiu carismatic din Cetatea Băniei\, peste 50 de meșteri populari din toată țara.\n♦️Târgul Meșterilor Populari de la Craiova\, aflat la cea de-a 46-a ediție\, reprezintă un reper identitar în existența Craiovei\, ce oferă publicului craiovean\, sub forma unei manifestări culturale în aer liber\, atât posibilitatea contemplării creativității artizanilor tradițiilor populare românești\, cât și receptarea valenţelor cultural-educative\, prin admirarea obiectelor populare expuse ce poartă emblema identității\, a esenței culturale românești.\n❗️Deschiderea oficială a Târgului Meșterilor Populari\, în fapt\, o expoziţie cu vânzare în aer liber şi demonstraţii ale meşterilor populari\, va avea loc vineri\, 24 octombrie\, ora 12.00\, în Piața „William Shakespeare” din Craiova.\n❗️Festivitatea de premiere a meșterilor populari va avea loc sâmbătă\, 25 octombrie 2025\, ora 12:00\, în Piața „William Shakespeare” din Craiova.\n📌Emblematică pentru comunitatea craioveană\, organizatorii au stabilit ca programul manifestării culturale pentru zilele de vineri\, sâmbătă și duminică (24\, 25\, 26 octombrie)\, atât pentru expoziţia cu vânzare în aer liber\, cât şi pentru demonstraţiile meşterilor populari\, să se desfășoare zilnic\, în intervalul orar 09.00-22.00\, permițând publicului să perceapă târgul de artă populară ca o formă de regăsire\, de corespondență cu prezentul\, dar și cu trecutul și viitorul. Publicul craiovean va regăsi în acest spațiu cultural urban alături de ceramişti\, sculptori în os și lemn\, iconari pe lemn și sticlă\, pielari\, tricotaje\, țesători în lână și păr de capră\, bumbac\, borangic\, papură\, pănușă\, sticlari\, creatori de costume populare și țesături interioare\, producători apicoli\, de bunătăţi tradiţionale\, între care dulciuri de casă ori vestitele brânzeturi şi afumături de Sibiu.\n🔸Reprezentând tradiția în Cetatea Băniei\, matricea autenticului în Oltenia\, Târgul Meșterilor Populari\, oferă craiovenilor ocazia să își reamintească imaginile familiare ale celor peste 50 de meșteri populari din centre meşteşugăreşti active din țară\, ce vor etala publicului craiovean felurite obiecte populare cu valoare estetică sau funcţională\, produse tradiționale de la ceramică la costume populare\, obiecte casnice\, textile\, împletituri\, icoane pe lemn şi sticlă\, scoarţe ţărăneşti\, piese de port\, tablouri lucrate în tehnica goblenului\, produse alimentare tradiţionale\, cofetari cu bunătăţi tradiţionale\, cozonaci și kurtos\, plăcintă\, ciocolată\, turtă dulce\, halva\, magiun\, zacuscă\, gem si diferite dulceţuri ecologice\, acestea din urmă\, la mare căutare în ultima vreme.\n🔸În cadrul evenimentului cultural\, publicul craiovean va avea posibilitatea să admire tehnici de lucru imprimate în obiecte de artă populară\, ce se regăsesc pe Lista Reprezentativă a Patrimoniului Cultural Imaterial al Umanității – U.N.E.S.C.O.\, precum olăritul\, țesutul\, arta cămășii cu altiță\, etc.\n🌼Un Târg al Meșterilor Populari este\, până la urmă\, o prelungire a ideii de muzeu prin obiectele pe care le cuprinde. Astfel de manifestări culturale se transpun\, de fapt\, în instituții cu rol educativ\, instituții informative\, dar și formative\, instituții patrimoniale căci oricine vine în acest spațiu și pleacă de aici cu un obiect\, pe care fie îl oferă\, fie îl păstrează\, va reveni în acest spațiu al tradițiilor populare.\n🔸Ca în fiecare an\, meritele deosebite ale meşteşugarilor în conservarea şi perpetuarea tradiţiei\, calitatea şi valoarea creaţiei vor fi răsplătite cu diplome și premii\, în cadrul festivității de premiere ce va avea loc sâmbătă\, 25 octombrie\, ora 12.00\, în Piața „William Shakespeare”\, respectiv\, „Premiul Târgului”\, oferit de Consiliul Judeţean Dolj\, şi Premiul „Cetatea Băniei”\, acordat din partea Primăriei Municipiului Craiova.
URL:https://craiovalive.ro/eveniment/targul-mesterilor-populari-craiova-2025-editia-a-xlvi-a/2025-10-26/
LOCATION:Piața William Shakespeare\, Craiova\, Dolj\, România
CATEGORIES:Târguri
ATTACH;FMTTYPE=image/jpeg:https://craiovalive.ro/wp-content/uploads/2025/10/Targul-Mesterilor-Populari-Craiova-2025-–-editia-a-XLVI-a.jpg
ORGANIZER;CN="Muzeul Olteniei Craiova":MAILTO:muzeulolteniei@yahoo.com
GEO:44.318785855099;23.798363497388
END:VEVENT
BEGIN:VEVENT
DTSTART;TZID=Europe/Bucharest:20251026T100000
DTEND;TZID=Europe/Bucharest:20251026T200000
DTSTAMP:20260424T183752
CREATED:20251022T143723Z
LAST-MODIFIED:20251022T143723Z
UID:10012169-1761472800-1761508800@craiovalive.ro
SUMMARY:Bizarre Bazaar – Târg de Toamnă și Vrăjitorii
DESCRIPTION: Bizarre Bazaar – Târg de Toamnă și Vrăjitorii revine!\nÎntre 23 și 26 octombrie\, ne întâlnim din nou în inima orașului\, pe aleile din English Park\, acolo unde magia se împletește cu meșteșugul\, iar toamna aurie prinde viață printre fantome simpatice\, lilieci drăgălași și păianjeni jucăuși!\n Tarabele se umplu iar de bijuterii handmade\, haine pictate\, cosmetice naturale\, lavandă\, decorațiuni și tot ce are mai frumos artizanatul autohton. Iar pentru pofticioși – dulcețuri\, siropuri\, prăjituri\, fructe și flori cât să-ți îndulcească toamna și sufletul!\n Cei mici\, dar și cei mari (care nu s-au vindecat de copilărie) sunt așteptați la atelierele creative: vom sculpta dovleci\, picta figurine\, împleti coronite de toamnă\, modela lut\, ne vom picta pe față și vom râde în hohote la jocurile distractive pregătite de echipe de vrăjitori pricepuți\, trnsformând toamna asta în poveste!\n 23 – 26 octombrie |  English Park\, Craiova Intrarea este liberă\, voia bună obligatorie!
URL:https://craiovalive.ro/eveniment/bizarre-bazaar-targ-de-toamna-si-vrajitorii/2025-10-26/
LOCATION:English Park\, Str. A. I. Cuza\, nr. 7\, Craiova\, Dolj\, România
CATEGORIES:Târguri
ATTACH;FMTTYPE=image/jpeg:https://craiovalive.ro/wp-content/uploads/2025/10/Bizarre-Bazaar-–-Targ-de-Toamna-si-Vrajitorii.jpg
GEO:44.3177787;23.7967431
X-APPLE-STRUCTURED-LOCATION;VALUE=URI;X-ADDRESS=English Park Str. A. I. Cuza nr. 7 Craiova Dolj România;X-APPLE-RADIUS=500;X-TITLE=Str. A. I. Cuza\, nr. 7:geo:23.7967431,44.3177787
END:VEVENT
END:VCALENDAR