BEGIN:VCALENDAR
VERSION:2.0
PRODID:-//Craiova Live - ECPv6.15.18//NONSGML v1.0//EN
CALSCALE:GREGORIAN
METHOD:PUBLISH
X-WR-CALNAME:Craiova Live
X-ORIGINAL-URL:https://craiovalive.ro
X-WR-CALDESC:Evenimente pentru Craiova Live
REFRESH-INTERVAL;VALUE=DURATION:PT1H
X-Robots-Tag:noindex
X-PUBLISHED-TTL:PT1H
BEGIN:VTIMEZONE
TZID:Europe/Bucharest
BEGIN:DAYLIGHT
TZOFFSETFROM:+0200
TZOFFSETTO:+0300
TZNAME:EEST
DTSTART:20240331T010000
END:DAYLIGHT
BEGIN:STANDARD
TZOFFSETFROM:+0300
TZOFFSETTO:+0200
TZNAME:EET
DTSTART:20241027T010000
END:STANDARD
BEGIN:DAYLIGHT
TZOFFSETFROM:+0200
TZOFFSETTO:+0300
TZNAME:EEST
DTSTART:20250330T010000
END:DAYLIGHT
BEGIN:STANDARD
TZOFFSETFROM:+0300
TZOFFSETTO:+0200
TZNAME:EET
DTSTART:20251026T010000
END:STANDARD
BEGIN:DAYLIGHT
TZOFFSETFROM:+0200
TZOFFSETTO:+0300
TZNAME:EEST
DTSTART:20260329T010000
END:DAYLIGHT
BEGIN:STANDARD
TZOFFSETFROM:+0300
TZOFFSETTO:+0200
TZNAME:EET
DTSTART:20261025T010000
END:STANDARD
END:VTIMEZONE
BEGIN:VEVENT
DTSTART;TZID=Europe/Bucharest:20250626T100000
DTEND;TZID=Europe/Bucharest:20250626T200000
DTSTAMP:20260424T231823
CREATED:20250625T092312Z
LAST-MODIFIED:20250625T092312Z
UID:10007523-1750932000-1750968000@craiovalive.ro
SUMMARY:Summer Bizarre Bazaar & Co
DESCRIPTION:Bizarre Bazaar & Co. se întoarce!\nȘtim\, v-a fost dor. Și nouă! Așa că revenim cu vechiul nume\, dar cu chef nou: Bizarre Bazaar & Co.\, varianta de vară\, își deschide porțile în Piața Mihai Viteazu\, la fântână\, în perioada 26 – 29 iunie! \nCraioveni\, turisti\, fani IntenCity\, iubitori de bazaruri bizare sau de plimbări printre tarabe cu povești – vă așteptăm înainte de dansul pe stadion sau Sala Polivalentă\, să treceți pe la noi pentru o doză de culoare\, creativitate\, o ciocolată dulce artizanală și chiar o scenă și un microfon pentru a deveni voi înșivă artiști  \nCe găsiți la Bizarre Bazaar & Co.? Artizani locali și din toată țara Producători de cosmetice naturale (fără parabeni\, dar cu multă iubire) Dulciuri de casă ca la bunica\, dar ambalate modern Colecționari de antichități cu povești vintage Micii antreprenori ai orașului care își scot la vânzare jucăriile și cărțile pentru a-și finanța noile pasiuni\nȘi pentru că nu-i bazar fără distracție: În fiecare zi\, după ora 16:00\, avem ateliere creative: pictură cu nisip sau culori pe tot ce prindem (figurine din ipsos si lemn\, mingi gonflabile pentru vacanța la mare\, săculeți\, sacoșe\, penare din material textil\, oameni…)\, semne de carte din lemn\, moriști de vânt și chiar facepainting!\n Iar vineri și sâmbătă\, de la 19:00\, vă așteptăm la Talent Corner – scena unde tot ce contează e curajul și pofta de joacă.Cânți la frunză? Reciti Luceafărul pe limba întoarsă? Știi să numeri din 3 în 3 până la 1 milion? Hai la noi\, microfonul e al vostru! Promitem aplauze\, zâmbete și urechi pâlnie \n Pentru înscrieri la Talent Corner și la Yard Sale-ul pentru copii\, sunați cu încredere la 0720.880.482!\nNe vedem între 26 și 29 iunie\, în Piata Mihai Viteazu\, la fântână! Noi aducem atmosfera. Voi aduceți zâmbetele. Și pofta de povești! 
URL:https://craiovalive.ro/eveniment/summer-bizarre-bazaar-co/2025-06-26/
LOCATION:Piața Mihai Viteazul\, Craiova\, Dolj\, România
CATEGORIES:Târguri
ATTACH;FMTTYPE=image/jpeg:https://craiovalive.ro/wp-content/uploads/2025/06/Summer-Bizarre-Bazaar-Co.jpg
GEO:44.31805;23.79493
END:VEVENT
BEGIN:VEVENT
DTSTART;TZID=Europe/Bucharest:20250627T100000
DTEND;TZID=Europe/Bucharest:20250627T200000
DTSTAMP:20260424T231823
CREATED:20250625T092312Z
LAST-MODIFIED:20250625T092312Z
UID:10007524-1751018400-1751054400@craiovalive.ro
SUMMARY:Summer Bizarre Bazaar & Co
DESCRIPTION:Bizarre Bazaar & Co. se întoarce!\nȘtim\, v-a fost dor. Și nouă! Așa că revenim cu vechiul nume\, dar cu chef nou: Bizarre Bazaar & Co.\, varianta de vară\, își deschide porțile în Piața Mihai Viteazu\, la fântână\, în perioada 26 – 29 iunie! \nCraioveni\, turisti\, fani IntenCity\, iubitori de bazaruri bizare sau de plimbări printre tarabe cu povești – vă așteptăm înainte de dansul pe stadion sau Sala Polivalentă\, să treceți pe la noi pentru o doză de culoare\, creativitate\, o ciocolată dulce artizanală și chiar o scenă și un microfon pentru a deveni voi înșivă artiști  \nCe găsiți la Bizarre Bazaar & Co.? Artizani locali și din toată țara Producători de cosmetice naturale (fără parabeni\, dar cu multă iubire) Dulciuri de casă ca la bunica\, dar ambalate modern Colecționari de antichități cu povești vintage Micii antreprenori ai orașului care își scot la vânzare jucăriile și cărțile pentru a-și finanța noile pasiuni\nȘi pentru că nu-i bazar fără distracție: În fiecare zi\, după ora 16:00\, avem ateliere creative: pictură cu nisip sau culori pe tot ce prindem (figurine din ipsos si lemn\, mingi gonflabile pentru vacanța la mare\, săculeți\, sacoșe\, penare din material textil\, oameni…)\, semne de carte din lemn\, moriști de vânt și chiar facepainting!\n Iar vineri și sâmbătă\, de la 19:00\, vă așteptăm la Talent Corner – scena unde tot ce contează e curajul și pofta de joacă.Cânți la frunză? Reciti Luceafărul pe limba întoarsă? Știi să numeri din 3 în 3 până la 1 milion? Hai la noi\, microfonul e al vostru! Promitem aplauze\, zâmbete și urechi pâlnie \n Pentru înscrieri la Talent Corner și la Yard Sale-ul pentru copii\, sunați cu încredere la 0720.880.482!\nNe vedem între 26 și 29 iunie\, în Piata Mihai Viteazu\, la fântână! Noi aducem atmosfera. Voi aduceți zâmbetele. Și pofta de povești! 
URL:https://craiovalive.ro/eveniment/summer-bizarre-bazaar-co/2025-06-27/
LOCATION:Piața Mihai Viteazul\, Craiova\, Dolj\, România
CATEGORIES:Târguri
ATTACH;FMTTYPE=image/jpeg:https://craiovalive.ro/wp-content/uploads/2025/06/Summer-Bizarre-Bazaar-Co.jpg
GEO:44.31805;23.79493
END:VEVENT
BEGIN:VEVENT
DTSTART;TZID=Europe/Bucharest:20250628T100000
DTEND;TZID=Europe/Bucharest:20250628T200000
DTSTAMP:20260424T231823
CREATED:20250625T092312Z
LAST-MODIFIED:20250625T092312Z
UID:10007525-1751104800-1751140800@craiovalive.ro
SUMMARY:Summer Bizarre Bazaar & Co
DESCRIPTION:Bizarre Bazaar & Co. se întoarce!\nȘtim\, v-a fost dor. Și nouă! Așa că revenim cu vechiul nume\, dar cu chef nou: Bizarre Bazaar & Co.\, varianta de vară\, își deschide porțile în Piața Mihai Viteazu\, la fântână\, în perioada 26 – 29 iunie! \nCraioveni\, turisti\, fani IntenCity\, iubitori de bazaruri bizare sau de plimbări printre tarabe cu povești – vă așteptăm înainte de dansul pe stadion sau Sala Polivalentă\, să treceți pe la noi pentru o doză de culoare\, creativitate\, o ciocolată dulce artizanală și chiar o scenă și un microfon pentru a deveni voi înșivă artiști  \nCe găsiți la Bizarre Bazaar & Co.? Artizani locali și din toată țara Producători de cosmetice naturale (fără parabeni\, dar cu multă iubire) Dulciuri de casă ca la bunica\, dar ambalate modern Colecționari de antichități cu povești vintage Micii antreprenori ai orașului care își scot la vânzare jucăriile și cărțile pentru a-și finanța noile pasiuni\nȘi pentru că nu-i bazar fără distracție: În fiecare zi\, după ora 16:00\, avem ateliere creative: pictură cu nisip sau culori pe tot ce prindem (figurine din ipsos si lemn\, mingi gonflabile pentru vacanța la mare\, săculeți\, sacoșe\, penare din material textil\, oameni…)\, semne de carte din lemn\, moriști de vânt și chiar facepainting!\n Iar vineri și sâmbătă\, de la 19:00\, vă așteptăm la Talent Corner – scena unde tot ce contează e curajul și pofta de joacă.Cânți la frunză? Reciti Luceafărul pe limba întoarsă? Știi să numeri din 3 în 3 până la 1 milion? Hai la noi\, microfonul e al vostru! Promitem aplauze\, zâmbete și urechi pâlnie \n Pentru înscrieri la Talent Corner și la Yard Sale-ul pentru copii\, sunați cu încredere la 0720.880.482!\nNe vedem între 26 și 29 iunie\, în Piata Mihai Viteazu\, la fântână! Noi aducem atmosfera. Voi aduceți zâmbetele. Și pofta de povești! 
URL:https://craiovalive.ro/eveniment/summer-bizarre-bazaar-co/2025-06-28/
LOCATION:Piața Mihai Viteazul\, Craiova\, Dolj\, România
CATEGORIES:Târguri
ATTACH;FMTTYPE=image/jpeg:https://craiovalive.ro/wp-content/uploads/2025/06/Summer-Bizarre-Bazaar-Co.jpg
GEO:44.31805;23.79493
END:VEVENT
BEGIN:VEVENT
DTSTART;TZID=Europe/Bucharest:20250629T100000
DTEND;TZID=Europe/Bucharest:20250629T200000
DTSTAMP:20260424T231823
CREATED:20250625T092312Z
LAST-MODIFIED:20250625T092312Z
UID:10007526-1751191200-1751227200@craiovalive.ro
SUMMARY:Summer Bizarre Bazaar & Co
DESCRIPTION:Bizarre Bazaar & Co. se întoarce!\nȘtim\, v-a fost dor. Și nouă! Așa că revenim cu vechiul nume\, dar cu chef nou: Bizarre Bazaar & Co.\, varianta de vară\, își deschide porțile în Piața Mihai Viteazu\, la fântână\, în perioada 26 – 29 iunie! \nCraioveni\, turisti\, fani IntenCity\, iubitori de bazaruri bizare sau de plimbări printre tarabe cu povești – vă așteptăm înainte de dansul pe stadion sau Sala Polivalentă\, să treceți pe la noi pentru o doză de culoare\, creativitate\, o ciocolată dulce artizanală și chiar o scenă și un microfon pentru a deveni voi înșivă artiști  \nCe găsiți la Bizarre Bazaar & Co.? Artizani locali și din toată țara Producători de cosmetice naturale (fără parabeni\, dar cu multă iubire) Dulciuri de casă ca la bunica\, dar ambalate modern Colecționari de antichități cu povești vintage Micii antreprenori ai orașului care își scot la vânzare jucăriile și cărțile pentru a-și finanța noile pasiuni\nȘi pentru că nu-i bazar fără distracție: În fiecare zi\, după ora 16:00\, avem ateliere creative: pictură cu nisip sau culori pe tot ce prindem (figurine din ipsos si lemn\, mingi gonflabile pentru vacanța la mare\, săculeți\, sacoșe\, penare din material textil\, oameni…)\, semne de carte din lemn\, moriști de vânt și chiar facepainting!\n Iar vineri și sâmbătă\, de la 19:00\, vă așteptăm la Talent Corner – scena unde tot ce contează e curajul și pofta de joacă.Cânți la frunză? Reciti Luceafărul pe limba întoarsă? Știi să numeri din 3 în 3 până la 1 milion? Hai la noi\, microfonul e al vostru! Promitem aplauze\, zâmbete și urechi pâlnie \n Pentru înscrieri la Talent Corner și la Yard Sale-ul pentru copii\, sunați cu încredere la 0720.880.482!\nNe vedem între 26 și 29 iunie\, în Piata Mihai Viteazu\, la fântână! Noi aducem atmosfera. Voi aduceți zâmbetele. Și pofta de povești! 
URL:https://craiovalive.ro/eveniment/summer-bizarre-bazaar-co/2025-06-29/
LOCATION:Piața Mihai Viteazul\, Craiova\, Dolj\, România
CATEGORIES:Târguri
ATTACH;FMTTYPE=image/jpeg:https://craiovalive.ro/wp-content/uploads/2025/06/Summer-Bizarre-Bazaar-Co.jpg
GEO:44.31805;23.79493
END:VEVENT
END:VCALENDAR