BEGIN:VCALENDAR
VERSION:2.0
PRODID:-//Craiova Live - ECPv6.15.18//NONSGML v1.0//EN
CALSCALE:GREGORIAN
METHOD:PUBLISH
X-ORIGINAL-URL:https://craiovalive.ro
X-WR-CALDESC:Evenimente pentru Craiova Live
REFRESH-INTERVAL;VALUE=DURATION:PT1H
X-Robots-Tag:noindex
X-PUBLISHED-TTL:PT1H
BEGIN:VTIMEZONE
TZID:Europe/Bucharest
BEGIN:DAYLIGHT
TZOFFSETFROM:+0200
TZOFFSETTO:+0300
TZNAME:EEST
DTSTART:20240331T010000
END:DAYLIGHT
BEGIN:STANDARD
TZOFFSETFROM:+0300
TZOFFSETTO:+0200
TZNAME:EET
DTSTART:20241027T010000
END:STANDARD
BEGIN:DAYLIGHT
TZOFFSETFROM:+0200
TZOFFSETTO:+0300
TZNAME:EEST
DTSTART:20250330T010000
END:DAYLIGHT
BEGIN:STANDARD
TZOFFSETFROM:+0300
TZOFFSETTO:+0200
TZNAME:EET
DTSTART:20251026T010000
END:STANDARD
BEGIN:DAYLIGHT
TZOFFSETFROM:+0200
TZOFFSETTO:+0300
TZNAME:EEST
DTSTART:20260329T010000
END:DAYLIGHT
BEGIN:STANDARD
TZOFFSETFROM:+0300
TZOFFSETTO:+0200
TZNAME:EET
DTSTART:20261025T010000
END:STANDARD
END:VTIMEZONE
BEGIN:VEVENT
DTSTART;TZID=Europe/Bucharest:20250611T100000
DTEND;TZID=Europe/Bucharest:20250611T160000
DTSTAMP:20260425T034425
CREATED:20250610T081242Z
LAST-MODIFIED:20250610T081242Z
UID:10006988-1749636000-1749657600@craiovalive.ro
SUMMARY:Zilele Porților Deschise @Universitatea din Craiova
DESCRIPTION:Universitatea din Craiova\, prin Centrul de Consiliere și Orientare în Carieră organizează\, în zilele de 11 și 12 iunie 2025\, ZILELE PORȚILOR DESCHISE (ZPD 2025).Evenimentul are ca scop prezentarea și promovarea ofertei educaționale a fiecărei facultăți din structura Universității din Craiova\, pentru anul universitar 2025-2026.
URL:https://craiovalive.ro/eveniment/zilele-portilor-deschise-universitatea-din-craiova/2025-06-11/
LOCATION:Universitatea din Craiova\, Str. A. I. Cuza\, nr. 13\, Craiova\, Dolj\, România
CATEGORIES:Târguri
ATTACH;FMTTYPE=image/jpeg:https://craiovalive.ro/wp-content/uploads/2025/06/Zilele-Portilor-Deschise-@Universitatea-din-Craiova.jpg
ORGANIZER;CN="Universitatea din Craiova":MAILTO:rectorat@central.ucv.ro
GEO:44.3190838;23.8008038
X-APPLE-STRUCTURED-LOCATION;VALUE=URI;X-ADDRESS=Universitatea din Craiova Str. A. I. Cuza nr. 13 Craiova Dolj România;X-APPLE-RADIUS=500;X-TITLE=Str. A. I. Cuza\, nr. 13:geo:23.8008038,44.3190838
END:VEVENT
BEGIN:VEVENT
DTSTART;TZID=Europe/Bucharest:20250612T100000
DTEND;TZID=Europe/Bucharest:20250612T160000
DTSTAMP:20260425T034425
CREATED:20250610T081242Z
LAST-MODIFIED:20250610T081242Z
UID:10006989-1749722400-1749744000@craiovalive.ro
SUMMARY:Zilele Porților Deschise @Universitatea din Craiova
DESCRIPTION:Universitatea din Craiova\, prin Centrul de Consiliere și Orientare în Carieră organizează\, în zilele de 11 și 12 iunie 2025\, ZILELE PORȚILOR DESCHISE (ZPD 2025).Evenimentul are ca scop prezentarea și promovarea ofertei educaționale a fiecărei facultăți din structura Universității din Craiova\, pentru anul universitar 2025-2026.
URL:https://craiovalive.ro/eveniment/zilele-portilor-deschise-universitatea-din-craiova/2025-06-12/
LOCATION:Universitatea din Craiova\, Str. A. I. Cuza\, nr. 13\, Craiova\, Dolj\, România
CATEGORIES:Târguri
ATTACH;FMTTYPE=image/jpeg:https://craiovalive.ro/wp-content/uploads/2025/06/Zilele-Portilor-Deschise-@Universitatea-din-Craiova.jpg
ORGANIZER;CN="Universitatea din Craiova":MAILTO:rectorat@central.ucv.ro
GEO:44.3190838;23.8008038
X-APPLE-STRUCTURED-LOCATION;VALUE=URI;X-ADDRESS=Universitatea din Craiova Str. A. I. Cuza nr. 13 Craiova Dolj România;X-APPLE-RADIUS=500;X-TITLE=Str. A. I. Cuza\, nr. 13:geo:23.8008038,44.3190838
END:VEVENT
END:VCALENDAR