BEGIN:VCALENDAR
VERSION:2.0
PRODID:-//Craiova Live - ECPv6.15.18//NONSGML v1.0//EN
CALSCALE:GREGORIAN
METHOD:PUBLISH
X-WR-CALNAME:Craiova Live
X-ORIGINAL-URL:https://craiovalive.ro
X-WR-CALDESC:Evenimente pentru Craiova Live
REFRESH-INTERVAL;VALUE=DURATION:PT1H
X-Robots-Tag:noindex
X-PUBLISHED-TTL:PT1H
BEGIN:VTIMEZONE
TZID:Europe/Bucharest
BEGIN:DAYLIGHT
TZOFFSETFROM:+0200
TZOFFSETTO:+0300
TZNAME:EEST
DTSTART:20250330T010000
END:DAYLIGHT
BEGIN:STANDARD
TZOFFSETFROM:+0300
TZOFFSETTO:+0200
TZNAME:EET
DTSTART:20251026T010000
END:STANDARD
BEGIN:DAYLIGHT
TZOFFSETFROM:+0200
TZOFFSETTO:+0300
TZNAME:EEST
DTSTART:20260329T010000
END:DAYLIGHT
BEGIN:STANDARD
TZOFFSETFROM:+0300
TZOFFSETTO:+0200
TZNAME:EET
DTSTART:20261025T010000
END:STANDARD
BEGIN:DAYLIGHT
TZOFFSETFROM:+0200
TZOFFSETTO:+0300
TZNAME:EEST
DTSTART:20270328T010000
END:DAYLIGHT
BEGIN:STANDARD
TZOFFSETFROM:+0300
TZOFFSETTO:+0200
TZNAME:EET
DTSTART:20271031T010000
END:STANDARD
END:VTIMEZONE
BEGIN:VEVENT
DTSTART;TZID=Europe/Bucharest:20260416T180000
DTEND;TZID=Europe/Bucharest:20260416T200000
DTSTAMP:20260424T015142
CREATED:20260413T131015Z
LAST-MODIFIED:20260413T131015Z
UID:10014533-1776362400-1776369600@craiovalive.ro
SUMMARY:Umorul se întoarce
DESCRIPTION: UMORUL SE ÎNTOARCE! Pregătește-te pentru o seară explozivă de râs\, voie bună și umor autentic oltenesc!  16 aprilie 2026 Ora 18:00 Casa Studenților Craiova Invitați de excepție: Țociu și Palade Grupul Vouă Cristi Manolescu Jeni Nicolau Emil Rădinoiu aka Vecinul Mitică Mihai Eugen aka Piticu’ Ducu Mogoșeanu Umor de Firmă cu Sava și Păunescu Caricaturistul Marian Avramescu + invitați speciali din grupurile Pro Parodia\, Mesaj\, Dan Șalapa\, Valu Varan\, Grupul Bis\, Cristi Nedelcu Bilet: 54 lei Vino să te bucuri de un spectacol complet\, plin de glume savuroase\, momente memorabile și energie pozitivă! Nu rata ocazia de a râde pe săturate alături de cei mai îndrăgiți artiști ai umorului românesc! Dă tag prietenilor cu care vii la show!
URL:https://craiovalive.ro/eveniment/umorul-se-intoarce/
LOCATION:Casa de Cultură a Studenților Craiova\, Str. Eugeniu Carada\, nr. 10\, Craiova\, Dolj\, 200390\, România
CATEGORIES:Stand up
ATTACH;FMTTYPE=image/jpeg:https://craiovalive.ro/wp-content/uploads/2026/04/Umorul-se-intoarce.jpg
GEO:44.3158109;23.8003284
X-APPLE-STRUCTURED-LOCATION;VALUE=URI;X-ADDRESS=Casa de Cultură a Studenților Craiova Str. Eugeniu Carada nr. 10 Craiova Dolj 200390 România;X-APPLE-RADIUS=500;X-TITLE=Str. Eugeniu Carada\, nr. 10:geo:23.8003284,44.3158109
END:VEVENT
END:VCALENDAR