BEGIN:VCALENDAR
VERSION:2.0
PRODID:-//Craiova Live - ECPv6.15.18//NONSGML v1.0//EN
CALSCALE:GREGORIAN
METHOD:PUBLISH
X-WR-CALNAME:Craiova Live
X-ORIGINAL-URL:https://craiovalive.ro
X-WR-CALDESC:Evenimente pentru Craiova Live
REFRESH-INTERVAL;VALUE=DURATION:PT1H
X-Robots-Tag:noindex
X-PUBLISHED-TTL:PT1H
BEGIN:VTIMEZONE
TZID:Europe/Bucharest
BEGIN:DAYLIGHT
TZOFFSETFROM:+0200
TZOFFSETTO:+0300
TZNAME:EEST
DTSTART:20250330T010000
END:DAYLIGHT
BEGIN:STANDARD
TZOFFSETFROM:+0300
TZOFFSETTO:+0200
TZNAME:EET
DTSTART:20251026T010000
END:STANDARD
BEGIN:DAYLIGHT
TZOFFSETFROM:+0200
TZOFFSETTO:+0300
TZNAME:EEST
DTSTART:20260329T010000
END:DAYLIGHT
BEGIN:STANDARD
TZOFFSETFROM:+0300
TZOFFSETTO:+0200
TZNAME:EET
DTSTART:20261025T010000
END:STANDARD
BEGIN:DAYLIGHT
TZOFFSETFROM:+0200
TZOFFSETTO:+0300
TZNAME:EEST
DTSTART:20270328T010000
END:DAYLIGHT
BEGIN:STANDARD
TZOFFSETFROM:+0300
TZOFFSETTO:+0200
TZNAME:EET
DTSTART:20271031T010000
END:STANDARD
END:VTIMEZONE
BEGIN:VEVENT
DTSTART;TZID=Europe/Bucharest:20260225T203000
DTEND;TZID=Europe/Bucharest:20260225T220000
DTSTAMP:20260424T072354
CREATED:20260208T101714Z
LAST-MODIFIED:20260208T101714Z
UID:10013038-1772051400-1772056800@craiovalive.ro
SUMMARY:Un Show de Primă Clasă - Stand-up Comedy cu Beniamin Vatavu\, George Mesaroș și Traian Dobra
DESCRIPTION:Craiova: Un Show de Primă Clasă – Stand-up Comedy cu Beniamin Vatavu\, George Mesaroș și Traian Dobra\nEnoteca Social Bar\, Craiova\nCalea București\nmiercuri\, 25 februarie\, ora 20:30 acces de la 20:00\nDeși am copilărit diferit\, ne-au enervat aceleași lucruri.\nNe-au marcat copilăria tăierea porcului\, desenele animate în maghiară și curățenia de sărbători. Am pus cele mai jenante amintiri într-un catalog\, că să vă dăm teme de râs\, de gândire\, dar nu de casă.\nFie că te-a cucerit Traian la iUmor\, te-a rupt Beni când l-ai vazut la The Mic sau poate chiar ai văzut special-ul lui George\, dacă i-ai auzit măcar o dată\, atunci știi că nu ai cum să pleci de la show fără să râzi. \nIar dacă prietenii tăi n-au auzit niciodată de ei\, e momentul să-i aduci la show și să le demonstrezi ce gusturi bune ai!
URL:https://craiovalive.ro/eveniment/un-show-de-prima-clasa-stand-up-comedy-cu-beniamin-vatavu-george-mesaros-si-traian-dobra/
LOCATION:Dolj
CATEGORIES:Stand up
ATTACH;FMTTYPE=image/webp:https://craiovalive.ro/wp-content/uploads/2026/02/Un-Show-de-Prima-Clasa-Stand-up-Comedy-cu-Beniamin-Vatavu-George-Mesaros-si-Traian-Dobra.webp
END:VEVENT
END:VCALENDAR