BEGIN:VCALENDAR
VERSION:2.0
PRODID:-//Craiova Live - ECPv6.15.18//NONSGML v1.0//EN
CALSCALE:GREGORIAN
METHOD:PUBLISH
X-ORIGINAL-URL:https://craiovalive.ro
X-WR-CALDESC:Evenimente pentru Craiova Live
REFRESH-INTERVAL;VALUE=DURATION:PT1H
X-Robots-Tag:noindex
X-PUBLISHED-TTL:PT1H
BEGIN:VTIMEZONE
TZID:Europe/Bucharest
BEGIN:DAYLIGHT
TZOFFSETFROM:+0200
TZOFFSETTO:+0300
TZNAME:EEST
DTSTART:20240331T010000
END:DAYLIGHT
BEGIN:STANDARD
TZOFFSETFROM:+0300
TZOFFSETTO:+0200
TZNAME:EET
DTSTART:20241027T010000
END:STANDARD
BEGIN:DAYLIGHT
TZOFFSETFROM:+0200
TZOFFSETTO:+0300
TZNAME:EEST
DTSTART:20250330T010000
END:DAYLIGHT
BEGIN:STANDARD
TZOFFSETFROM:+0300
TZOFFSETTO:+0200
TZNAME:EET
DTSTART:20251026T010000
END:STANDARD
BEGIN:DAYLIGHT
TZOFFSETFROM:+0200
TZOFFSETTO:+0300
TZNAME:EEST
DTSTART:20260329T010000
END:DAYLIGHT
BEGIN:STANDARD
TZOFFSETFROM:+0300
TZOFFSETTO:+0200
TZNAME:EET
DTSTART:20261025T010000
END:STANDARD
END:VTIMEZONE
BEGIN:VEVENT
DTSTART;TZID=Europe/Bucharest:20251220T200000
DTEND;TZID=Europe/Bucharest:20251220T213000
DTSTAMP:20260424T173919
CREATED:20251208T133610Z
LAST-MODIFIED:20251208T133610Z
UID:10012621-1766260800-1766266200@craiovalive.ro
SUMMARY:„Nu mai suntem o FAMILIE?!” Show nostalgic de stand-up cu Nae Nicolae
DESCRIPTION:Craiova: „Nu mai suntem o FAMILIE?!” Show nostalgic de stand-up cu Nae Nicolae\nRibs HOUSE\, Craiova\nStrada Basarabia 21c\, Craiova 200212\nsâmbătă\, 20 decembrie\, ora 20:00 \nÎn prag de despărțire națională\, Nae se întreabă care-i faza cu voi. Oare „Nu mai suntem o familie?!” \nRomânia se împarte în două:\n⦁ unii votează\, alții blochează.\n⦁ unii țipă\, alții dau cu seen. \nDar măcar putem râde împreună… sau separat\, dar în aceeași sală. \nÎntr-o țară în care fiecare masă de familie sau secție de vot seamănă cu o ceartă din cuplu\, Nae Nicolae aduce pe scenă stand-upul sincer despre relații toxice – de cuplu\, de familie\, de Facebook sau de partid. \nGlume despre: \ndespărțiri\, \nceartă pasiv-agresivă și \niubirea aia care începe cu „hai să vorbim” și se termină cu „DE CÂND?!” \nDacă nu te-ai certat cu cineva săptămâna asta\, ori ești fericit\, ori ești în bula greșită. \nIa-ți bilet. Poate nu ne mai înțelegem ca popor\, dar măcar ne râdem nervii împreună. \nNe vedem sâmbătă\, pe 20 decembrie\, de la 20:00\, la The Ribs House. \nBiletele se găsesc in format electronic pe www.iabilet.ro și la The Ribs House\, Strada Basarabia\, Nr. 21c\, Craiova.
URL:https://craiovalive.ro/eveniment/nu-mai-suntem-o-familie-show-nostalgic-de-stand-up-cu-nae-nicolae/
LOCATION:Dolj
CATEGORIES:Stand up
ATTACH;FMTTYPE=image/png:https://craiovalive.ro/wp-content/uploads/2025/12/Nu-mai-suntem-o-FAMILIE-Show-nostalgic-de-stand-up-cu-Nae-Nicolae.png
END:VEVENT
END:VCALENDAR