BEGIN:VCALENDAR
VERSION:2.0
PRODID:-//Craiova Live - ECPv6.15.18//NONSGML v1.0//EN
CALSCALE:GREGORIAN
METHOD:PUBLISH
X-ORIGINAL-URL:https://craiovalive.ro
X-WR-CALDESC:Evenimente pentru Craiova Live
REFRESH-INTERVAL;VALUE=DURATION:PT1H
X-Robots-Tag:noindex
X-PUBLISHED-TTL:PT1H
BEGIN:VTIMEZONE
TZID:Europe/Bucharest
BEGIN:DAYLIGHT
TZOFFSETFROM:+0200
TZOFFSETTO:+0300
TZNAME:EEST
DTSTART:20240331T010000
END:DAYLIGHT
BEGIN:STANDARD
TZOFFSETFROM:+0300
TZOFFSETTO:+0200
TZNAME:EET
DTSTART:20241027T010000
END:STANDARD
BEGIN:DAYLIGHT
TZOFFSETFROM:+0200
TZOFFSETTO:+0300
TZNAME:EEST
DTSTART:20250330T010000
END:DAYLIGHT
BEGIN:STANDARD
TZOFFSETFROM:+0300
TZOFFSETTO:+0200
TZNAME:EET
DTSTART:20251026T010000
END:STANDARD
BEGIN:DAYLIGHT
TZOFFSETFROM:+0200
TZOFFSETTO:+0300
TZNAME:EEST
DTSTART:20260329T010000
END:DAYLIGHT
BEGIN:STANDARD
TZOFFSETFROM:+0300
TZOFFSETTO:+0200
TZNAME:EET
DTSTART:20261025T010000
END:STANDARD
END:VTIMEZONE
BEGIN:VEVENT
DTSTART;TZID=Europe/Bucharest:20250516T190000
DTEND;TZID=Europe/Bucharest:20250516T203000
DTSTAMP:20260425T055428
CREATED:20250321T195630Z
LAST-MODIFIED:20250321T195630Z
UID:10005998-1747422000-1747427400@craiovalive.ro
SUMMARY:Vio - Rupt în Tour | Stand Up Comedy Show
DESCRIPTION:🎙𝗖𝗿𝗮𝗶𝗼𝘃𝗮 | 𝐕𝐢𝐨 | 𝐑𝐮𝐩𝐭 𝐢𝐧 𝐓𝐨𝐮𝐫 – 𝐒𝐭𝐚𝐧𝐝-𝐮𝐩 𝐂𝐨𝐦𝐞𝐝𝐲🎙\n🔥Abandonat de Teo și Costel\, mafiotul stand-up-ului\, Don Vio\, își ia viața în propriile mâini și pleacă în turneu solo prin țară!\nPe 16 Mai de la ora 19.00\, ne vedem la Cineplexx cu un super Show de Stand-up Comedy alături de Vio!\n🎟 Bilete disponibile pe artitude.iaBilet.ro\n🏦 Locație: Cineplexx\, Craiova
URL:https://craiovalive.ro/eveniment/vio-rupt-in-tour-stand-up-comedy-show/
LOCATION:Dolj
CATEGORIES:Stand up
ATTACH;FMTTYPE=image/jpeg:https://craiovalive.ro/wp-content/uploads/2025/03/Vio-Rupt-in-Tour-Stand-Up-Comedy-Show.jpg
END:VEVENT
END:VCALENDAR