BEGIN:VCALENDAR
VERSION:2.0
PRODID:-//Craiova Live - ECPv6.15.18//NONSGML v1.0//EN
CALSCALE:GREGORIAN
METHOD:PUBLISH
X-ORIGINAL-URL:https://craiovalive.ro
X-WR-CALDESC:Evenimente pentru Craiova Live
REFRESH-INTERVAL;VALUE=DURATION:PT1H
X-Robots-Tag:noindex
X-PUBLISHED-TTL:PT1H
BEGIN:VTIMEZONE
TZID:Europe/Bucharest
BEGIN:DAYLIGHT
TZOFFSETFROM:+0200
TZOFFSETTO:+0300
TZNAME:EEST
DTSTART:20240331T010000
END:DAYLIGHT
BEGIN:STANDARD
TZOFFSETFROM:+0300
TZOFFSETTO:+0200
TZNAME:EET
DTSTART:20241027T010000
END:STANDARD
BEGIN:DAYLIGHT
TZOFFSETFROM:+0200
TZOFFSETTO:+0300
TZNAME:EEST
DTSTART:20250330T010000
END:DAYLIGHT
BEGIN:STANDARD
TZOFFSETFROM:+0300
TZOFFSETTO:+0200
TZNAME:EET
DTSTART:20251026T010000
END:STANDARD
BEGIN:DAYLIGHT
TZOFFSETFROM:+0200
TZOFFSETTO:+0300
TZNAME:EEST
DTSTART:20260329T010000
END:DAYLIGHT
BEGIN:STANDARD
TZOFFSETFROM:+0300
TZOFFSETTO:+0200
TZNAME:EET
DTSTART:20261025T010000
END:STANDARD
END:VTIMEZONE
BEGIN:VEVENT
DTSTART;TZID=Europe/Bucharest:20251017T213000
DTEND;TZID=Europe/Bucharest:20251017T230000
DTSTAMP:20260424T083220
CREATED:20250730T152956Z
LAST-MODIFIED:20250919T071832Z
UID:10007798-1760736600-1760742000@craiovalive.ro
SUMMARY:Stand-up Comedy cu Anisia Gafton\, Serghei\, Nonic și Opreanu - „Mrs & Mr 007” (Late Show)
DESCRIPTION:Pregătește-te pentru o misiune de comedie explozivă: „Mrs & Mr 007”! \nAnisia Gafton și Serghei\, „agenții secreți” ai umorului românesc\, sunt headlinerii serii\, gata să te dezarmeze cu glume tăioase și o chimie contagioasă.\nLi se alătură Bogdan Nonic\, cu stilul său unic\, și Vlad Oprea\, care va deschide seara cu energia sa proaspătă. Inspirat de eleganța spionilor\, acest turneu aduce pe scenă umor inteligent și o atmosferă de acțiune.
URL:https://craiovalive.ro/eveniment/stand-up-comedy-cu-anisia-gafton-serghei-nonic-si-opreanu-mrs-mr-007/
LOCATION:Enoteca Social Bar\, Calea Bucuresti 78a\, Cladire de birouri Electroputere Parc\, Craiova\, Dolj\, România
CATEGORIES:Stand up
ATTACH;FMTTYPE=image/png:https://craiovalive.ro/wp-content/uploads/2025/07/Stand-up-Comedy-cu-Anisia-Gafton-Serghei-Nonic-si-Opreanu-„Mrs-Mr-007.png
GEO:44.313600215854;23.828352709902
X-APPLE-STRUCTURED-LOCATION;VALUE=URI;X-ADDRESS=Enoteca Social Bar Calea Bucuresti 78a Cladire de birouri Electroputere Parc Craiova Dolj România;X-APPLE-RADIUS=500;X-TITLE=Calea Bucuresti 78a\, Cladire de birouri Electroputere Parc:geo:23.828352709902,44.313600215854
END:VEVENT
BEGIN:VEVENT
DTSTART;TZID=Europe/Bucharest:20251017T180000
DTEND;TZID=Europe/Bucharest:20251017T193000
DTSTAMP:20260424T083220
CREATED:20250919T071951Z
LAST-MODIFIED:20250919T071951Z
UID:10010225-1760724000-1760729400@craiovalive.ro
SUMMARY:Stand-up Comedy cu Anisia Gafton\, Serghei\, Nonic și Opreanu - „Mrs & Mr 007” (Early Show)
DESCRIPTION:Pregătește-te pentru o misiune de comedie explozivă: „Mrs & Mr 007”! \nAnisia Gafton și Serghei\, „agenții secreți” ai umorului românesc\, sunt headlinerii serii\, gata să te dezarmeze cu glume tăioase și o chimie contagioasă.\nLi se alătură Bogdan Nonic\, cu stilul său unic\, și Vlad Oprea\, care va deschide seara cu energia sa proaspătă. Inspirat de eleganța spionilor\, acest turneu aduce pe scenă umor inteligent și o atmosferă de acțiune.
URL:https://craiovalive.ro/eveniment/stand-up-comedy-cu-anisia-gafton-serghei-nonic-si-opreanu-mrs-mr-007-early-show/
LOCATION:Enoteca Social Bar\, Calea Bucuresti 78a\, Cladire de birouri Electroputere Parc\, Craiova\, Dolj\, România
CATEGORIES:Stand up
ATTACH;FMTTYPE=image/png:https://craiovalive.ro/wp-content/uploads/2025/07/Stand-up-Comedy-cu-Anisia-Gafton-Serghei-Nonic-si-Opreanu-„Mrs-Mr-007.png
GEO:44.313600215854;23.828352709902
X-APPLE-STRUCTURED-LOCATION;VALUE=URI;X-ADDRESS=Enoteca Social Bar Calea Bucuresti 78a Cladire de birouri Electroputere Parc Craiova Dolj România;X-APPLE-RADIUS=500;X-TITLE=Calea Bucuresti 78a\, Cladire de birouri Electroputere Parc:geo:23.828352709902,44.313600215854
END:VEVENT
BEGIN:VEVENT
DTSTART;TZID=Europe/Bucharest:20251016T180000
DTEND;TZID=Europe/Bucharest:20251016T193000
DTSTAMP:20260424T083220
CREATED:20250901T071409Z
LAST-MODIFIED:20250901T071409Z
UID:10007965-1760637600-1760643000@craiovalive.ro
SUMMARY:Stand-up Comedy cu Sorin Pârcălab\, Toma și Cristi Popesco | Parțial adevărat
DESCRIPTION:Îi știi de la televizor\, de pe YouTube sau de la ComedyBox. I-ai văzut în Una Scurtă\, Râzi ca Prostu’ sau te-ai uitat la podcastul Ceva Mărunt\, iar acum poți să-i vezi LIVE! \nSorin Pârcălab\, Cristi Popesco și Toma pleacă toamna asta în turneu cu material nou\, glume noi și povești care te vor face să râzi în hohote! \nHai să-i vezi și tu în cel mai nou show al lor: Parțial Adevărat! \n Locurile sunt limitate\, așa că ia-ți biletele din timp și asigură-ți locul la cel mai așteptat show de Stand-up Comedy al toamnei! \n În deschidere urcă: Darius Grigorie\n\n\n Casa de Cultura a Studentilor Craiova\n 16 Octombrie\n 18:00
URL:https://craiovalive.ro/eveniment/stand-up-comedy-cu-sorin-parcalab-toma-si-cristi-popesco-partial-adevarat/
LOCATION:Casa de Cultură a Studenților Craiova\, Str. Eugeniu Carada\, nr. 10\, Craiova\, Dolj\, 200390\, România
CATEGORIES:Stand up
ATTACH;FMTTYPE=image/webp:https://craiovalive.ro/wp-content/uploads/2025/09/Stand-up-Comedy-cu-Sorin-Parcalab-Toma-si-Cristi-Popesco-Partial-adevarat.webp
GEO:44.3158109;23.8003284
X-APPLE-STRUCTURED-LOCATION;VALUE=URI;X-ADDRESS=Casa de Cultură a Studenților Craiova Str. Eugeniu Carada nr. 10 Craiova Dolj 200390 România;X-APPLE-RADIUS=500;X-TITLE=Str. Eugeniu Carada\, nr. 10:geo:23.8003284,44.3158109
END:VEVENT
BEGIN:VEVENT
DTSTART;TZID=Europe/Bucharest:20251010T200000
DTEND;TZID=Europe/Bucharest:20251010T213000
DTSTAMP:20260424T083220
CREATED:20250919T071623Z
LAST-MODIFIED:20250919T071623Z
UID:10010224-1760126400-1760131800@craiovalive.ro
SUMMARY:Stand-up Comedy cu George Țintă
DESCRIPTION:#CRAIOVA Vrei Umor? Mergi drept la Țintă! \nGeorge Țintă oferă un show unic: Glume scurte\, povestiri\, imitări de voci și improvizație. Pe toată durata evenimentului se proiectează imagini tematice pentru o experiență cât mai imersivă. \n\n\n\n\nStand-up Comedy + Proiector = Love \nHai să-l vezi live într-un show de 90 de minute!Vineri\, 10 Octombrie\, ora 20:00Ribs House Craiova (Strada Basarabia 21C) Rezervă-ți un loc la nr. 0765 99 66 19Biletele se pot achiziționa online pe site iabilet sau fizic de la club.Vino cu prietenii să fie gașca mare!\n\n\n––\n\nEveniment recomandat 16+
URL:https://craiovalive.ro/eveniment/stand-up-comedy-cu-george-tinta/
LOCATION:Dolj
CATEGORIES:Stand up
ATTACH;FMTTYPE=image/webp:https://craiovalive.ro/wp-content/uploads/2025/09/Stand-up-Comedy-cu-George-Tinta.webp
END:VEVENT
BEGIN:VEVENT
DTSTART;TZID=Europe/Bucharest:20250921T213000
DTEND;TZID=Europe/Bucharest:20250921T223000
DTSTAMP:20260424T083220
CREATED:20250909T192356Z
LAST-MODIFIED:20250909T192356Z
UID:10009707-1758490200-1758493800@craiovalive.ro
SUMMARY:Stand-up Comedy: Restanțe la râs
DESCRIPTION:Craiova\, vino la un show de stand-up comedy complet nou\, proaspăt scos din cele mai fresh creiere ale comediei! \nIrina Marinescu\, Kiara Firan\, Larisa Bănuță & Iulia Nica vin în premieră la Craiova cu umor colorat\, glume pe care nu le-ai mai auzit și multă caterincă. \nAcesta nu este doar cel mai nou show de stand-up din Craiova\, e mai mult: vino să descoperi o nouă dimensiune a comediei și fii primul care le povestește prietenilor… sau\, mai bine\, adu-i direct cu tine! \nAccesul persoanelor sub 16 ani nu este permis.
URL:https://craiovalive.ro/eveniment/stand-up-comedy-restante-la-ras/
LOCATION:Fado Irish Pub\, Str. Traian Demetrescu\, nr. 8\, Craiova\, Dolj\, România
CATEGORIES:Stand up
ATTACH;FMTTYPE=image/webp:https://craiovalive.ro/wp-content/uploads/2025/09/Stand-up-Comedy-Restante-la-ras.webp
GEO:44.3166637;23.7997315
X-APPLE-STRUCTURED-LOCATION;VALUE=URI;X-ADDRESS=Fado Irish Pub Str. Traian Demetrescu nr. 8 Craiova Dolj România;X-APPLE-RADIUS=500;X-TITLE=Str. Traian Demetrescu\, nr. 8:geo:23.7997315,44.3166637
END:VEVENT
BEGIN:VEVENT
DTSTART;TZID=Europe/Bucharest:20250606T190000
DTEND;TZID=Europe/Bucharest:20250606T203000
DTSTAMP:20260424T083220
CREATED:20250504T094021Z
LAST-MODIFIED:20250504T094021Z
UID:10006275-1749236400-1749241800@craiovalive.ro
SUMMARY:Stand up comedy cu Radu Pietreanu
DESCRIPTION:6 iunie\, în #Craiova Radu Pietreanu – Stand-up & Distracție Maximă! \n Radu Pietreanu revine pe scenă cu un show de stand-up memorabil\, plin de umor savuros și glume care te vor face să râzi cu lacrimi!  Dacă ai crescut cu Vacanța Mare sau pur și simplu îți place comedia de calitate\, acest spectacol e pentru tine! \n Povești nebune\, glume geniale și un vibe de zile mari – toate într-o singură seară de distracție garantată! \n Vârstă recomandată: 16+ (umor direct\, fără perdea! )
URL:https://craiovalive.ro/eveniment/stand-up-comedy-cu-radu-pietreanu/
LOCATION:Teatrul pentru copii și tineret Colibri\, Calea București\, nr. 56\, Craiova\, Dolj\, România
CATEGORIES:Stand up
ATTACH;FMTTYPE=image/jpeg:https://craiovalive.ro/wp-content/uploads/2025/05/Stand-up-comedy-cu-Radu-Pietreanu.jpg
GEO:44.3151148;23.8215842
X-APPLE-STRUCTURED-LOCATION;VALUE=URI;X-ADDRESS=Teatrul pentru copii și tineret Colibri Calea București nr. 56 Craiova Dolj România;X-APPLE-RADIUS=500;X-TITLE=Calea București\, nr. 56:geo:23.8215842,44.3151148
END:VEVENT
BEGIN:VEVENT
DTSTART;TZID=Europe/Bucharest:20250526T190000
DTEND;TZID=Europe/Bucharest:20250526T203000
DTSTAMP:20260424T083220
CREATED:20250401T124956Z
LAST-MODIFIED:20250401T124956Z
UID:10006057-1748286000-1748291400@craiovalive.ro
SUMMARY:Teo - Scos din context | Stand Up Comedy Show
DESCRIPTION:𝗖𝗿𝗮𝗶𝗼𝘃𝗮 | 𝐓𝐞𝐨 – 𝐎𝐧𝐞 𝐌𝐚𝐧 𝐒𝐡𝐨𝐰 |\n\n\nPe 26 Mai de la ora 19.00 ne vedem la Casa de Cultură a Studenților cu Teo și un super show de Stand-up Comedy!\n\n\n Bilete disponibile pe artitude.iaBilet.ro\n Locație: Casa de Cultură a Studenților\n\n\nUn show despre vârtejul din vremurile noastre\, despre tatuaje\, tradiții\, mămăligă și despre conspirațiile din spatele conspirațiilor tale preferate.\nPoate conține albine și extratereștri. \n\nCu o experiență remarcabilă pe scenă\, începând cu cea de club\, până la spectacole și turnee în țară și în afară și special-uri de stand-up\, Teo este pregătit să discute despre tot\, de la natura umană\, la mărunțișurile de zi cu zi. Toate astea în timp ce te va face să râzi cu lacrimi.
URL:https://craiovalive.ro/eveniment/teo-scos-din-context-stand-up-comedy-show/
LOCATION:Casa de Cultură a Studenților Craiova\, Str. Eugeniu Carada\, nr. 10\, Craiova\, Dolj\, 200390\, România
CATEGORIES:Stand up
ATTACH;FMTTYPE=image/jpeg:https://craiovalive.ro/wp-content/uploads/2025/04/Teo-Scos-din-context-Stand-Up-Comedy-Show.jpg
GEO:44.3158109;23.8003284
X-APPLE-STRUCTURED-LOCATION;VALUE=URI;X-ADDRESS=Casa de Cultură a Studenților Craiova Str. Eugeniu Carada nr. 10 Craiova Dolj 200390 România;X-APPLE-RADIUS=500;X-TITLE=Str. Eugeniu Carada\, nr. 10:geo:23.8003284,44.3158109
END:VEVENT
BEGIN:VEVENT
DTSTART;TZID=Europe/Bucharest:20250521T210000
DTEND;TZID=Europe/Bucharest:20250521T223000
DTSTAMP:20260424T083220
CREATED:20240902T135303Z
LAST-MODIFIED:20250331T162729Z
UID:10001216-1747861200-1747866600@craiovalive.ro
SUMMARY:Stand up comedy cu Mirică\, Luiza\, Mitran și Virgil
DESCRIPTION:După succesul primului lor special\, ”Fantastic. Revenim”\, NișteOameni au scris MATERIAL NOU și vin să execute #standupcomedy în orașul tău\, cu un show nou-nouț.\nHai și tu să vezi la ce s-au mai gândit Sergiu Mirică\, Ioana Luiza\, Dragoș Mitran și Virgil Ciulin! Dacă tot ai internet\, convinge-te că dai bani pe ce trebe. Caută-i pe YouTube\, unde au o grămadă de bucăți de stand-up (iUmor\, Stand-up Revolution)\, un special de comedie\, un podcast\, o emisiune șmecheră numită #NuȘtiuZic\, dar și apariții la Una Scurtă sau Râzi că Prostu’.\nHai că-i și păcat să nu-i vezi LIVE.\n Pe 21 mai\, de la ora 21:00 Enoteca Social Bar
URL:https://craiovalive.ro/eveniment/stand-up-comedy-cu-mirica-luiza-mitran-si-virgil/
LOCATION:Dolj
CATEGORIES:Stand up
ATTACH;FMTTYPE=image/png:https://craiovalive.ro/wp-content/uploads/2024/09/Stand-Up-Comedy-Niste-Oameni-Craiova-2025.png
END:VEVENT
BEGIN:VEVENT
DTSTART;TZID=Europe/Bucharest:20250516T190000
DTEND;TZID=Europe/Bucharest:20250516T203000
DTSTAMP:20260424T083220
CREATED:20250321T195630Z
LAST-MODIFIED:20250321T195630Z
UID:10005998-1747422000-1747427400@craiovalive.ro
SUMMARY:Vio - Rupt în Tour | Stand Up Comedy Show
DESCRIPTION:🎙𝗖𝗿𝗮𝗶𝗼𝘃𝗮 | 𝐕𝐢𝐨 | 𝐑𝐮𝐩𝐭 𝐢𝐧 𝐓𝐨𝐮𝐫 – 𝐒𝐭𝐚𝐧𝐝-𝐮𝐩 𝐂𝐨𝐦𝐞𝐝𝐲🎙\n🔥Abandonat de Teo și Costel\, mafiotul stand-up-ului\, Don Vio\, își ia viața în propriile mâini și pleacă în turneu solo prin țară!\nPe 16 Mai de la ora 19.00\, ne vedem la Cineplexx cu un super Show de Stand-up Comedy alături de Vio!\n🎟 Bilete disponibile pe artitude.iaBilet.ro\n🏦 Locație: Cineplexx\, Craiova
URL:https://craiovalive.ro/eveniment/vio-rupt-in-tour-stand-up-comedy-show/
LOCATION:Dolj
CATEGORIES:Stand up
ATTACH;FMTTYPE=image/jpeg:https://craiovalive.ro/wp-content/uploads/2025/03/Vio-Rupt-in-Tour-Stand-Up-Comedy-Show.jpg
END:VEVENT
BEGIN:VEVENT
DTSTART;TZID=Europe/Bucharest:20250510T200000
DTEND;TZID=Europe/Bucharest:20250510T220000
DTSTAMP:20260424T083220
CREATED:20250506T143554Z
LAST-MODIFIED:20250506T143554Z
UID:10006453-1746907200-1746914400@craiovalive.ro
SUMMARY:Stand-up Comedy 2.0 A.I. Umor cu George Țintă și Paul Mirea
DESCRIPTION:Ribs HOUSE \, Craiova\nSâmbătă\, 10 mai\, ora 20:00 \n#CRAIOVA Ați fost cuminți? Venim la voi cu un show obraznic!\nAm vrut să creăm un show unic așa că am întrebat A.I-ul: Despre ce subiecte nu s-au făcut glume niciodată?\nȘtiai că nu s-au făcut niciodată glume despre metempsihoză?\nBine\, nici noi nu am făcut\, pentru că nu știam ce e aia…\nDar am făcut despre altele!\nDacă ești curios ce a ieșit\, te așteptăm la show!\nCând? Sâmbătă\, 10 Mai\, ora 20:00\nUnde? Ribs House Craiova (Strada Basarabia nr. 21C)\nBilete la restaurant!\nInfo și rezervări: 0765 996 619 / bilet 45 lei\nVino cu prietenii să fie gașca mare!
URL:https://craiovalive.ro/eveniment/stand-up-comedy-2-0-a-i-umor-cu-george-tinta-si-paul-mirea/
LOCATION:Dolj
CATEGORIES:Stand up
ATTACH;FMTTYPE=image/png:https://craiovalive.ro/wp-content/uploads/2025/05/Stand-up-Comedy-2.0-A.I.-Umor-cu-George-Tinta-si-Paul-Mirea.png
END:VEVENT
END:VCALENDAR