BEGIN:VCALENDAR
VERSION:2.0
PRODID:-//Craiova Live - ECPv6.15.18//NONSGML v1.0//EN
CALSCALE:GREGORIAN
METHOD:PUBLISH
X-ORIGINAL-URL:https://craiovalive.ro
X-WR-CALDESC:Evenimente pentru Craiova Live
REFRESH-INTERVAL;VALUE=DURATION:PT1H
X-Robots-Tag:noindex
X-PUBLISHED-TTL:PT1H
BEGIN:VTIMEZONE
TZID:Europe/Bucharest
BEGIN:DAYLIGHT
TZOFFSETFROM:+0200
TZOFFSETTO:+0300
TZNAME:EEST
DTSTART:20250330T010000
END:DAYLIGHT
BEGIN:STANDARD
TZOFFSETFROM:+0300
TZOFFSETTO:+0200
TZNAME:EET
DTSTART:20251026T010000
END:STANDARD
BEGIN:DAYLIGHT
TZOFFSETFROM:+0200
TZOFFSETTO:+0300
TZNAME:EEST
DTSTART:20260329T010000
END:DAYLIGHT
BEGIN:STANDARD
TZOFFSETFROM:+0300
TZOFFSETTO:+0200
TZNAME:EET
DTSTART:20261025T010000
END:STANDARD
BEGIN:DAYLIGHT
TZOFFSETFROM:+0200
TZOFFSETTO:+0300
TZNAME:EEST
DTSTART:20270328T010000
END:DAYLIGHT
BEGIN:STANDARD
TZOFFSETFROM:+0300
TZOFFSETTO:+0200
TZNAME:EET
DTSTART:20271031T010000
END:STANDARD
END:VTIMEZONE
BEGIN:VEVENT
DTSTART;TZID=Europe/Bucharest:20260305T190000
DTEND;TZID=Europe/Bucharest:20260305T210000
DTSTAMP:20260424T031200
CREATED:20260110T151832Z
LAST-MODIFIED:20260110T151832Z
UID:10012717-1772737200-1772744400@craiovalive.ro
SUMMARY:Costel și Maria Popovici - Stand Up Comedy Show
DESCRIPTION:Craiova: Costel și Maria Popovici – Stand Up Comedy Show\nCasa de Cultura a Studentilor Craiova\, Craiova \njoi\, 5 martie\, ora 19:00 \nAccesul este permis doar persoanelor peste 18 ani. \nVă așteptăm la un spectacol de comedie alături de Costel și Maria Popovici! Două stiluri diferite\, aceeași poftă de râs. Costel vine cu observațiile sale inconfundabile despre viață\, familie\, prieteni și absurdul cotidian\, iar Maria Popovici completează cu umorul ei direct\, sincer și irezistibil. \nO seară de comedie despre echilibru\, haos\, speranță și toate lucrurile care ne fac să zâmbim chiar și atunci când nu avem motive. \nDacă nu ai făcut 18 ani\, nu ai voie la noi din păcate… Dar hei\, măcar bucură-te de tinerețe!
URL:https://craiovalive.ro/eveniment/costel-si-maria-popovici-stand-up-comedy-show-2/
LOCATION:Casa de Cultură a Studenților Craiova\, Str. Eugeniu Carada\, nr. 10\, Craiova\, Dolj\, 200390\, România
CATEGORIES:Stand up
ATTACH;FMTTYPE=image/webp:https://craiovalive.ro/wp-content/uploads/2026/01/Costel-si-Maria-Popovici-Stand-Up-Comedy-Show.webp
GEO:44.3158109;23.8003284
X-APPLE-STRUCTURED-LOCATION;VALUE=URI;X-ADDRESS=Casa de Cultură a Studenților Craiova Str. Eugeniu Carada nr. 10 Craiova Dolj 200390 România;X-APPLE-RADIUS=500;X-TITLE=Str. Eugeniu Carada\, nr. 10:geo:23.8003284,44.3158109
END:VEVENT
BEGIN:VEVENT
DTSTART;TZID=Europe/Bucharest:20260306T203000
DTEND;TZID=Europe/Bucharest:20260306T220000
DTSTAMP:20260424T031200
CREATED:20260215T193120Z
LAST-MODIFIED:20260215T193120Z
UID:10013472-1772829000-1772834400@craiovalive.ro
SUMMARY:Te pup\, te alea! cu Radu Guran & Comaroni
DESCRIPTION:Pe Radu Guran și pe Comaroni nu i-au născut mamele lor\, ei au venit singuri pe lume de nebuni\, iar cu ocazia asta vin vineri\, pe 6 martie\, de la 20:30 și în fața dumneavoastră cu un număr de muzică și stand-up.Nu mai face nimeni în România așa ceva.\nJurăm.
URL:https://craiovalive.ro/eveniment/te-pup-te-alea-cu-radu-guran-comaroni/
LOCATION:Fado Irish Pub\, Str. Traian Demetrescu\, nr. 8\, Craiova\, Dolj\, România
CATEGORIES:Stand up
ATTACH;FMTTYPE=image/webp:https://craiovalive.ro/wp-content/uploads/2026/02/Te-pup-te-alea-cu-Radu-Guran-Comaroni.webp
GEO:44.3166637;23.7997315
X-APPLE-STRUCTURED-LOCATION;VALUE=URI;X-ADDRESS=Fado Irish Pub Str. Traian Demetrescu nr. 8 Craiova Dolj România;X-APPLE-RADIUS=500;X-TITLE=Str. Traian Demetrescu\, nr. 8:geo:23.7997315,44.3166637
END:VEVENT
BEGIN:VEVENT
DTSTART;TZID=Europe/Bucharest:20260307T190000
DTEND;TZID=Europe/Bucharest:20260307T203000
DTSTAMP:20260424T031200
CREATED:20251210T191219Z
LAST-MODIFIED:20260219T084014Z
UID:10012634-1772910000-1772915400@craiovalive.ro
SUMMARY:Stand-up Comedy cu Dan Badea - “Domnu’ Dănuț”
DESCRIPTION:Craiova: Stand-up Comedy cu DAN BADEA – “Domnu’ DANUT”\nFilarmonica Oltenia\, Craiova \nsâmbătă\, 7 martie ’26\, ora 19:00 acces de la 18:30 \nDan Badea revine cu noul său show de stand-up\, „Domnu’ DANUT”. O seară plină de umor\, energie și povești în stilul inconfundabil al unuia dintre cei mai apreciați comedianți din România. \nSpectacolul este interzis minorilor sub 16 ani.
URL:https://craiovalive.ro/eveniment/stand-up-comedy-cu-dan-badea-domnu-danut/2026-03-07/1/
LOCATION:Filarmonica Oltenia\, Calea Unirii\, nr. 16\, Craiova\, Dolj\, 200585\, România
CATEGORIES:Stand up
ATTACH;FMTTYPE=image/webp:https://craiovalive.ro/wp-content/uploads/2025/12/Stand-up-Comedy-cu-Dan-Badea-Domnu-Danut.webp
GEO:44.3172308;23.7944364
X-APPLE-STRUCTURED-LOCATION;VALUE=URI;X-ADDRESS=Filarmonica Oltenia Calea Unirii nr. 16 Craiova Dolj 200585 România;X-APPLE-RADIUS=500;X-TITLE=Calea Unirii\, nr. 16:geo:23.7944364,44.3172308
END:VEVENT
BEGIN:VEVENT
DTSTART;TZID=Europe/Bucharest:20260307T210000
DTEND;TZID=Europe/Bucharest:20260307T223000
DTSTAMP:20260424T031200
CREATED:20251210T191219Z
LAST-MODIFIED:20260219T084014Z
UID:10014029-1772917200-1772922600@craiovalive.ro
SUMMARY:Stand-up Comedy cu Dan Badea - “Domnu’ Dănuț”
DESCRIPTION:Craiova: Stand-up Comedy cu DAN BADEA – “Domnu’ DANUT”\nFilarmonica Oltenia\, Craiova \nsâmbătă\, 7 martie ’26\, ora 19:00 acces de la 18:30 \nDan Badea revine cu noul său show de stand-up\, „Domnu’ DANUT”. O seară plină de umor\, energie și povești în stilul inconfundabil al unuia dintre cei mai apreciați comedianți din România. \nSpectacolul este interzis minorilor sub 16 ani.
URL:https://craiovalive.ro/eveniment/stand-up-comedy-cu-dan-badea-domnu-danut/2026-03-07/2/
LOCATION:Filarmonica Oltenia\, Calea Unirii\, nr. 16\, Craiova\, Dolj\, 200585\, România
CATEGORIES:Stand up
ATTACH;FMTTYPE=image/webp:https://craiovalive.ro/wp-content/uploads/2025/12/Stand-up-Comedy-cu-Dan-Badea-Domnu-Danut.webp
GEO:44.3172308;23.7944364
X-APPLE-STRUCTURED-LOCATION;VALUE=URI;X-ADDRESS=Filarmonica Oltenia Calea Unirii nr. 16 Craiova Dolj 200585 România;X-APPLE-RADIUS=500;X-TITLE=Calea Unirii\, nr. 16:geo:23.7944364,44.3172308
END:VEVENT
BEGIN:VEVENT
DTSTART;TZID=Europe/Bucharest:20260313T200000
DTEND;TZID=Europe/Bucharest:20260313T213000
DTSTAMP:20260424T031200
CREATED:20260203T112550Z
LAST-MODIFIED:20260203T112550Z
UID:10013006-1773432000-1773437400@craiovalive.ro
SUMMARY:Stand-up Comedy cu George Tănase și Ioana State - „De câte ori?”
DESCRIPTION:”Când viața te întreabă «de câte ori…?»\, umorul are un singur răspuns: «de fiecare dată!». \nGeorge Tănase\, Ioana State și Călin Gheorghiu vin la tine în oraș cu un spectacol care ia la roast întrebările incomode\, clișeele care ne bântuie și momentele în care ne pierdem răbdarea — acasă\, la birou\, în cuplu sau chiar pe grupul de WhatsApp al familiei. \nTrei comedianți\, trei stiluri\, aceeași poftă de râs.
URL:https://craiovalive.ro/eveniment/stand-up-comedy-cu-george-tanase-si-ioana-state-de-cate-ori/
LOCATION:Casa de Cultură a Studenților Craiova\, Str. Eugeniu Carada\, nr. 10\, Craiova\, Dolj\, 200390\, România
CATEGORIES:Stand up
ATTACH;FMTTYPE=image/webp:https://craiovalive.ro/wp-content/uploads/2026/02/Stand-up-Comedy-cu-George-Tanase-si-Ioana-State-De-cate-ori.webp
GEO:44.3158109;23.8003284
X-APPLE-STRUCTURED-LOCATION;VALUE=URI;X-ADDRESS=Casa de Cultură a Studenților Craiova Str. Eugeniu Carada nr. 10 Craiova Dolj 200390 România;X-APPLE-RADIUS=500;X-TITLE=Str. Eugeniu Carada\, nr. 10:geo:23.8003284,44.3158109
END:VEVENT
BEGIN:VEVENT
DTSTART;TZID=Europe/Bucharest:20260318T190000
DTEND;TZID=Europe/Bucharest:20260318T203000
DTSTAMP:20260424T031200
CREATED:20250921T194941Z
LAST-MODIFIED:20260216T112214Z
UID:10010248-1773860400-1773865800@craiovalive.ro
SUMMARY:Doru Octavian Dumitru - Globariciu
DESCRIPTION:DORU OCTAVIAN DUMITRU \nFilarmonica Oltenia Craiova \nPrezinta: GLOBARICIU \nPREMIERA \n  Un spectacol de comedie este o bucurie. \n   Vii la râs și te bucuri. E o greșeală să nu râzi. \n   Învățați din greșeli și veniți ca să nu mai greșiți! \n   Râsul te face mai frumos. \n   După un spectacol oamenii sunt mai atrăgători. \n   Doar râzi și arăți bine. \n   Îți dai seama? \n   Vine unu urât și pleacă frumos! \n   Ai grijă cu ce te hrănești! Râsul este hrană. \n   Cine are poftă de viață are și poftă de râs. \n   Sunt două pofte care merg mână în mână dacă nu vrei să le pui în cui. \n   Râsul scoate poluarea și toxinele din gânduri. \n   Unii nu își găsesc simțul umorului pentru că nu se prind. Păi dacă nu te prinzi de unde știi când să râzi? \n   Un spectacol este o ocazie rară. \n   Lăsați sufletul să se bucure! \n   Nu pierdeți ocazia! Veniți la râs!
URL:https://craiovalive.ro/eveniment/doru-octavian-dumitru-globariciu/
LOCATION:Filarmonica Oltenia\, Calea Unirii\, nr. 16\, Craiova\, Dolj\, 200585\, România
CATEGORIES:Stand up
ATTACH;FMTTYPE=image/jpeg:https://craiovalive.ro/wp-content/uploads/2025/09/Doru-Octavian-Dumitru-Globariciu.jpeg
GEO:44.3172308;23.7944364
X-APPLE-STRUCTURED-LOCATION;VALUE=URI;X-ADDRESS=Filarmonica Oltenia Calea Unirii nr. 16 Craiova Dolj 200585 România;X-APPLE-RADIUS=500;X-TITLE=Calea Unirii\, nr. 16:geo:23.7944364,44.3172308
END:VEVENT
BEGIN:VEVENT
DTSTART;TZID=Europe/Bucharest:20260322T190000
DTEND;TZID=Europe/Bucharest:20260322T210000
DTSTAMP:20260424T031200
CREATED:20260225T140503Z
LAST-MODIFIED:20260225T140503Z
UID:10014096-1774206000-1774213200@craiovalive.ro
SUMMARY:Stand-up Comedy cu Sergiu Mirică\, Ioana Luiza\, Virgil Ciulin și Dragoș Mitran | Niște Oameni | Cât încă e legal
DESCRIPTION:Craiova: Stand-up Comedy cu Sergiu Mirică\, Ioana Luiza\, Virgil Ciulin și Dragoș Mitran | Niște Oameni | Cât încă e legal\nEnoteca Social Bar\, Craiova \nduminică\, 22 martie\, ora 19:00 \nÎntr-o perioadă incertă\, cu schimbări de legi\, taxe și alte nebunii\, nici râsul nu mai este o garanție. Dar după o viață trăită la granița dintre bine și amuzant\, Sergiu Mirică\, Ioana Luiza\, Virgil Ciulin și Dragoș Mitran fac o haiducie și vin în turneu cu un show de Stand-up Comedy periculos de funny! \nHai și tu să-i vezi LIVE cât încă e legal! Ei sunt câștigători de iUmor și Stand-up Revolution\, participă constant la Una Scurtă și Râzi cu Prostu’ pe Comedy Box\, iar pe canalul lor de Youtube “Niște Oameni” poți vedea bucăți de stand-up\, podcastul lor săptămânal și emisiunea Nu Știu\, Zic! \nNe vedem la show!
URL:https://craiovalive.ro/eveniment/stand-up-comedy-cu-sergiu-mirica-ioana-luiza-virgil-ciulin-si-dragos-mitran-niste-oameni-cat-inca-e-legal/
LOCATION:Enoteca Social Bar\, Calea Bucuresti 78a\, Cladire de birouri Electroputere Parc\, Craiova\, Dolj\, România
CATEGORIES:Stand up
ATTACH;FMTTYPE=image/webp:https://craiovalive.ro/wp-content/uploads/2026/02/Stand-up-Comedy-cu-Sergiu-Mirica-Ioana-Luiza-Virgil-Ciulin-si-Dragos-Mitran-Niste-Oameni-Cat-inca-e-legal.webp
GEO:44.313600215854;23.828352709902
X-APPLE-STRUCTURED-LOCATION;VALUE=URI;X-ADDRESS=Enoteca Social Bar Calea Bucuresti 78a Cladire de birouri Electroputere Parc Craiova Dolj România;X-APPLE-RADIUS=500;X-TITLE=Calea Bucuresti 78a\, Cladire de birouri Electroputere Parc:geo:23.828352709902,44.313600215854
END:VEVENT
BEGIN:VEVENT
DTSTART;TZID=Europe/Bucharest:20260322T193000
DTEND;TZID=Europe/Bucharest:20260322T210000
DTSTAMP:20260424T031200
CREATED:20260214T144712Z
LAST-MODIFIED:20260214T144712Z
UID:10013072-1774207800-1774213200@craiovalive.ro
SUMMARY:Mihai Bobonete - Metamorfoză - Turneu Național 2026
DESCRIPTION:Craiova: Mihai Bobonete – Metamorfoză – Turneu National 2026\nCasa de Cultura a Studentilor Craiova\, Craiova\nStrada Eugeniu Carada 10\nduminică\, 22 martie\, ora 19:30\nÎn noul spectacol de stand-up comedy\, Metamorfoză\, Mihai Bobonete vorbește despre schimbările prin care a trecut în ultima vreme și despre cum le face față în stilul său inconfundabil. Cu umorul său natural și autoironia caracteristică\, Bobonete reușește să transforme provocările vieții în povești savuroase\, pline de haz.\nCa și anul trecut\, spectacolul va fi deschis de prietenul și colegul său de scenă\, Mihai Rait\, pregătind perfect atmosfera pentru o seară de râs pe săturate.
URL:https://craiovalive.ro/eveniment/mihai-bobonete-metamorfoza-turneu-national-2026/
LOCATION:Casa de Cultură a Studenților Craiova\, Str. Eugeniu Carada\, nr. 10\, Craiova\, Dolj\, 200390\, România
CATEGORIES:Stand up
ATTACH;FMTTYPE=image/webp:https://craiovalive.ro/wp-content/uploads/2026/02/Mihai-Bobonete-Metamorfoza-Turneu-National-2026.webp
GEO:44.3158109;23.8003284
X-APPLE-STRUCTURED-LOCATION;VALUE=URI;X-ADDRESS=Casa de Cultură a Studenților Craiova Str. Eugeniu Carada nr. 10 Craiova Dolj 200390 România;X-APPLE-RADIUS=500;X-TITLE=Str. Eugeniu Carada\, nr. 10:geo:23.8003284,44.3158109
END:VEVENT
END:VCALENDAR