BEGIN:VCALENDAR
VERSION:2.0
PRODID:-//Craiova Live - ECPv6.15.18//NONSGML v1.0//EN
CALSCALE:GREGORIAN
METHOD:PUBLISH
X-WR-CALNAME:Craiova Live
X-ORIGINAL-URL:https://craiovalive.ro
X-WR-CALDESC:Evenimente pentru Craiova Live
REFRESH-INTERVAL;VALUE=DURATION:PT1H
X-Robots-Tag:noindex
X-PUBLISHED-TTL:PT1H
BEGIN:VTIMEZONE
TZID:Europe/Bucharest
BEGIN:DAYLIGHT
TZOFFSETFROM:+0200
TZOFFSETTO:+0300
TZNAME:EEST
DTSTART:20250330T010000
END:DAYLIGHT
BEGIN:STANDARD
TZOFFSETFROM:+0300
TZOFFSETTO:+0200
TZNAME:EET
DTSTART:20251026T010000
END:STANDARD
BEGIN:DAYLIGHT
TZOFFSETFROM:+0200
TZOFFSETTO:+0300
TZNAME:EEST
DTSTART:20260329T010000
END:DAYLIGHT
BEGIN:STANDARD
TZOFFSETFROM:+0300
TZOFFSETTO:+0200
TZNAME:EET
DTSTART:20261025T010000
END:STANDARD
BEGIN:DAYLIGHT
TZOFFSETFROM:+0200
TZOFFSETTO:+0300
TZNAME:EEST
DTSTART:20270328T010000
END:DAYLIGHT
BEGIN:STANDARD
TZOFFSETFROM:+0300
TZOFFSETTO:+0200
TZNAME:EET
DTSTART:20271031T010000
END:STANDARD
END:VTIMEZONE
BEGIN:VEVENT
DTSTART;TZID=Europe/Bucharest:20260105T200000
DTEND;TZID=Europe/Bucharest:20260105T213000
DTSTAMP:20260424T055758
CREATED:20241224T125500Z
LAST-MODIFIED:20251215T175056Z
UID:10003778-1767643200-1767648600@craiovalive.ro
SUMMARY:Stand-up Comedy - Dan Țuțu și Cristi Manolescu
DESCRIPTION:Craiova\, adună-ţi gaşca şi vino luni\, 5 ianuarie\, la Enoteca Social Bar\, să îi vezi pe Cristi – ce mi-ai pus pe tăviţă\, mamă – Manolescu şi Dan Ţuţu\, un povestitor desăvârşit care te va cuceri cu naturaleţea sa. \nCel mai bun mod de a petrece seara de luni\, e la un show live de stand-up comedy.
URL:https://craiovalive.ro/eveniment/stand-up-comedy-dan-tutu-si-cristi-manolescu/
LOCATION:Dolj
CATEGORIES:Stand up
ATTACH;FMTTYPE=image/webp:https://craiovalive.ro/wp-content/uploads/2024/12/Stand-up-Comedy-Dan-Tutu-si-Cristi-Manolescu.webp
END:VEVENT
BEGIN:VEVENT
DTSTART;TZID=Europe/Bucharest:20260121T200000
DTEND;TZID=Europe/Bucharest:20260121T213000
DTSTAMP:20260424T055758
CREATED:20251227T164558Z
LAST-MODIFIED:20251227T164558Z
UID:10012687-1769025600-1769031000@craiovalive.ro
SUMMARY:Stand-Up Comedy Best Of 2024 & 2025 cu Sorin Pârcălab
DESCRIPTION:Craiova: Stand-Up Comedy Best Of 2024 & 2025 cu Sorin Pârcălab\nCasa de Cultura a Studentilor Craiova\, Craiova \nmiercuri\, 21 ianuarie ’26\, ora 20:00 \n 
URL:https://craiovalive.ro/eveniment/stand-up-comedy-best-of-2024-2025-cu-sorin-parcalab/
LOCATION:Casa de Cultură a Studenților Craiova\, Str. Eugeniu Carada\, nr. 10\, Craiova\, Dolj\, 200390\, România
CATEGORIES:Stand up
ATTACH;FMTTYPE=image/webp:https://craiovalive.ro/wp-content/uploads/2025/12/Stand-Up-Comedy-Best-Of-2024-2025-cu-Sorin-Parcalab.webp
GEO:44.3158109;23.8003284
X-APPLE-STRUCTURED-LOCATION;VALUE=URI;X-ADDRESS=Casa de Cultură a Studenților Craiova Str. Eugeniu Carada nr. 10 Craiova Dolj 200390 România;X-APPLE-RADIUS=500;X-TITLE=Str. Eugeniu Carada\, nr. 10:geo:23.8003284,44.3158109
END:VEVENT
BEGIN:VEVENT
DTSTART;TZID=Europe/Bucharest:20260124T183000
DTEND;TZID=Europe/Bucharest:20260124T200000
DTSTAMP:20260424T055758
CREATED:20241205T173030Z
LAST-MODIFIED:20251119T113121Z
UID:10001622-1769279400-1769284800@craiovalive.ro
SUMMARY:Stand-up comedy cu Cîrje\, Florin\, Dobrotă și Popinciuc
DESCRIPTION:Cîrje\, Florin\, Dobrotă și Popinciuc sunt puși pe șotii\, caterincă\, glume\, poante\, farse și poate magie dacă are Florinel dispoziția necesară. \n\n\n\nAccesul se face cu jumătate de oră înainte de spectacol și este permis până la ora de începere. \nBiletele pot fi prezentate atât în format fizic (print) cât și digital (pe telefon). \nTe informăm că la evenimentele noastre accesul persoanelor sub 16 ani nu este permis.
URL:https://craiovalive.ro/eveniment/stand-up-comedy-cu-cirje-florin-dobrota-si-popinciuc/
LOCATION:Filarmonica Oltenia\, Calea Unirii\, nr. 16\, Craiova\, Dolj\, 200585\, România
CATEGORIES:Stand up
ATTACH;FMTTYPE=image/webp:https://craiovalive.ro/wp-content/uploads/2024/12/Stand-up-comedy-cu-Cirje-Florin-Dobrota-si-Popinciuc.webp
GEO:44.3172308;23.7944364
X-APPLE-STRUCTURED-LOCATION;VALUE=URI;X-ADDRESS=Filarmonica Oltenia Calea Unirii nr. 16 Craiova Dolj 200585 România;X-APPLE-RADIUS=500;X-TITLE=Calea Unirii\, nr. 16:geo:23.7944364,44.3172308
END:VEVENT
END:VCALENDAR