BEGIN:VCALENDAR
VERSION:2.0
PRODID:-//Craiova Live - ECPv6.15.18//NONSGML v1.0//EN
CALSCALE:GREGORIAN
METHOD:PUBLISH
X-ORIGINAL-URL:https://craiovalive.ro
X-WR-CALDESC:Evenimente pentru Craiova Live
REFRESH-INTERVAL;VALUE=DURATION:PT1H
X-Robots-Tag:noindex
X-PUBLISHED-TTL:PT1H
BEGIN:VTIMEZONE
TZID:Europe/Bucharest
BEGIN:DAYLIGHT
TZOFFSETFROM:+0200
TZOFFSETTO:+0300
TZNAME:EEST
DTSTART:20240331T010000
END:DAYLIGHT
BEGIN:STANDARD
TZOFFSETFROM:+0300
TZOFFSETTO:+0200
TZNAME:EET
DTSTART:20241027T010000
END:STANDARD
BEGIN:DAYLIGHT
TZOFFSETFROM:+0200
TZOFFSETTO:+0300
TZNAME:EEST
DTSTART:20250330T010000
END:DAYLIGHT
BEGIN:STANDARD
TZOFFSETFROM:+0300
TZOFFSETTO:+0200
TZNAME:EET
DTSTART:20251026T010000
END:STANDARD
BEGIN:DAYLIGHT
TZOFFSETFROM:+0200
TZOFFSETTO:+0300
TZNAME:EEST
DTSTART:20260329T010000
END:DAYLIGHT
BEGIN:STANDARD
TZOFFSETFROM:+0300
TZOFFSETTO:+0200
TZNAME:EET
DTSTART:20261025T010000
END:STANDARD
END:VTIMEZONE
BEGIN:VEVENT
DTSTART;TZID=Europe/Bucharest:20251023T220000
DTEND;TZID=Europe/Bucharest:20251023T233000
DTSTAMP:20260424T155532
CREATED:20251019T172742Z
LAST-MODIFIED:20251019T172742Z
UID:10010850-1761256800-1761262200@craiovalive.ro
SUMMARY:UEFA Conference League: Universitatea Craiova vs FC Noah
DESCRIPTION:Visul nopților europene colorate în alb-albastru continuă în casa noastră. \n\n\nȘtiința luptă să obțină primele puncte din UEFA Conference League joi\, 23 octombrie\, de la ora 22:00\, pe Stadionul “Ion Oblemenco”  FC Noah. Biletele sunt “calde” și vă așteaptă la toate punctele de vânzare tradiționale și online.\n\n\nCine iubește Știința\, aruncă telecomanda\, îmbracă tricoul alb-albastru și\, cu eșarfa la gât\, vine pe stadion!
URL:https://craiovalive.ro/eveniment/uefa-conference-league-universitatea-craiova-vs-fc-noah/
LOCATION:Stadionul Ion Oblemenco Craiova\, Bulevardul Știrbei Vodă\, nr. 36\, Craiova\, Dolj\, 200653\, România
CATEGORIES:Sport
ATTACH;FMTTYPE=image/jpeg:https://craiovalive.ro/wp-content/uploads/2025/10/UEFA-Conference-League-Universitatea-Craiova-vs-FC-Noah.jpg
GEO:44.313937555733;23.784390210881
X-APPLE-STRUCTURED-LOCATION;VALUE=URI;X-ADDRESS=Stadionul Ion Oblemenco Craiova Bulevardul Știrbei Vodă nr. 36 Craiova Dolj 200653 România;X-APPLE-RADIUS=500;X-TITLE=Bulevardul Știrbei Vodă\, nr. 36:geo:23.784390210881,44.313937555733
END:VEVENT
END:VCALENDAR