BEGIN:VCALENDAR
VERSION:2.0
PRODID:-//Craiova Live - ECPv6.15.18//NONSGML v1.0//EN
CALSCALE:GREGORIAN
METHOD:PUBLISH
X-WR-CALNAME:Craiova Live
X-ORIGINAL-URL:https://craiovalive.ro
X-WR-CALDESC:Evenimente pentru Craiova Live
REFRESH-INTERVAL;VALUE=DURATION:PT1H
X-Robots-Tag:noindex
X-PUBLISHED-TTL:PT1H
BEGIN:VTIMEZONE
TZID:Europe/Bucharest
BEGIN:DAYLIGHT
TZOFFSETFROM:+0200
TZOFFSETTO:+0300
TZNAME:EEST
DTSTART:20240331T010000
END:DAYLIGHT
BEGIN:STANDARD
TZOFFSETFROM:+0300
TZOFFSETTO:+0200
TZNAME:EET
DTSTART:20241027T010000
END:STANDARD
BEGIN:DAYLIGHT
TZOFFSETFROM:+0200
TZOFFSETTO:+0300
TZNAME:EEST
DTSTART:20250330T010000
END:DAYLIGHT
BEGIN:STANDARD
TZOFFSETFROM:+0300
TZOFFSETTO:+0200
TZNAME:EET
DTSTART:20251026T010000
END:STANDARD
BEGIN:DAYLIGHT
TZOFFSETFROM:+0200
TZOFFSETTO:+0300
TZNAME:EEST
DTSTART:20260329T010000
END:DAYLIGHT
BEGIN:STANDARD
TZOFFSETFROM:+0300
TZOFFSETTO:+0200
TZNAME:EET
DTSTART:20261025T010000
END:STANDARD
END:VTIMEZONE
BEGIN:VEVENT
DTSTART;TZID=Europe/Bucharest:20250922T100000
DTEND;TZID=Europe/Bucharest:20250922T160000
DTSTAMP:20260425T002217
CREATED:20250802T144237Z
LAST-MODIFIED:20250917T111710Z
UID:10010095-1758535200-1758556800@craiovalive.ro
SUMMARY:Gumball 3000 la Craiova
DESCRIPTION:Craiova devine\, pentru două zile\, gazda unuia dintre cele mai spectaculoase evenimente auto și culturale la nivel internațional – Gumball 3000. În perioada 21-22 septembrie 2025\, Piața Mihai Viteazul devine locul unde universul street food se întâlnește cu muzică live și adrenalina Gumball 3000.\n\nAstfel\, în paralel cu expoziția auto\, în Piața Mihai Viteazul va avea loc Food Truck Festival\, care va aduce la această ediție cele mai delicioase preparate stradale internaționale\, totul într-un vibe de festival. Participanții vor putea savura delicii culinare ce îmbină tradițiile locale cu influențe internaționale\, de la street food clasic\, la mâncăruri\, deserturi și băuturi speciale.\n\nDe asemenea\, tot în Piața Mihai Viteazul\, DJ set-urile lui SYLVIO\, ARASY\, CJ\, BEANY și Emil Safta vor crea duminică și luni o atmosferă vibrantă\, în timp ce vizitatorii și craiovenii se vor bucura de o experiență completă.\n\n Luni\, 22 septembrie 2025\, între orele 11:00 – 15:00\, vor fi expuse în Piața Mihai Viteazul și pe strada A.I. Cuza peste 100 de supermașini\, de la modele clasice restaurate și construcții personalizate\, până la hipermașini ultra-rare\, într-o expoziție cu acces gratuit pentru public.\nEvenimentul va fi marcat de prezența fondatorului Maximillion Cooper\, care va conduce un Brabus Rolls Royce Cullinan alături de soția sa\, artista EVE\, câștigătoare a unui premiu Grammy.\n\nPublicul din Craiova va avea ocazia să se întâlnească cu mari vedete din toată lumea\, precum:\n– Adekunle Gold\, superstar Afrobeats\n– Afrojack\, DJ olandez multipremiat\n– Patrice Evra\, fost internațional francez și legendă Manchester United\n– Membrii celebrei trupe The Sidemen – Vikkstar\, TBJZL\, Behzinga\n– WillNE\, Chip\, DJ Alan Walker\, în Brabus G800\n– Influencerii auto DDE (DailyDrivenExotics) și Pog\n– Michael Mizrachi\, campion World Series of Poker\n– Jimmy Graham\, star NFL și câștigător al premiului „Spirit of Gumball”.\n\n\n\nProgramul Gumball 3000 în Craiova:\n\n\nDuminică\, 21 septembrie\n Locația: Piața Mihai Viteazul\n•Ora 12:00 – 23:00 Food Truck Festival\, expoziție auto\, show-uri de entertainment\n•Ora 17:00 – 20:00 Emil Safta\n•Ora 20:00 – 23:00 SYLVIO B2B ARASY\n\n\nLuni\, 22 septembrie\n Locația principală: Piața Mihai Viteazul și A.I. Cuza\n•Ora 10:00 – 18:00 Food Truck Festival\n•Ora 11:00 – 16:00 Emil Safta B2B CJ B2B Beany\n\n\n•Ora 11:00 – 15:00\nExpoziția mașinilor din caravana Gumball 3000\nExpoziție auto & sesiuni foto cu publicul\nMeciuri demonstrative baschet 3×3\nMeet & Greet cu vedete\nConcert live și show-uri de entertainment
URL:https://craiovalive.ro/eveniment/gumball-3000-la-craiova/2025-09-22/
LOCATION:Piața Mihai Viteazul\, Craiova\, Dolj\, România
CATEGORIES:Gastronomie,Muzică,Sport
ATTACH;FMTTYPE=image/jpeg:https://craiovalive.ro/wp-content/uploads/2025/08/Gumball-3000-la-Craiova.jpg
GEO:44.31805;23.79493
END:VEVENT
BEGIN:VEVENT
DTSTART;TZID=Europe/Bucharest:20250924T193000
DTEND;TZID=Europe/Bucharest:20250924T203000
DTSTAMP:20260425T002217
CREATED:20250918T185240Z
LAST-MODIFIED:20250918T185303Z
UID:10010129-1758742200-1758745800@craiovalive.ro
SUMMARY:Playoff Futsal EURO 2026 - Romania vs Ungaria
DESCRIPTION:Echipa Națională de Futsal a României visează la cea de-a 5-a calificare din istorie la Campionatul European! Vino și tu să-i susții pe tricolori în meciul de baraj cu Ungaria\, miercuri\, 24 septembrie\, ora 19:30\, în Sala Polivalentă din Craiova. Luptăm împreună\, din tot sufletul\, pentru România!\n\n\n\n\n\n\n\n\n\n\n\n\n\n\nPLAYOFF FUTSAL EURO 2026 – Romania vs Ungaria – 24 sept 2025\nmiercuri\, 24 septembrie 2025 ora 19:30\nSala Polivalenta\, Craiova
URL:https://craiovalive.ro/eveniment/playoff-futsal-euro-2026-romania-vs-ungaria/
LOCATION:Sala Polivalentă\, Bvd. Ilie Balaci\, nr.6\, Craiova\, Dolj\, România
CATEGORIES:Sport
ATTACH;FMTTYPE=image/jpeg:https://craiovalive.ro/wp-content/uploads/2025/09/Playoff-Futsal-EURO-2026-Romania-vs-Ungaria.jpeg
GEO:44.3133053;23.7867478
X-APPLE-STRUCTURED-LOCATION;VALUE=URI;X-ADDRESS=Sala Polivalentă Bvd. Ilie Balaci nr.6 Craiova Dolj România;X-APPLE-RADIUS=500;X-TITLE=Bvd. Ilie Balaci\, nr.6:geo:23.7867478,44.3133053
END:VEVENT
BEGIN:VEVENT
DTSTART;TZID=Europe/Bucharest:20250927T100000
DTEND;TZID=Europe/Bucharest:20250927T140000
DTSTAMP:20260425T002217
CREATED:20250914T180611Z
LAST-MODIFIED:20250914T180611Z
UID:10009739-1758967200-1758981600@craiovalive.ro
SUMMARY:Craiova SportFest
DESCRIPTION:A început școala\, ne pregătim și de mișcare! Vă așteptăm la un eveniment sportiv de neuitat!\n________________________________________Craiova SportFest\, eveniment inclus în Săptămâna Europeană a Sportului\, va avea loc pe 27 septembrie\, între orele 10:00 și 14:00\, pe Stadionul de atletism „Nicolae Mărășescu”.\nPregătiți-vă pentru o zi plină de energie și mișcare\, perfectă pentru întreaga familie! Vom avea:• Ateliere pentru părinți și copii• Demonstrații susținute de cluburile sportive locale• Antrenamente gratuite pentru copii• Concursuri\nNu ratați ocazia de a descoperi și de a practica diverse discipline sportive\, printre care: atletism\, baschet\, fotbal\, volei\, handbal\, tenis\, oină\, rugby\, karate\, kempo\, jiu-jitsu\, judo\, lupte\, badminton\, dansuri\, gimnastică\, scrimă\, șah\, activități mortice adaptate și multe altele!\nVino să te bucuri de sport alături de noi și să descoperi noi pasiuni!\nIntrarea este liberă!\nNoi vom fi acolo:Direcția Județeană pentru Sport și Tineret Dolj\, Inspectoratul Școlar Județean Dolj\, Facultatea de Educație Fizică și Sport din Craiova\, Liceul cu Program Sportiv Petrache Trișcu\, Palatul Copiilor\, Sport Club Municipal Craiova\, Clubul Sportiv Municipal Craiova\, Clubul Sportiv Universitatea Craiova\, Clubul Sportiv Școlar Craiova\, Clubul Sportiv Județean Știința “ U ” Craiova\, structuri sportive private\, Inspectoratul Judetean de Poliție- Siguranta Școlară\, Crucea Roșie Craiova\, ONG-uri partenere.
URL:https://craiovalive.ro/eveniment/craiova-sportfest/
CATEGORIES:Ateliere,Sport
ATTACH;FMTTYPE=image/jpeg:https://craiovalive.ro/wp-content/uploads/2025/09/Craiova-SportFest.jpg
ORGANIZER;CN="Direc%C8%9Bia Jude%C8%9Bean%C4%83 pentru Sport %C8%99i Tineret Dolj":MAILTO:djs.dolj@sport.gov.ro
END:VEVENT
END:VCALENDAR