BEGIN:VCALENDAR
VERSION:2.0
PRODID:-//Craiova Live - ECPv6.15.18//NONSGML v1.0//EN
CALSCALE:GREGORIAN
METHOD:PUBLISH
X-WR-CALNAME:Craiova Live
X-ORIGINAL-URL:https://craiovalive.ro
X-WR-CALDESC:Evenimente pentru Craiova Live
REFRESH-INTERVAL;VALUE=DURATION:PT1H
X-Robots-Tag:noindex
X-PUBLISHED-TTL:PT1H
BEGIN:VTIMEZONE
TZID:Europe/Bucharest
BEGIN:DAYLIGHT
TZOFFSETFROM:+0200
TZOFFSETTO:+0300
TZNAME:EEST
DTSTART:20240331T010000
END:DAYLIGHT
BEGIN:STANDARD
TZOFFSETFROM:+0300
TZOFFSETTO:+0200
TZNAME:EET
DTSTART:20241027T010000
END:STANDARD
BEGIN:DAYLIGHT
TZOFFSETFROM:+0200
TZOFFSETTO:+0300
TZNAME:EEST
DTSTART:20250330T010000
END:DAYLIGHT
BEGIN:STANDARD
TZOFFSETFROM:+0300
TZOFFSETTO:+0200
TZNAME:EET
DTSTART:20251026T010000
END:STANDARD
BEGIN:DAYLIGHT
TZOFFSETFROM:+0200
TZOFFSETTO:+0300
TZNAME:EEST
DTSTART:20260329T010000
END:DAYLIGHT
BEGIN:STANDARD
TZOFFSETFROM:+0300
TZOFFSETTO:+0200
TZNAME:EET
DTSTART:20261025T010000
END:STANDARD
END:VTIMEZONE
BEGIN:VEVENT
DTSTART;TZID=Europe/Bucharest:20250531T100000
DTEND;TZID=Europe/Bucharest:20250531T180000
DTSTAMP:20260425T060640
CREATED:20250521T130342Z
LAST-MODIFIED:20250521T130414Z
UID:10006609-1748685600-1748714400@craiovalive.ro
SUMMARY:Spectacol-concurs de echitație Marele Premiu al Craiovei
DESCRIPTION:Pentru prima oară după zeci de ani\, spectacol-concurs de echitație\, pe hipodromul din Parcul Nicolae Romanescu de Zilele Craiovei!29 mai – 1 iunie!
URL:https://craiovalive.ro/eveniment/spectacol-concurs-de-echitatie-marele-premiu-al-craiovei/2025-05-31/
LOCATION:Parcul Nicolae Romanescu\, Craiova\, Dolj\, România
CATEGORIES:Sport
ATTACH;FMTTYPE=image/jpeg:https://craiovalive.ro/wp-content/uploads/2025/05/Spectacol-concurs-de-echitatie-Marele-Premiu-al-Craiovei.jpg
ORGANIZER;CN="Prim%C4%83ria Municipiului Craiova":MAILTO:imaginecv@primariacraiova.ro
GEO:44.301907335609;23.799200026224
END:VEVENT
BEGIN:VEVENT
DTSTART;TZID=Europe/Bucharest:20250601T090000
DTEND;TZID=Europe/Bucharest:20250601T140000
DTSTAMP:20260425T060640
CREATED:20250521T130342Z
LAST-MODIFIED:20250521T130414Z
UID:10006610-1748768400-1748786400@craiovalive.ro
SUMMARY:Spectacol-concurs de echitație Marele Premiu al Craiovei
DESCRIPTION:Pentru prima oară după zeci de ani\, spectacol-concurs de echitație\, pe hipodromul din Parcul Nicolae Romanescu de Zilele Craiovei!29 mai – 1 iunie!
URL:https://craiovalive.ro/eveniment/spectacol-concurs-de-echitatie-marele-premiu-al-craiovei/2025-06-01/
LOCATION:Parcul Nicolae Romanescu\, Craiova\, Dolj\, România
CATEGORIES:Sport
ATTACH;FMTTYPE=image/jpeg:https://craiovalive.ro/wp-content/uploads/2025/05/Spectacol-concurs-de-echitatie-Marele-Premiu-al-Craiovei.jpg
ORGANIZER;CN="Prim%C4%83ria Municipiului Craiova":MAILTO:imaginecv@primariacraiova.ro
GEO:44.301907335609;23.799200026224
END:VEVENT
END:VCALENDAR