BEGIN:VCALENDAR
VERSION:2.0
PRODID:-//Craiova Live - ECPv6.15.18//NONSGML v1.0//EN
CALSCALE:GREGORIAN
METHOD:PUBLISH
X-ORIGINAL-URL:https://craiovalive.ro
X-WR-CALDESC:Evenimente pentru Craiova Live
REFRESH-INTERVAL;VALUE=DURATION:PT1H
X-Robots-Tag:noindex
X-PUBLISHED-TTL:PT1H
BEGIN:VTIMEZONE
TZID:Europe/Bucharest
BEGIN:DAYLIGHT
TZOFFSETFROM:+0200
TZOFFSETTO:+0300
TZNAME:EEST
DTSTART:20240331T010000
END:DAYLIGHT
BEGIN:STANDARD
TZOFFSETFROM:+0300
TZOFFSETTO:+0200
TZNAME:EET
DTSTART:20241027T010000
END:STANDARD
BEGIN:DAYLIGHT
TZOFFSETFROM:+0200
TZOFFSETTO:+0300
TZNAME:EEST
DTSTART:20250330T010000
END:DAYLIGHT
BEGIN:STANDARD
TZOFFSETFROM:+0300
TZOFFSETTO:+0200
TZNAME:EET
DTSTART:20251026T010000
END:STANDARD
BEGIN:DAYLIGHT
TZOFFSETFROM:+0200
TZOFFSETTO:+0300
TZNAME:EEST
DTSTART:20260329T010000
END:DAYLIGHT
BEGIN:STANDARD
TZOFFSETFROM:+0300
TZOFFSETTO:+0200
TZNAME:EET
DTSTART:20261025T010000
END:STANDARD
END:VTIMEZONE
BEGIN:VEVENT
DTSTART;TZID=Europe/Bucharest:20250713T160000
DTEND;TZID=Europe/Bucharest:20250713T190000
DTSTAMP:20260424T060002
CREATED:20250708T121038Z
LAST-MODIFIED:20250711T095211Z
UID:10007727-1752422400-1752433200@craiovalive.ro
SUMMARY:Campionatele Balcanice de Atletism U20
DESCRIPTION:Craiova devine weekend-ul acesta inima atletismului din #Balcani!  Regal atletic la Craiova! Duminică\, 13 iulie\, Campionatele Balcanice de Atletism U20 au loc în Bănie!\n\n\n Stadionul „Nicolae Mărășescu”\n 13 iulie |  16:00\n\n\nVino să-i susții și să trăiești energia unei competiții de top pe o arenă modernă\, care pune Craiova pe harta sportului de performanță.  Peste 300 de sportivi din 19 țări vor participa la competiția sportivă și se vor lupta pentru titlul de cel mai bun atlet la categoria sa\, în cadrul Campionatului Balcanic de Juniori U20.\n\n\nȚările care vor fi reprezentate la campionat de lotul de sportivi juniori sunt: Albania\, Armenia\, Austria\, Bulgaria\, Bosnia&Herțegovina\, Croația\, Georgia\, Grecia\, Cipru\, Israel\, Moldova\, Macedonia\, Malta\, Muntenegru\, România\, Serbia\, Slovenia\, Ucraina și Turcia.\n\n\n Intrarea liberă – adu-ți prietenii și haideți să facem tribunele să vibreze!Show atletic\, food zone și alte surprize te așteaptă pe Stadionul Nicolae Mărășescu\, de la ora 16.00.
URL:https://craiovalive.ro/eveniment/campionatele-balcanice-de-atletism-u20/
LOCATION:Dolj
CATEGORIES:Sport
ATTACH;FMTTYPE=image/jpeg:https://craiovalive.ro/wp-content/uploads/2025/07/Campionatele-Balcanice-de-Atletism-U20-Craiova-2025.jpg
END:VEVENT
BEGIN:VEVENT
DTSTART;TZID=Europe/Bucharest:20250710T200000
DTEND;TZID=Europe/Bucharest:20250710T220000
DTSTAMP:20260424T060002
CREATED:20250710T092553Z
LAST-MODIFIED:20250710T092553Z
UID:10007730-1752177600-1752184800@craiovalive.ro
SUMMARY:White & Blue Night - Lansarea noului echipament Universitatea Craiova 2025/26
DESCRIPTION:Știința va urca pe scenă joi seara\, în Piața „Mihai Viteazul”.  Transformăm împreună centrul Craiovei într-o peluză alb-albastră pentru un spectacol total înaintea debutului din noul sezon. Ne vedem acolo pe 10 iulie\, începând cu ora 20:00. \n\n\n\nVom cânta împreună imnul Științei alături de interpretul Ciri Mayer.  MC Liviu Vârciu va fi prezent pe scena din Piața “Mihai Viteazul” alături de familia alb-albastră. \n\n\n\n\n\nDe 6 sezoane\, PUMA și Universitatea Craiova scriu împreună o poveste despre pasiune\, performanță și identitate.\n\n\n În 2025/2026\, purtăm din nou alb-albastrul cu mândrie și lansăm un nou echipament.\n\n\n Joi\, 10 iulie\, ora 20:00 – Piața Mihai Viteazul\, Craiova\n\n\n Fii parte din lansarea oficială a noului echipament PUMA x Universitatea Craiova\n Participă la activări speciale\n Câștigă echipamente și alte surprize\n Trăiește emoția unei seri dedicată 100% suporterilor\n\n\n Noul echipament este inspirat de simbolurile Olteniei și construit pentru performanță — cu tehnologie modernă\, design personalizat și respect pentru istorie.\n\n\n\n\n\n Piața „Mihai Viteazul” – joi\, ora 20:00
URL:https://craiovalive.ro/eveniment/white-blue-night-lansarea-noului-echipament-universitatea-craiova-2025-26/
LOCATION:Piața Mihai Viteazul\, Craiova\, Dolj\, România
CATEGORIES:Sport
ATTACH;FMTTYPE=image/jpeg:https://craiovalive.ro/wp-content/uploads/2025/07/White-Blue-Night-Craiova-2025.jpg
GEO:44.31805;23.79493
END:VEVENT
BEGIN:VEVENT
DTSTART;TZID=Europe/Bucharest:20250706T180000
DTEND;TZID=Europe/Bucharest:20250706T200000
DTSTAMP:20260424T060002
CREATED:20250704T100523Z
LAST-MODIFIED:20250704T100523Z
UID:10007694-1751824800-1751832000@craiovalive.ro
SUMMARY:Campionatele Naționale de Tineret U23\, etapa finală
DESCRIPTION:Craiova redevine capitala atletismului în acest weekend!\n\n\n Campionatele Naționale de Tineret U23 aduc în Bănie cei mai buni sportivi din țară!\n\n\n 05-06.07.2025\, ora 18:00 – Stadionul de Atletism „Nicolae Mărășescu”\n Campionatele Naționale de Tineret U23 – Finală\n\n\n\n Vino să susții viitorii campioni ai atletismului românesc! Intrarea este liberă!
URL:https://craiovalive.ro/eveniment/campionatele-nationale-de-tineret-u23-etapa-finala/2025-07-06/
LOCATION:Dolj
CATEGORIES:Sport
ATTACH;FMTTYPE=image/jpeg:https://craiovalive.ro/wp-content/uploads/2025/07/Campionatele-Nationale-de-Tineret-U23-etapa-finala.jpg
END:VEVENT
BEGIN:VEVENT
DTSTART;TZID=Europe/Bucharest:20250705T070000
DTEND;TZID=Europe/Bucharest:20250705T120000
DTSTAMP:20260424T060002
CREATED:20250704T100212Z
LAST-MODIFIED:20250704T100212Z
UID:10007692-1751698800-1751716800@craiovalive.ro
SUMMARY:Campionatele Naționale de Marș 20 km S\, U23\, U20
DESCRIPTION:Craiova redevine capitala atletismului în acest weekend!\n\n\n Campionatul Național de Marș aduce în Bănie cei mai buni sportivi din țară!\n\n\n 05.07.2025\, ora 7:00 – Parcul Tineretului\n Campionatele Naționale de marș 20 km – Seniori\, U23\, U20\n\n\n\n Vino să susții viitorii campioni ai atletismului românesc! Intrarea este liberă!
URL:https://craiovalive.ro/eveniment/campionatele-nationale-de-mars-20-km-s-u23-u20/
LOCATION:Dolj
CATEGORIES:Sport
ATTACH;FMTTYPE=image/jpeg:https://craiovalive.ro/wp-content/uploads/2025/07/Campionatele-Nationale-de-Mars-20-km-S-U23-U20.jpg
END:VEVENT
BEGIN:VEVENT
DTSTART;TZID=Europe/Bucharest:20250607T090000
DTEND;TZID=Europe/Bucharest:20250607T123000
DTSTAMP:20260424T060002
CREATED:20250506T084450Z
LAST-MODIFIED:20250506T084450Z
UID:10006361-1749286800-1749299400@craiovalive.ro
SUMMARY:Crosul Ziua Olimpică\, ediția XXX
DESCRIPTION:Scop: celebrarea înființării Comitetului Olimpic Internațional ce a avut loc in anul 1894 la Sorbona\n“Crosul Ziua Olimpică” este un eveniment sportiv international având ca scop promovarea participării tuturor oamenilor la sport indiferent de vârstă sau abilități sportive.\nORGANIZATORII COMPETIŢIEIDirecţia Judeţeană pentru Sport și Tineret DoljComitetul Olimpic și Sportiv RomânAcademia Olimpică Română – filiala Dolj\nDATA\, LOCAŢIA ŞI TRASEUL DE DESFĂŞURARE A COMPETIŢIEIDATA DE DESFĂŞURARE: 7 iunie 2025\,Loc de desfășurare: Parcul Nicolae Romanescu\,\nDetalii și condiții de participare:Traseu: circuit în Parcul Nicolae Romanescu Craiova (Poarta II – Aleea laterala dreapta – Restaurant Ciobănașul / Valea Fetii – Aleea Centrală – Teatrul de Vara – Lacul Lebedelor – Aleea lateala dreaptă – sosire în poienița de după Lacul Lebedelor)\n\nCursa PRO – este destinată persoanelor cu vârstă de peste 18 ani (născuții 2006 și mai mari)– va avea o lungime de 7 km\nCursa FUN – este destinată persoanelor cu vârstă de peste 15 ani (născuții 2009 și mai mari)– va avea o lungime de 1\,5 km\nCursa Copiilor 11 – 14 ani (nascuți 2010\, 2011\, 2012\, 2013). Aceștia se pot înscrie doar cu acordul părinților\, prin semnarea declarației de responsabilitate de către aceștia. Traseul va avea aproximativ 800 de metri.\nCursa Speranțelor– este destinată copiilor cu vîrsta între 7 – 10 ani. (născuți 2014\, 2015\, 2016\, 2017)Particpipanții se pot înscrie doar cu acordul părinților\, prin semnarea declarației de responsabilitate de către aceștia. Traseul va avea aproximativ 600 de metri.\nCursa Familiilor presupune o echipă formată din cel puțin un minor sub 6 ani (nascuți în anii 2018\, 2019\, 2020\, 2021\, 2022\, 2023\, 2024) si unul dintre părinții acestuia. Traseul va avea o lungime de aproximativ 400 m.– Distanța se parcurge în alergare sau mers\, grupat în familie.– Se pot utiliza carucioare pentru copii\nCursa SPECIAL OLYMPICS– este destinată persoanelor cu dizabilități.– Traseul va avea o lungime de aproximativ 300 m.\nParticpipanțiiCONDIȚII DE PARTICIPARE ȘI ÎNSCIEREÎnregistrarea pentru toate cursele se poate face online pe site-urile competitiei: www.sportdolj.ro / https://www.facebook.com/djsportdolj/ în perioada 20 mai – 4 iunie 2025sauprin înscriere la fața locului la data desfășurării competiției.\nCu ocazia înscrierii/validării fiecare participant va primi număr de concurs și tricou în limita stocului și a mărimilor.\nToate înscrierile vor fi validate la secretariat în ziua concursului.\nPentru a participa în cursele de: participanții trebuie să îndeplinească următoarele conditii:PARTICIPANȚI PESTE 16 ANIsă se prezinte cu un act de identitate și să semneze declarației de responsabilitate\nPARTICIPANȚI SUB 16 ANI• înscrierea individuală se va realiza de către un adult (tutore legal). Cu ocazia înregistrarii\, persoana care face inregistrarea va completa declarația pe proprie răspundere privind asumarea responsabilității pentru persoanele înscrise (minori) în cursă precum și pentru faptul că aceștia sunt apți medical și că pot face față parcurgerii întregii distante. (formular înscriere)• Înscriere în mod organizat (școală / club sportiv) – persoana desemnată de către instituție va prezenta tabel nominal cu participanții și cu viză medicală (tabel).\nPe toata durata evenimentului\, asistența medicală și protecția participanților vor fi asigurate de către organizatori.\n\nPREMIIPremiile constând în tricouri\, medalii sunt acordate de Comitetul Olimpic și Sportiv Român\, Academia Olimpică Română\, Direcția Județeană pentru Sport și Tineret Dolj\nDREPTURI DE AUTORPrin înregistrarea în competiție\, toți participanții vor autoriza de drept organizatorii\, inclusiv partenerii acestora să folosească și să reproducă orice declarație sau imagine cu participanții în alergare sau nu.Organizatorii pot da aceste materiale unei terțe persoane fără acordul expres al participanților\, această libertate fiind valabilă pe o peroadă nelimitată de timp atât pe plan național cât și internațional.\nPrin ÎNSCRIEREA la această competiție concurenții acceptă automat prezentul Regulament.
URL:https://craiovalive.ro/eveniment/crosul-ziua-olimpica-editia-xxx/
LOCATION:Parcul Nicolae Romanescu\, Craiova\, Dolj\, România
CATEGORIES:Sport
ATTACH;FMTTYPE=image/jpeg:https://craiovalive.ro/wp-content/uploads/2025/05/Crosul-Ziua-Olimpica-editia-XXX.jpg
ORGANIZER;CN="Direc%C8%9Bia Jude%C8%9Bean%C4%83 pentru Sport %C8%99i Tineret Dolj":MAILTO:djs.dolj@sport.gov.ro
GEO:44.301907335609;23.799200026224
END:VEVENT
END:VCALENDAR