BEGIN:VCALENDAR
VERSION:2.0
PRODID:-//Craiova Live - ECPv6.15.18//NONSGML v1.0//EN
CALSCALE:GREGORIAN
METHOD:PUBLISH
X-ORIGINAL-URL:https://craiovalive.ro
X-WR-CALDESC:Evenimente pentru Craiova Live
REFRESH-INTERVAL;VALUE=DURATION:PT1H
X-Robots-Tag:noindex
X-PUBLISHED-TTL:PT1H
BEGIN:VTIMEZONE
TZID:Europe/Bucharest
BEGIN:DAYLIGHT
TZOFFSETFROM:+0200
TZOFFSETTO:+0300
TZNAME:EEST
DTSTART:20240331T010000
END:DAYLIGHT
BEGIN:STANDARD
TZOFFSETFROM:+0300
TZOFFSETTO:+0200
TZNAME:EET
DTSTART:20241027T010000
END:STANDARD
BEGIN:DAYLIGHT
TZOFFSETFROM:+0200
TZOFFSETTO:+0300
TZNAME:EEST
DTSTART:20250330T010000
END:DAYLIGHT
BEGIN:STANDARD
TZOFFSETFROM:+0300
TZOFFSETTO:+0200
TZNAME:EET
DTSTART:20251026T010000
END:STANDARD
BEGIN:DAYLIGHT
TZOFFSETFROM:+0200
TZOFFSETTO:+0300
TZNAME:EEST
DTSTART:20260329T010000
END:DAYLIGHT
BEGIN:STANDARD
TZOFFSETFROM:+0300
TZOFFSETTO:+0200
TZNAME:EET
DTSTART:20261025T010000
END:STANDARD
BEGIN:DAYLIGHT
TZOFFSETFROM:+0200
TZOFFSETTO:+0300
TZNAME:EEST
DTSTART:20270328T010000
END:DAYLIGHT
BEGIN:STANDARD
TZOFFSETFROM:+0300
TZOFFSETTO:+0200
TZNAME:EET
DTSTART:20271031T010000
END:STANDARD
END:VTIMEZONE
BEGIN:VEVENT
DTSTART;TZID=Europe/Bucharest:20251018T090000
DTEND;TZID=Europe/Bucharest:20251018T150000
DTSTAMP:20260424T031723
CREATED:20250524T105135Z
LAST-MODIFIED:20250524T105135Z
UID:10006616-1760778000-1760799600@craiovalive.ro
SUMMARY:Semimaratonul Craiovei 2025\, ediția a VII-a
DESCRIPTION:Pe data de 18 octombrie 2025 vă așteptăm la START de la ora 10:00 la SEMIMARATONUL CRAIOVEI\, primul eveniment de fundraising comunitar din Craiova.Locație: Stadionul „Ion Oblemenco” CraiovaOrganizator: Asociația Română a Tinerilor cu Inițiativă (ARTI)Producător: SightRunning.roUn eveniment de alergare cu strângere de fonduri pentru cauze din comunitate.DETALII și ÎNSCRIERI aici:https://www.semimaratonulcraiovei.ro/TAXE REDUSE până pe 5 iunie 2025!––––––––––––12 TIPURI DE CURSE la care alergătorii se pot înscrie:CURSE CRONOMETRATE:– Semimaraton individual – minimum 18 ani împliniți până la data Evenimentului inclusiv – bucla se parcurge de trei ori (7 x 3 = 21 km);– Semimaraton ștafetă (3 membri) – minimum 14 ani împliniți până la data Evenimentului inclusiv – fiecare membru parcurge bucla o singură dată (3 x 7 = 21 km);– Crosul de 14 km – minimum 16 ani împliniți până la data Evenimentului inclusiv – bucla se parcurge de două ori (7 x 2 = 14 km);– Crosul de 7 km – minimum 14 ani împliniți până la data Evenimentului inclusiv – bucla se parcurge o dată (7 x 1 = 7 km);\nCURSE COMPETITIVE PENTRU ADOLESCENȚI (doar locurile 1-2-3)– Crosul Adolescenților 15 – 16 ani: 800 m – pe traseul principal de alergare – cursă competitivă;– Crosul Adolescenților 17 – 18 ani: 1\,5 km – pe traseul principal de alergare – cursă competitivă;\nCURSE NECRONOMETRATE– Cursa Populară – minimum 12 ani împliniți până la data Evenimentului inclusiv – de la punctul de START până la borna de 1 km și retur (2 km);– Cursa Fotoliilor Rulante – de la punctul de START până la borna de 0\,5 km și retur (1 km);– Cursă FUN – Cursa Familiei – maximum 4 participanți (200 m). Familia de alergători poate fi compusă din maximum 4 alergători (părinți\, copii\, bunici)\, dintre care cel puțin o persoană majoră- în zona Sălii Polivalente;– Cursele Copiilor 4- 5 ani: 300 m\, 6-7 ani: 400 m\, 8-10 ani: 500 m\, 11 – 14 ani: 600 m – în zona Sălii Polivalente;– CaniCross – în zona Sălii Polivalente (200 m);– Cursa Bebelușilor 0 – 1 an(mers de-a bușilea) și copii 2-3 ani ( alergare 50 m) – în interiorul Sălii Polivalente.\nÎnscrie-te la oricare dintre cursele disponibile și susține la alegere una dintre cauzele de mai jos:1. „Stop Analfabetism Drept Moștenire” (SAD) – promotor: Asociația Română a Tinerilor cu Inițiativă (ARTI)2. „Tabăra Bucuriei” – prima tabără din Oltenia dedicată copiilor cu afecțiuni oncologice și alte boli grave – promotor: Asociația Bucurie pentru Viață3. „Investim în sănătatea copiilor!”- promotor: Fundația Anya4. „Salvăm. Iubim. Respectăm! Sanctuarul celor 1000 de suflete – Măriuța” – promotor: Asociația pentru Protecția Animalelor Măriuța5. „Organizarea de ateliere de orientare profesională pentru tinerii din comunitatea locală” – promotor: Smart Mentality Association And Reciprocal Teaching (S.M.A.R.T.)6. „Let’s do it\, Romania!” – promotor: Asociația Kiwanis Craiova7. „Câinii de salvare în Educație” – promotor: Centrul Național Educare Canină8. „Fiecare pas pentru un viitor educat!”- promotor: Asociația Life is Better With Friends9. „Bursa terapiei” – promotor: Asociația Zâmbetul Piticilor10. „Alergăm pentru francofonie\, toleranță\, solidaritate!” – promotor: Alliance Française de Craiova11. Centrul de Zi „EGAL” – promotor: Filiala de Crucea Roșie Dolj 12. „Povestea fântânii din curtea familiei Jianu” – promotor: Asociația Vasiliada13. „Aleargă pentru educație! Susține viitorul copiilor din medii vulnerabile!” -promotor: Asociația Pro Civica Oltenia\n––––––––––––PROGRAMUL EVENIMENTULUI:Ediția a VII-a se va desfășura sâmbătă 18 octombrie 2025\, la Stadionul „Ion Oblemenco” Craiova\, după cum urmează:\n● 08:30-09:30 Ridicarea kiturilor de concurs● 09:30 Deschiderea Evenimentului● 09:35 Ședința tehnică● 09:40 Încălzirea● 10:00 START Cursa Fotoliilor Rulante● 10:05 START Cros 1\,5 km● 10:15 START Cros 800 m● 10:30 START Curse cronometrate● 11: 15 START Curse copii● 12:30 START Cursa Populară● 12:45 START Cursa bebelușilor● 13:00 START Cursa Familiei● 13:20 START CaniCross● 13:30 FINISH Semimaraton (21 km)● 13:30 Festivitatea de premiere● 15:00 Închiderea Evenimentului––––––––––––”ISTORIC SEMIMARATONUL CRAIOVEI”–Ediția 2018 = 400 de alergători pentru 10 cauze înscrise\, suma colectată fiind de 16.290 lei.–Ediția 2019 = 1200 de alergători pentru 10 cauze înscrise\, suma colectată fiind de 37.990 lei.–Ediția 2020 (adaptată realității pandemiei COVID 19\, în mod virtual)\, cursele fiind identificate cu nume din culorile curcubeului ROGVAIV(A)\, sub sloganul „ALERGĂM SEPARAT\, DAR ÎMPREUNĂ PENTRU COMUNITATE!”. S-a alergat în intervalul 20 iulie – 20 septembrie 2020 pentru susținerea Fondului Local de Investiții COVID19\, pentru care s-a colectat suma de 10.080 lei bani direcționați pentru susținerea sănătății sistemului de educație din Craiova.–Ediția 2022 -700 de alergători pentru 8 cauze înscrise\, suma colectată fiind de 64\,885 lei.–Ediția 2023 – 1100 de alergători pentru 10 cauze înscrise\, suma colectată: 76.256 lei.–Ediția 2024 – 1253 alergători pentru 13 cauze înscrise\, suma colectată: 109.502 lei.\nNE VEDEM LA START!!!
URL:https://craiovalive.ro/eveniment/semimaratonul-craiovei-2025-editia-a-vii-a/
LOCATION:Stadionul Ion Oblemenco Craiova\, Bulevardul Știrbei Vodă\, nr. 36\, Craiova\, Dolj\, 200653\, România
CATEGORIES:Sport
ATTACH;FMTTYPE=image/jpeg:https://craiovalive.ro/wp-content/uploads/2025/05/Semimaratonul-Craiovei-2025-editia-a-VII-a.jpg
GEO:44.313937555733;23.784390210881
X-APPLE-STRUCTURED-LOCATION;VALUE=URI;X-ADDRESS=Stadionul Ion Oblemenco Craiova Bulevardul Știrbei Vodă nr. 36 Craiova Dolj 200653 România;X-APPLE-RADIUS=500;X-TITLE=Bulevardul Știrbei Vodă\, nr. 36:geo:23.784390210881,44.313937555733
END:VEVENT
BEGIN:VEVENT
DTSTART;TZID=Europe/Bucharest:20251018T090000
DTEND;TZID=Europe/Bucharest:20251019T170000
DTSTAMP:20260424T031723
CREATED:20250802T160348Z
LAST-MODIFIED:20250928T153446Z
UID:10007880-1760778000-1760893200@craiovalive.ro
SUMMARY:Cupa României la Dans Sportiv 2025
DESCRIPTION:Craiova\, capitala dansului în 2025! În perioada 18 – 19 octombrie\, la Centrul Multifuncțional Craiova au loc Craiova Dance Fest și Cupa României la Dans Sportiv\, unde sunt așteptați dansatori din toată România!\n\nEveniment organizat de Federația Română de Dans Sportiv și Katamis Dance
URL:https://craiovalive.ro/eveniment/cupa-romaniei-la-dans-sportiv-2025/
LOCATION:Sala Polivalentă\, Bvd. Ilie Balaci\, nr.6\, Craiova\, Dolj\, România
CATEGORIES:Dans,Sport
ATTACH;FMTTYPE=image/jpeg:https://craiovalive.ro/wp-content/uploads/2025/08/Cupa-Romaniei-la-Dans-Sportiv-Craiova-2025.jpg
GEO:44.3133053;23.7867478
X-APPLE-STRUCTURED-LOCATION;VALUE=URI;X-ADDRESS=Sala Polivalentă Bvd. Ilie Balaci nr.6 Craiova Dolj România;X-APPLE-RADIUS=500;X-TITLE=Bvd. Ilie Balaci\, nr.6:geo:23.7867478,44.3133053
END:VEVENT
BEGIN:VEVENT
DTSTART;TZID=Europe/Bucharest:20251019T180000
DTEND;TZID=Europe/Bucharest:20251019T193000
DTSTAMP:20260424T031723
CREATED:20251007T203335Z
LAST-MODIFIED:20251007T203335Z
UID:10010286-1760896800-1760902200@craiovalive.ro
SUMMARY:Handbal Feminin: EHF EURO CUP 2026: România – Polonia
DESCRIPTION:Handbal: Women’s EHF EURO CUP 2026: România – Polonia\nSala Polivalenta\, Craiova\nduminică\, 19 octombrie\, ora 18:00 \nVino pe 19 octombrie\, ora 18:00\, la Sala Polivalentă din Craiova și susține echipa națională în confruntarea România – Polonia din Women’s EHF Euro Cup 2026! \n🇷🇴🤝🇵🇱 Toți pentru România. Pe 19 octombrie\, inima Olteniei bate pentru tricolore.\n👉Vino și tu alături de echipa feminină de handbal a României\, în Sala Polivalentă din Craiova\, la meciul România – Polonia\, din cadrul EHF Euro Cup 2025.\nÎmpreună susținem performanța și credem în echipa națională feminină de handbal a României!\n#ToțiPentruRomânia – alături de tricolore\, într-o atmosferă de neuitat!
URL:https://craiovalive.ro/eveniment/handbal-feminin-ehf-euro-cup-2026-romania-polonia/
LOCATION:Sala Polivalentă\, Bvd. Ilie Balaci\, nr.6\, Craiova\, Dolj\, România
CATEGORIES:Sport
ATTACH;FMTTYPE=image/jpeg:https://craiovalive.ro/wp-content/uploads/2025/10/Handbal-Feminin-EHF-EURO-CUP-2026-Romania-–-Polonia.jpg
GEO:44.3133053;23.7867478
X-APPLE-STRUCTURED-LOCATION;VALUE=URI;X-ADDRESS=Sala Polivalentă Bvd. Ilie Balaci nr.6 Craiova Dolj România;X-APPLE-RADIUS=500;X-TITLE=Bvd. Ilie Balaci\, nr.6:geo:23.7867478,44.3133053
END:VEVENT
BEGIN:VEVENT
DTSTART;TZID=Europe/Bucharest:20251023T220000
DTEND;TZID=Europe/Bucharest:20251023T233000
DTSTAMP:20260424T031723
CREATED:20251019T172742Z
LAST-MODIFIED:20251019T172742Z
UID:10010850-1761256800-1761262200@craiovalive.ro
SUMMARY:UEFA Conference League: Universitatea Craiova vs FC Noah
DESCRIPTION:Visul nopților europene colorate în alb-albastru continuă în casa noastră. \n\n\nȘtiința luptă să obțină primele puncte din UEFA Conference League joi\, 23 octombrie\, de la ora 22:00\, pe Stadionul “Ion Oblemenco”  FC Noah. Biletele sunt “calde” și vă așteaptă la toate punctele de vânzare tradiționale și online.\n\n\nCine iubește Știința\, aruncă telecomanda\, îmbracă tricoul alb-albastru și\, cu eșarfa la gât\, vine pe stadion!
URL:https://craiovalive.ro/eveniment/uefa-conference-league-universitatea-craiova-vs-fc-noah/
LOCATION:Stadionul Ion Oblemenco Craiova\, Bulevardul Știrbei Vodă\, nr. 36\, Craiova\, Dolj\, 200653\, România
CATEGORIES:Sport
ATTACH;FMTTYPE=image/jpeg:https://craiovalive.ro/wp-content/uploads/2025/10/UEFA-Conference-League-Universitatea-Craiova-vs-FC-Noah.jpg
GEO:44.313937555733;23.784390210881
X-APPLE-STRUCTURED-LOCATION;VALUE=URI;X-ADDRESS=Stadionul Ion Oblemenco Craiova Bulevardul Știrbei Vodă nr. 36 Craiova Dolj 200653 România;X-APPLE-RADIUS=500;X-TITLE=Bulevardul Știrbei Vodă\, nr. 36:geo:23.784390210881,44.313937555733
END:VEVENT
BEGIN:VEVENT
DTSTART;TZID=Europe/Bucharest:20260321T110000
DTEND;TZID=Europe/Bucharest:20260321T130000
DTSTAMP:20260424T031723
CREATED:20260317T185036Z
LAST-MODIFIED:20260317T185036Z
UID:10014364-1774090800-1774098000@craiovalive.ro
SUMMARY:Crosul pentru Viață 2026
DESCRIPTION:Crosul pentru Viață – fiecare pas contează\n\n\nPe 21 martie 2026\, te invităm în Parcul Tineretului din Craiova să iei parte la Crosul pentru Viață\, un eveniment dedicat mișcării\, bucuriei de a fi împreună și susținerii valorii vieții.\n\n\nEste mai mult decât o competiție sportivă. Este o ocazie de a aduce împreună copii\, tineri\, părinți și prieteni într-o atmosferă plină de energie\, în care sportul devine un mod frumos de a transmite un mesaj de solidaritate și speranță. Fie că alegi să alergi\, să mergi sau să participi alături de familie\, fiecare pas făcut în cadrul acestui eveniment devine parte dintr-o inițiativă care promovează viața\, comunitatea și implicarea.\n\n\n Cursele sunt pregătite pentru toate vârstele:\n* Cursa Familiei – pentru părinți și copii (aprox. 400 m)\, o cursă care încurajează mișcarea și timpul petrecut împreună\n* Cursa Copiilor – pentru elevii claselor V–VIII (aprox. 700 m)\, dedicată celor care iubesc sportul și energia competiției\n* Cursa Open – pentru adolescenți\, tineri și adulți (aprox. 1200 m)\, deschisă tuturor celor care vor să ia parte la eveniment\n\n\n Locație: Parcul Tineretului – zona „Locurile de joacă”\n Înscrierea participanților: începând cu ora 11:00\n\n\nLa finalul curselor\, toți participanții vor fi premiați cu diplome\, medalii\, apă și surprize\, pentru că la Crosul pentru Viață fiecare participant contează.\n\n\n Vino cu prietenii\, colegii sau familia și hai să transformăm această zi într-o sărbătoare a energiei\, a comunității și a respectului pentru viață.\n\n\n Crosul pentru Viață – alergăm împreună pentru un mesaj care merită dus mai departe.\n\n\nOrganizator: Sectorul de Tineret și Catehizare al Arhiepiscopiei Craiovei
URL:https://craiovalive.ro/eveniment/crosul-pentru-viata-2026/
LOCATION:Dolj
CATEGORIES:Sport
ATTACH;FMTTYPE=image/jpeg:https://craiovalive.ro/wp-content/uploads/2026/03/Crosul-pentru-Viata-2026.jpg
END:VEVENT
END:VCALENDAR