BEGIN:VCALENDAR
VERSION:2.0
PRODID:-//Craiova Live - ECPv6.15.18//NONSGML v1.0//EN
CALSCALE:GREGORIAN
METHOD:PUBLISH
X-ORIGINAL-URL:https://craiovalive.ro
X-WR-CALDESC:Evenimente pentru Craiova Live
REFRESH-INTERVAL;VALUE=DURATION:PT1H
X-Robots-Tag:noindex
X-PUBLISHED-TTL:PT1H
BEGIN:VTIMEZONE
TZID:Europe/Bucharest
BEGIN:DAYLIGHT
TZOFFSETFROM:+0200
TZOFFSETTO:+0300
TZNAME:EEST
DTSTART:20240331T010000
END:DAYLIGHT
BEGIN:STANDARD
TZOFFSETFROM:+0300
TZOFFSETTO:+0200
TZNAME:EET
DTSTART:20241027T010000
END:STANDARD
BEGIN:DAYLIGHT
TZOFFSETFROM:+0200
TZOFFSETTO:+0300
TZNAME:EEST
DTSTART:20250330T010000
END:DAYLIGHT
BEGIN:STANDARD
TZOFFSETFROM:+0300
TZOFFSETTO:+0200
TZNAME:EET
DTSTART:20251026T010000
END:STANDARD
BEGIN:DAYLIGHT
TZOFFSETFROM:+0200
TZOFFSETTO:+0300
TZNAME:EEST
DTSTART:20260329T010000
END:DAYLIGHT
BEGIN:STANDARD
TZOFFSETFROM:+0300
TZOFFSETTO:+0200
TZNAME:EET
DTSTART:20261025T010000
END:STANDARD
END:VTIMEZONE
BEGIN:VEVENT
DTSTART;TZID=Europe/Bucharest:20251025T183000
DTEND;TZID=Europe/Bucharest:20251025T200000
DTSTAMP:20260425T045335
CREATED:20251022T144114Z
LAST-MODIFIED:20251022T144114Z
UID:10012171-1761417000-1761422400@craiovalive.ro
SUMMARY:Procesiunea religioasă a Sf. Mare Mucenic Dimitrie – Izvorâtorul de Mir
DESCRIPTION:Procesiunea religioasă a Sf. Mare Mucenic Dimitrie – Izvorâtorul de Mir\n Sâmbătă\, 25 octombrie\, ora 18:30\nTraseu: Catedrala Mitropolitană – Str. Sf. Dumitru – Str. M. Kogălniceanu – Str. Arieș – Biserica Sf. Gheorghe Vechi – Universitate – Str. A.I. Cuza – Prefectură – Biserica Sf. Ilie – Catedrala Mitropolitană.
URL:https://craiovalive.ro/eveniment/procesiunea-religioasa-a-sf-mare-mucenic-dimitrie-izvoratorul-de-mir/
LOCATION:Locații multiple\, Craiova\, Dolj\, România
CATEGORIES:Manifestări religioase
ATTACH;FMTTYPE=image/jpeg:https://craiovalive.ro/wp-content/uploads/2024/10/Procesiune-Sf-Dumitru-Craiova-2024.jpg
GEO:44.3301785;23.7948808
END:VEVENT
END:VCALENDAR