BEGIN:VCALENDAR
VERSION:2.0
PRODID:-//Craiova Live - ECPv6.15.18//NONSGML v1.0//EN
CALSCALE:GREGORIAN
METHOD:PUBLISH
X-WR-CALNAME:Craiova Live
X-ORIGINAL-URL:https://craiovalive.ro
X-WR-CALDESC:Evenimente pentru Craiova Live
REFRESH-INTERVAL;VALUE=DURATION:PT1H
X-Robots-Tag:noindex
X-PUBLISHED-TTL:PT1H
BEGIN:VTIMEZONE
TZID:Europe/Bucharest
BEGIN:DAYLIGHT
TZOFFSETFROM:+0200
TZOFFSETTO:+0300
TZNAME:EEST
DTSTART:20250330T010000
END:DAYLIGHT
BEGIN:STANDARD
TZOFFSETFROM:+0300
TZOFFSETTO:+0200
TZNAME:EET
DTSTART:20251026T010000
END:STANDARD
BEGIN:DAYLIGHT
TZOFFSETFROM:+0200
TZOFFSETTO:+0300
TZNAME:EEST
DTSTART:20260329T010000
END:DAYLIGHT
BEGIN:STANDARD
TZOFFSETFROM:+0300
TZOFFSETTO:+0200
TZNAME:EET
DTSTART:20261025T010000
END:STANDARD
BEGIN:DAYLIGHT
TZOFFSETFROM:+0200
TZOFFSETTO:+0300
TZNAME:EEST
DTSTART:20270328T010000
END:DAYLIGHT
BEGIN:STANDARD
TZOFFSETFROM:+0300
TZOFFSETTO:+0200
TZNAME:EET
DTSTART:20271031T010000
END:STANDARD
END:VTIMEZONE
BEGIN:VEVENT
DTSTART;TZID=Europe/Bucharest:20260309T090000
DTEND;TZID=Europe/Bucharest:20260309T170000
DTSTAMP:20260424T004747
CREATED:20260307T225246Z
LAST-MODIFIED:20260307T230648Z
UID:10014162-1773046800-1773075600@craiovalive.ro
SUMMARY:Salonul de primăvară 2026
DESCRIPTION:SALONUL DE PRIMĂVARĂ 2026\nUniunea Artiștilor Plastici din România – Filiala Craiova a vernisaj vineri\, 6 martie 2026\, pra 16:00\, Salonul de Primăvară 2026\, un eveniment conceput ca un adevărat târg de artă\, dedicat întâlnirii directe dintre artist și public.\nSalonul reunește lucrări recente ale artiștilor plastici din Craiova\, iar toate lucrările expuse pot fi achiziționate. Este o ocazie de a susține arta contemporană locală și de a începe primăvara cu o lucrare originală.Expoziția poate fi vizitată în perioada 1 – 14 martie 2026.\n Galeria ARTA – Calea Unirii nr. 12\nVă așteptăm cu drag!
URL:https://craiovalive.ro/eveniment/salonul-de-primavara-2026/2026-03-09/
LOCATION:Galeria Arta 1\, Calea Unirii\, nr. 12\, Craiova\, Dolj\, România
CATEGORIES:Expoziție,Pictura
ATTACH;FMTTYPE=image/jpeg:https://craiovalive.ro/wp-content/uploads/2026/03/Salonul-de-primavara-2026.jpg
ORGANIZER;CN="Uniunea Arti%C8%99tilor Plastici din Rom%C3%A2nia - Filiala Craiova":MAILTO:emil_banuti@yahoo.com
GEO:44.3184417;23.7945318
X-APPLE-STRUCTURED-LOCATION;VALUE=URI;X-ADDRESS=Galeria Arta 1 Calea Unirii nr. 12 Craiova Dolj România;X-APPLE-RADIUS=500;X-TITLE=Calea Unirii\, nr. 12:geo:23.7945318,44.3184417
END:VEVENT
BEGIN:VEVENT
DTSTART;TZID=Europe/Bucharest:20260310T090000
DTEND;TZID=Europe/Bucharest:20260310T170000
DTSTAMP:20260424T004747
CREATED:20260307T215859Z
LAST-MODIFIED:20260307T215859Z
UID:10014128-1773133200-1773162000@craiovalive.ro
SUMMARY:Expoziție de pictură Pentru tine\, dragă mamă
DESCRIPTION:Muzeul Cărții și Exilului Românesc găzduiește duminică\, 8 martie 2026\,  la ora 12.00\, vernisajul expoziției de pictură Pentru tine\, dragă mamă\, organizat de Centrul Județean de Cultură și Artă Dolj\, Secția pentru Conservarea și Promovarea Culturii Tradiționale\, Asociația „Seniori Art” și Cromatic Arts Studio. \nExpoziția Pentru tine\, dragă mamă reprezintă un gând frumos și o explozie de culoare\, un mesaj lansat de Ziua Internațională a Femeii de către juniorii care activează în cadrul atelierelor de pictură „Să trăim frumos într-un mediu sănătos”\, derulate de Secția pentru Conservarea și Promovarea Culturii Tradiționale din cadrul Centrului Județean de Cultură și Artă Dolj. \nExpoziția reunește lucrări dedicate zilei de 8 martie\, mamelor\, doamnelor și domnișoarelor pe care le sărbătorim împreună. \nCuratorul expoziției este Daniel Guță\, membru UAP și coordonatorul atelierelor de pictură „Să trăim frumos într-un mediu sănătos”\, încă din anul 2018. \nExpozanții Alessia Vasilescu\, Andu Turcu\, Andreea Mirea\, Amalia Mihai\, Alexandra Mărinică\, Alexia Ardeleanu\, Daria Maria Florescu\, David Volintiru\, Eliza Lupu\, Eva Băluțoiu\, Gabriela Mărinică\, Luca Isvoranu\, Maria Simona Curcă\, Mihai Etegan\, Petra Barbu\, Petre Nicolas Săulescu\, Rareș Lucan\, Rebeca Dumitriu\, Ruxandra Lucan\, Sofia Robanțu aduc prin lucrările lor un crâmpei de primăvară însoțit de gândurile lor bune\, frumusețea și inocența copilărilei. \nExpoziția Pentru tine\, dragă mamă va fi disponibilă la Muzeul Cărții și Exilului Românesc până la sfârșitul lunii martie.
URL:https://craiovalive.ro/eveniment/expozitie-de-pictura-pentru-tine-draga-mama/2026-03-10/
LOCATION:Muzeul Cărții și Exilului Românesc\, Str. 24 Ianuarie nr. 4\, Craiova\, Dolj\, România
CATEGORIES:Expoziție,Pictura
ATTACH;FMTTYPE=image/jpeg:https://craiovalive.ro/wp-content/uploads/2026/03/Expozitie-de-pictura-Pentru-tine-draga-mama.jpg
ORGANIZER;CN="Centrul Jude%C8%9Bean de Cultur%C4%83 %C8%99i Art%C4%83 Dolj - Sec%C8%9Bia pentru Conservarea %C5%9Fi Promovarea Culturii Tradi%C8%9Bionale Dolj":MAILTO:ccpdolj@yahoo.com
GEO:44.3141881;23.7984041
X-APPLE-STRUCTURED-LOCATION;VALUE=URI;X-ADDRESS=Muzeul Cărții și Exilului Românesc Str. 24 Ianuarie nr. 4 Craiova Dolj România;X-APPLE-RADIUS=500;X-TITLE=Str. 24 Ianuarie nr. 4:geo:23.7984041,44.3141881
END:VEVENT
BEGIN:VEVENT
DTSTART;TZID=Europe/Bucharest:20260310T090000
DTEND;TZID=Europe/Bucharest:20260310T170000
DTSTAMP:20260424T004747
CREATED:20260307T225246Z
LAST-MODIFIED:20260307T230648Z
UID:10014163-1773133200-1773162000@craiovalive.ro
SUMMARY:Salonul de primăvară 2026
DESCRIPTION:SALONUL DE PRIMĂVARĂ 2026\nUniunea Artiștilor Plastici din România – Filiala Craiova a vernisaj vineri\, 6 martie 2026\, pra 16:00\, Salonul de Primăvară 2026\, un eveniment conceput ca un adevărat târg de artă\, dedicat întâlnirii directe dintre artist și public.\nSalonul reunește lucrări recente ale artiștilor plastici din Craiova\, iar toate lucrările expuse pot fi achiziționate. Este o ocazie de a susține arta contemporană locală și de a începe primăvara cu o lucrare originală.Expoziția poate fi vizitată în perioada 1 – 14 martie 2026.\n Galeria ARTA – Calea Unirii nr. 12\nVă așteptăm cu drag!
URL:https://craiovalive.ro/eveniment/salonul-de-primavara-2026/2026-03-10/
LOCATION:Galeria Arta 1\, Calea Unirii\, nr. 12\, Craiova\, Dolj\, România
CATEGORIES:Expoziție,Pictura
ATTACH;FMTTYPE=image/jpeg:https://craiovalive.ro/wp-content/uploads/2026/03/Salonul-de-primavara-2026.jpg
ORGANIZER;CN="Uniunea Arti%C8%99tilor Plastici din Rom%C3%A2nia - Filiala Craiova":MAILTO:emil_banuti@yahoo.com
GEO:44.3184417;23.7945318
X-APPLE-STRUCTURED-LOCATION;VALUE=URI;X-ADDRESS=Galeria Arta 1 Calea Unirii nr. 12 Craiova Dolj România;X-APPLE-RADIUS=500;X-TITLE=Calea Unirii\, nr. 12:geo:23.7945318,44.3184417
END:VEVENT
BEGIN:VEVENT
DTSTART;TZID=Europe/Bucharest:20260311T090000
DTEND;TZID=Europe/Bucharest:20260311T170000
DTSTAMP:20260424T004747
CREATED:20260307T215859Z
LAST-MODIFIED:20260307T215859Z
UID:10014129-1773219600-1773248400@craiovalive.ro
SUMMARY:Expoziție de pictură Pentru tine\, dragă mamă
DESCRIPTION:Muzeul Cărții și Exilului Românesc găzduiește duminică\, 8 martie 2026\,  la ora 12.00\, vernisajul expoziției de pictură Pentru tine\, dragă mamă\, organizat de Centrul Județean de Cultură și Artă Dolj\, Secția pentru Conservarea și Promovarea Culturii Tradiționale\, Asociația „Seniori Art” și Cromatic Arts Studio. \nExpoziția Pentru tine\, dragă mamă reprezintă un gând frumos și o explozie de culoare\, un mesaj lansat de Ziua Internațională a Femeii de către juniorii care activează în cadrul atelierelor de pictură „Să trăim frumos într-un mediu sănătos”\, derulate de Secția pentru Conservarea și Promovarea Culturii Tradiționale din cadrul Centrului Județean de Cultură și Artă Dolj. \nExpoziția reunește lucrări dedicate zilei de 8 martie\, mamelor\, doamnelor și domnișoarelor pe care le sărbătorim împreună. \nCuratorul expoziției este Daniel Guță\, membru UAP și coordonatorul atelierelor de pictură „Să trăim frumos într-un mediu sănătos”\, încă din anul 2018. \nExpozanții Alessia Vasilescu\, Andu Turcu\, Andreea Mirea\, Amalia Mihai\, Alexandra Mărinică\, Alexia Ardeleanu\, Daria Maria Florescu\, David Volintiru\, Eliza Lupu\, Eva Băluțoiu\, Gabriela Mărinică\, Luca Isvoranu\, Maria Simona Curcă\, Mihai Etegan\, Petra Barbu\, Petre Nicolas Săulescu\, Rareș Lucan\, Rebeca Dumitriu\, Ruxandra Lucan\, Sofia Robanțu aduc prin lucrările lor un crâmpei de primăvară însoțit de gândurile lor bune\, frumusețea și inocența copilărilei. \nExpoziția Pentru tine\, dragă mamă va fi disponibilă la Muzeul Cărții și Exilului Românesc până la sfârșitul lunii martie.
URL:https://craiovalive.ro/eveniment/expozitie-de-pictura-pentru-tine-draga-mama/2026-03-11/
LOCATION:Muzeul Cărții și Exilului Românesc\, Str. 24 Ianuarie nr. 4\, Craiova\, Dolj\, România
CATEGORIES:Expoziție,Pictura
ATTACH;FMTTYPE=image/jpeg:https://craiovalive.ro/wp-content/uploads/2026/03/Expozitie-de-pictura-Pentru-tine-draga-mama.jpg
ORGANIZER;CN="Centrul Jude%C8%9Bean de Cultur%C4%83 %C8%99i Art%C4%83 Dolj - Sec%C8%9Bia pentru Conservarea %C5%9Fi Promovarea Culturii Tradi%C8%9Bionale Dolj":MAILTO:ccpdolj@yahoo.com
GEO:44.3141881;23.7984041
X-APPLE-STRUCTURED-LOCATION;VALUE=URI;X-ADDRESS=Muzeul Cărții și Exilului Românesc Str. 24 Ianuarie nr. 4 Craiova Dolj România;X-APPLE-RADIUS=500;X-TITLE=Str. 24 Ianuarie nr. 4:geo:23.7984041,44.3141881
END:VEVENT
BEGIN:VEVENT
DTSTART;TZID=Europe/Bucharest:20260311T090000
DTEND;TZID=Europe/Bucharest:20260311T170000
DTSTAMP:20260424T004747
CREATED:20260307T225246Z
LAST-MODIFIED:20260307T230648Z
UID:10014164-1773219600-1773248400@craiovalive.ro
SUMMARY:Salonul de primăvară 2026
DESCRIPTION:SALONUL DE PRIMĂVARĂ 2026\nUniunea Artiștilor Plastici din România – Filiala Craiova a vernisaj vineri\, 6 martie 2026\, pra 16:00\, Salonul de Primăvară 2026\, un eveniment conceput ca un adevărat târg de artă\, dedicat întâlnirii directe dintre artist și public.\nSalonul reunește lucrări recente ale artiștilor plastici din Craiova\, iar toate lucrările expuse pot fi achiziționate. Este o ocazie de a susține arta contemporană locală și de a începe primăvara cu o lucrare originală.Expoziția poate fi vizitată în perioada 1 – 14 martie 2026.\n Galeria ARTA – Calea Unirii nr. 12\nVă așteptăm cu drag!
URL:https://craiovalive.ro/eveniment/salonul-de-primavara-2026/2026-03-11/
LOCATION:Galeria Arta 1\, Calea Unirii\, nr. 12\, Craiova\, Dolj\, România
CATEGORIES:Expoziție,Pictura
ATTACH;FMTTYPE=image/jpeg:https://craiovalive.ro/wp-content/uploads/2026/03/Salonul-de-primavara-2026.jpg
ORGANIZER;CN="Uniunea Arti%C8%99tilor Plastici din Rom%C3%A2nia - Filiala Craiova":MAILTO:emil_banuti@yahoo.com
GEO:44.3184417;23.7945318
X-APPLE-STRUCTURED-LOCATION;VALUE=URI;X-ADDRESS=Galeria Arta 1 Calea Unirii nr. 12 Craiova Dolj România;X-APPLE-RADIUS=500;X-TITLE=Calea Unirii\, nr. 12:geo:23.7945318,44.3184417
END:VEVENT
BEGIN:VEVENT
DTSTART;TZID=Europe/Bucharest:20260312T090000
DTEND;TZID=Europe/Bucharest:20260312T170000
DTSTAMP:20260424T004747
CREATED:20260307T215859Z
LAST-MODIFIED:20260307T215859Z
UID:10014130-1773306000-1773334800@craiovalive.ro
SUMMARY:Expoziție de pictură Pentru tine\, dragă mamă
DESCRIPTION:Muzeul Cărții și Exilului Românesc găzduiește duminică\, 8 martie 2026\,  la ora 12.00\, vernisajul expoziției de pictură Pentru tine\, dragă mamă\, organizat de Centrul Județean de Cultură și Artă Dolj\, Secția pentru Conservarea și Promovarea Culturii Tradiționale\, Asociația „Seniori Art” și Cromatic Arts Studio. \nExpoziția Pentru tine\, dragă mamă reprezintă un gând frumos și o explozie de culoare\, un mesaj lansat de Ziua Internațională a Femeii de către juniorii care activează în cadrul atelierelor de pictură „Să trăim frumos într-un mediu sănătos”\, derulate de Secția pentru Conservarea și Promovarea Culturii Tradiționale din cadrul Centrului Județean de Cultură și Artă Dolj. \nExpoziția reunește lucrări dedicate zilei de 8 martie\, mamelor\, doamnelor și domnișoarelor pe care le sărbătorim împreună. \nCuratorul expoziției este Daniel Guță\, membru UAP și coordonatorul atelierelor de pictură „Să trăim frumos într-un mediu sănătos”\, încă din anul 2018. \nExpozanții Alessia Vasilescu\, Andu Turcu\, Andreea Mirea\, Amalia Mihai\, Alexandra Mărinică\, Alexia Ardeleanu\, Daria Maria Florescu\, David Volintiru\, Eliza Lupu\, Eva Băluțoiu\, Gabriela Mărinică\, Luca Isvoranu\, Maria Simona Curcă\, Mihai Etegan\, Petra Barbu\, Petre Nicolas Săulescu\, Rareș Lucan\, Rebeca Dumitriu\, Ruxandra Lucan\, Sofia Robanțu aduc prin lucrările lor un crâmpei de primăvară însoțit de gândurile lor bune\, frumusețea și inocența copilărilei. \nExpoziția Pentru tine\, dragă mamă va fi disponibilă la Muzeul Cărții și Exilului Românesc până la sfârșitul lunii martie.
URL:https://craiovalive.ro/eveniment/expozitie-de-pictura-pentru-tine-draga-mama/2026-03-12/
LOCATION:Muzeul Cărții și Exilului Românesc\, Str. 24 Ianuarie nr. 4\, Craiova\, Dolj\, România
CATEGORIES:Expoziție,Pictura
ATTACH;FMTTYPE=image/jpeg:https://craiovalive.ro/wp-content/uploads/2026/03/Expozitie-de-pictura-Pentru-tine-draga-mama.jpg
ORGANIZER;CN="Centrul Jude%C8%9Bean de Cultur%C4%83 %C8%99i Art%C4%83 Dolj - Sec%C8%9Bia pentru Conservarea %C5%9Fi Promovarea Culturii Tradi%C8%9Bionale Dolj":MAILTO:ccpdolj@yahoo.com
GEO:44.3141881;23.7984041
X-APPLE-STRUCTURED-LOCATION;VALUE=URI;X-ADDRESS=Muzeul Cărții și Exilului Românesc Str. 24 Ianuarie nr. 4 Craiova Dolj România;X-APPLE-RADIUS=500;X-TITLE=Str. 24 Ianuarie nr. 4:geo:23.7984041,44.3141881
END:VEVENT
BEGIN:VEVENT
DTSTART;TZID=Europe/Bucharest:20260312T090000
DTEND;TZID=Europe/Bucharest:20260312T170000
DTSTAMP:20260424T004747
CREATED:20260307T225246Z
LAST-MODIFIED:20260307T230648Z
UID:10014165-1773306000-1773334800@craiovalive.ro
SUMMARY:Salonul de primăvară 2026
DESCRIPTION:SALONUL DE PRIMĂVARĂ 2026\nUniunea Artiștilor Plastici din România – Filiala Craiova a vernisaj vineri\, 6 martie 2026\, pra 16:00\, Salonul de Primăvară 2026\, un eveniment conceput ca un adevărat târg de artă\, dedicat întâlnirii directe dintre artist și public.\nSalonul reunește lucrări recente ale artiștilor plastici din Craiova\, iar toate lucrările expuse pot fi achiziționate. Este o ocazie de a susține arta contemporană locală și de a începe primăvara cu o lucrare originală.Expoziția poate fi vizitată în perioada 1 – 14 martie 2026.\n Galeria ARTA – Calea Unirii nr. 12\nVă așteptăm cu drag!
URL:https://craiovalive.ro/eveniment/salonul-de-primavara-2026/2026-03-12/
LOCATION:Galeria Arta 1\, Calea Unirii\, nr. 12\, Craiova\, Dolj\, România
CATEGORIES:Expoziție,Pictura
ATTACH;FMTTYPE=image/jpeg:https://craiovalive.ro/wp-content/uploads/2026/03/Salonul-de-primavara-2026.jpg
ORGANIZER;CN="Uniunea Arti%C8%99tilor Plastici din Rom%C3%A2nia - Filiala Craiova":MAILTO:emil_banuti@yahoo.com
GEO:44.3184417;23.7945318
X-APPLE-STRUCTURED-LOCATION;VALUE=URI;X-ADDRESS=Galeria Arta 1 Calea Unirii nr. 12 Craiova Dolj România;X-APPLE-RADIUS=500;X-TITLE=Calea Unirii\, nr. 12:geo:23.7945318,44.3184417
END:VEVENT
BEGIN:VEVENT
DTSTART;TZID=Europe/Bucharest:20260313T090000
DTEND;TZID=Europe/Bucharest:20260313T170000
DTSTAMP:20260424T004747
CREATED:20260307T215859Z
LAST-MODIFIED:20260307T215859Z
UID:10014131-1773392400-1773421200@craiovalive.ro
SUMMARY:Expoziție de pictură Pentru tine\, dragă mamă
DESCRIPTION:Muzeul Cărții și Exilului Românesc găzduiește duminică\, 8 martie 2026\,  la ora 12.00\, vernisajul expoziției de pictură Pentru tine\, dragă mamă\, organizat de Centrul Județean de Cultură și Artă Dolj\, Secția pentru Conservarea și Promovarea Culturii Tradiționale\, Asociația „Seniori Art” și Cromatic Arts Studio. \nExpoziția Pentru tine\, dragă mamă reprezintă un gând frumos și o explozie de culoare\, un mesaj lansat de Ziua Internațională a Femeii de către juniorii care activează în cadrul atelierelor de pictură „Să trăim frumos într-un mediu sănătos”\, derulate de Secția pentru Conservarea și Promovarea Culturii Tradiționale din cadrul Centrului Județean de Cultură și Artă Dolj. \nExpoziția reunește lucrări dedicate zilei de 8 martie\, mamelor\, doamnelor și domnișoarelor pe care le sărbătorim împreună. \nCuratorul expoziției este Daniel Guță\, membru UAP și coordonatorul atelierelor de pictură „Să trăim frumos într-un mediu sănătos”\, încă din anul 2018. \nExpozanții Alessia Vasilescu\, Andu Turcu\, Andreea Mirea\, Amalia Mihai\, Alexandra Mărinică\, Alexia Ardeleanu\, Daria Maria Florescu\, David Volintiru\, Eliza Lupu\, Eva Băluțoiu\, Gabriela Mărinică\, Luca Isvoranu\, Maria Simona Curcă\, Mihai Etegan\, Petra Barbu\, Petre Nicolas Săulescu\, Rareș Lucan\, Rebeca Dumitriu\, Ruxandra Lucan\, Sofia Robanțu aduc prin lucrările lor un crâmpei de primăvară însoțit de gândurile lor bune\, frumusețea și inocența copilărilei. \nExpoziția Pentru tine\, dragă mamă va fi disponibilă la Muzeul Cărții și Exilului Românesc până la sfârșitul lunii martie.
URL:https://craiovalive.ro/eveniment/expozitie-de-pictura-pentru-tine-draga-mama/2026-03-13/
LOCATION:Muzeul Cărții și Exilului Românesc\, Str. 24 Ianuarie nr. 4\, Craiova\, Dolj\, România
CATEGORIES:Expoziție,Pictura
ATTACH;FMTTYPE=image/jpeg:https://craiovalive.ro/wp-content/uploads/2026/03/Expozitie-de-pictura-Pentru-tine-draga-mama.jpg
ORGANIZER;CN="Centrul Jude%C8%9Bean de Cultur%C4%83 %C8%99i Art%C4%83 Dolj - Sec%C8%9Bia pentru Conservarea %C5%9Fi Promovarea Culturii Tradi%C8%9Bionale Dolj":MAILTO:ccpdolj@yahoo.com
GEO:44.3141881;23.7984041
X-APPLE-STRUCTURED-LOCATION;VALUE=URI;X-ADDRESS=Muzeul Cărții și Exilului Românesc Str. 24 Ianuarie nr. 4 Craiova Dolj România;X-APPLE-RADIUS=500;X-TITLE=Str. 24 Ianuarie nr. 4:geo:23.7984041,44.3141881
END:VEVENT
BEGIN:VEVENT
DTSTART;TZID=Europe/Bucharest:20260313T090000
DTEND;TZID=Europe/Bucharest:20260313T170000
DTSTAMP:20260424T004747
CREATED:20260307T225246Z
LAST-MODIFIED:20260307T230648Z
UID:10014166-1773392400-1773421200@craiovalive.ro
SUMMARY:Salonul de primăvară 2026
DESCRIPTION:SALONUL DE PRIMĂVARĂ 2026\nUniunea Artiștilor Plastici din România – Filiala Craiova a vernisaj vineri\, 6 martie 2026\, pra 16:00\, Salonul de Primăvară 2026\, un eveniment conceput ca un adevărat târg de artă\, dedicat întâlnirii directe dintre artist și public.\nSalonul reunește lucrări recente ale artiștilor plastici din Craiova\, iar toate lucrările expuse pot fi achiziționate. Este o ocazie de a susține arta contemporană locală și de a începe primăvara cu o lucrare originală.Expoziția poate fi vizitată în perioada 1 – 14 martie 2026.\n Galeria ARTA – Calea Unirii nr. 12\nVă așteptăm cu drag!
URL:https://craiovalive.ro/eveniment/salonul-de-primavara-2026/2026-03-13/
LOCATION:Galeria Arta 1\, Calea Unirii\, nr. 12\, Craiova\, Dolj\, România
CATEGORIES:Expoziție,Pictura
ATTACH;FMTTYPE=image/jpeg:https://craiovalive.ro/wp-content/uploads/2026/03/Salonul-de-primavara-2026.jpg
ORGANIZER;CN="Uniunea Arti%C8%99tilor Plastici din Rom%C3%A2nia - Filiala Craiova":MAILTO:emil_banuti@yahoo.com
GEO:44.3184417;23.7945318
X-APPLE-STRUCTURED-LOCATION;VALUE=URI;X-ADDRESS=Galeria Arta 1 Calea Unirii nr. 12 Craiova Dolj România;X-APPLE-RADIUS=500;X-TITLE=Calea Unirii\, nr. 12:geo:23.7945318,44.3184417
END:VEVENT
BEGIN:VEVENT
DTSTART;TZID=Europe/Bucharest:20260314T090000
DTEND;TZID=Europe/Bucharest:20260314T170000
DTSTAMP:20260424T004747
CREATED:20260307T215859Z
LAST-MODIFIED:20260307T215859Z
UID:10014132-1773478800-1773507600@craiovalive.ro
SUMMARY:Expoziție de pictură Pentru tine\, dragă mamă
DESCRIPTION:Muzeul Cărții și Exilului Românesc găzduiește duminică\, 8 martie 2026\,  la ora 12.00\, vernisajul expoziției de pictură Pentru tine\, dragă mamă\, organizat de Centrul Județean de Cultură și Artă Dolj\, Secția pentru Conservarea și Promovarea Culturii Tradiționale\, Asociația „Seniori Art” și Cromatic Arts Studio. \nExpoziția Pentru tine\, dragă mamă reprezintă un gând frumos și o explozie de culoare\, un mesaj lansat de Ziua Internațională a Femeii de către juniorii care activează în cadrul atelierelor de pictură „Să trăim frumos într-un mediu sănătos”\, derulate de Secția pentru Conservarea și Promovarea Culturii Tradiționale din cadrul Centrului Județean de Cultură și Artă Dolj. \nExpoziția reunește lucrări dedicate zilei de 8 martie\, mamelor\, doamnelor și domnișoarelor pe care le sărbătorim împreună. \nCuratorul expoziției este Daniel Guță\, membru UAP și coordonatorul atelierelor de pictură „Să trăim frumos într-un mediu sănătos”\, încă din anul 2018. \nExpozanții Alessia Vasilescu\, Andu Turcu\, Andreea Mirea\, Amalia Mihai\, Alexandra Mărinică\, Alexia Ardeleanu\, Daria Maria Florescu\, David Volintiru\, Eliza Lupu\, Eva Băluțoiu\, Gabriela Mărinică\, Luca Isvoranu\, Maria Simona Curcă\, Mihai Etegan\, Petra Barbu\, Petre Nicolas Săulescu\, Rareș Lucan\, Rebeca Dumitriu\, Ruxandra Lucan\, Sofia Robanțu aduc prin lucrările lor un crâmpei de primăvară însoțit de gândurile lor bune\, frumusețea și inocența copilărilei. \nExpoziția Pentru tine\, dragă mamă va fi disponibilă la Muzeul Cărții și Exilului Românesc până la sfârșitul lunii martie.
URL:https://craiovalive.ro/eveniment/expozitie-de-pictura-pentru-tine-draga-mama/2026-03-14/
LOCATION:Muzeul Cărții și Exilului Românesc\, Str. 24 Ianuarie nr. 4\, Craiova\, Dolj\, România
CATEGORIES:Expoziție,Pictura
ATTACH;FMTTYPE=image/jpeg:https://craiovalive.ro/wp-content/uploads/2026/03/Expozitie-de-pictura-Pentru-tine-draga-mama.jpg
ORGANIZER;CN="Centrul Jude%C8%9Bean de Cultur%C4%83 %C8%99i Art%C4%83 Dolj - Sec%C8%9Bia pentru Conservarea %C5%9Fi Promovarea Culturii Tradi%C8%9Bionale Dolj":MAILTO:ccpdolj@yahoo.com
GEO:44.3141881;23.7984041
X-APPLE-STRUCTURED-LOCATION;VALUE=URI;X-ADDRESS=Muzeul Cărții și Exilului Românesc Str. 24 Ianuarie nr. 4 Craiova Dolj România;X-APPLE-RADIUS=500;X-TITLE=Str. 24 Ianuarie nr. 4:geo:23.7984041,44.3141881
END:VEVENT
BEGIN:VEVENT
DTSTART;TZID=Europe/Bucharest:20260314T090000
DTEND;TZID=Europe/Bucharest:20260314T170000
DTSTAMP:20260424T004747
CREATED:20260307T225246Z
LAST-MODIFIED:20260307T230648Z
UID:10014167-1773478800-1773507600@craiovalive.ro
SUMMARY:Salonul de primăvară 2026
DESCRIPTION:SALONUL DE PRIMĂVARĂ 2026\nUniunea Artiștilor Plastici din România – Filiala Craiova a vernisaj vineri\, 6 martie 2026\, pra 16:00\, Salonul de Primăvară 2026\, un eveniment conceput ca un adevărat târg de artă\, dedicat întâlnirii directe dintre artist și public.\nSalonul reunește lucrări recente ale artiștilor plastici din Craiova\, iar toate lucrările expuse pot fi achiziționate. Este o ocazie de a susține arta contemporană locală și de a începe primăvara cu o lucrare originală.Expoziția poate fi vizitată în perioada 1 – 14 martie 2026.\n Galeria ARTA – Calea Unirii nr. 12\nVă așteptăm cu drag!
URL:https://craiovalive.ro/eveniment/salonul-de-primavara-2026/2026-03-14/
LOCATION:Galeria Arta 1\, Calea Unirii\, nr. 12\, Craiova\, Dolj\, România
CATEGORIES:Expoziție,Pictura
ATTACH;FMTTYPE=image/jpeg:https://craiovalive.ro/wp-content/uploads/2026/03/Salonul-de-primavara-2026.jpg
ORGANIZER;CN="Uniunea Arti%C8%99tilor Plastici din Rom%C3%A2nia - Filiala Craiova":MAILTO:emil_banuti@yahoo.com
GEO:44.3184417;23.7945318
X-APPLE-STRUCTURED-LOCATION;VALUE=URI;X-ADDRESS=Galeria Arta 1 Calea Unirii nr. 12 Craiova Dolj România;X-APPLE-RADIUS=500;X-TITLE=Calea Unirii\, nr. 12:geo:23.7945318,44.3184417
END:VEVENT
BEGIN:VEVENT
DTSTART;TZID=Europe/Bucharest:20260315T090000
DTEND;TZID=Europe/Bucharest:20260315T170000
DTSTAMP:20260424T004747
CREATED:20260307T215859Z
LAST-MODIFIED:20260307T215859Z
UID:10014133-1773565200-1773594000@craiovalive.ro
SUMMARY:Expoziție de pictură Pentru tine\, dragă mamă
DESCRIPTION:Muzeul Cărții și Exilului Românesc găzduiește duminică\, 8 martie 2026\,  la ora 12.00\, vernisajul expoziției de pictură Pentru tine\, dragă mamă\, organizat de Centrul Județean de Cultură și Artă Dolj\, Secția pentru Conservarea și Promovarea Culturii Tradiționale\, Asociația „Seniori Art” și Cromatic Arts Studio. \nExpoziția Pentru tine\, dragă mamă reprezintă un gând frumos și o explozie de culoare\, un mesaj lansat de Ziua Internațională a Femeii de către juniorii care activează în cadrul atelierelor de pictură „Să trăim frumos într-un mediu sănătos”\, derulate de Secția pentru Conservarea și Promovarea Culturii Tradiționale din cadrul Centrului Județean de Cultură și Artă Dolj. \nExpoziția reunește lucrări dedicate zilei de 8 martie\, mamelor\, doamnelor și domnișoarelor pe care le sărbătorim împreună. \nCuratorul expoziției este Daniel Guță\, membru UAP și coordonatorul atelierelor de pictură „Să trăim frumos într-un mediu sănătos”\, încă din anul 2018. \nExpozanții Alessia Vasilescu\, Andu Turcu\, Andreea Mirea\, Amalia Mihai\, Alexandra Mărinică\, Alexia Ardeleanu\, Daria Maria Florescu\, David Volintiru\, Eliza Lupu\, Eva Băluțoiu\, Gabriela Mărinică\, Luca Isvoranu\, Maria Simona Curcă\, Mihai Etegan\, Petra Barbu\, Petre Nicolas Săulescu\, Rareș Lucan\, Rebeca Dumitriu\, Ruxandra Lucan\, Sofia Robanțu aduc prin lucrările lor un crâmpei de primăvară însoțit de gândurile lor bune\, frumusețea și inocența copilărilei. \nExpoziția Pentru tine\, dragă mamă va fi disponibilă la Muzeul Cărții și Exilului Românesc până la sfârșitul lunii martie.
URL:https://craiovalive.ro/eveniment/expozitie-de-pictura-pentru-tine-draga-mama/2026-03-15/
LOCATION:Muzeul Cărții și Exilului Românesc\, Str. 24 Ianuarie nr. 4\, Craiova\, Dolj\, România
CATEGORIES:Expoziție,Pictura
ATTACH;FMTTYPE=image/jpeg:https://craiovalive.ro/wp-content/uploads/2026/03/Expozitie-de-pictura-Pentru-tine-draga-mama.jpg
ORGANIZER;CN="Centrul Jude%C8%9Bean de Cultur%C4%83 %C8%99i Art%C4%83 Dolj - Sec%C8%9Bia pentru Conservarea %C5%9Fi Promovarea Culturii Tradi%C8%9Bionale Dolj":MAILTO:ccpdolj@yahoo.com
GEO:44.3141881;23.7984041
X-APPLE-STRUCTURED-LOCATION;VALUE=URI;X-ADDRESS=Muzeul Cărții și Exilului Românesc Str. 24 Ianuarie nr. 4 Craiova Dolj România;X-APPLE-RADIUS=500;X-TITLE=Str. 24 Ianuarie nr. 4:geo:23.7984041,44.3141881
END:VEVENT
END:VCALENDAR