BEGIN:VCALENDAR
VERSION:2.0
PRODID:-//Craiova Live - ECPv6.15.18//NONSGML v1.0//EN
CALSCALE:GREGORIAN
METHOD:PUBLISH
X-WR-CALNAME:Craiova Live
X-ORIGINAL-URL:https://craiovalive.ro
X-WR-CALDESC:Evenimente pentru Craiova Live
REFRESH-INTERVAL;VALUE=DURATION:PT1H
X-Robots-Tag:noindex
X-PUBLISHED-TTL:PT1H
BEGIN:VTIMEZONE
TZID:Europe/Bucharest
BEGIN:DAYLIGHT
TZOFFSETFROM:+0200
TZOFFSETTO:+0300
TZNAME:EEST
DTSTART:20250330T010000
END:DAYLIGHT
BEGIN:STANDARD
TZOFFSETFROM:+0300
TZOFFSETTO:+0200
TZNAME:EET
DTSTART:20251026T010000
END:STANDARD
BEGIN:DAYLIGHT
TZOFFSETFROM:+0200
TZOFFSETTO:+0300
TZNAME:EEST
DTSTART:20260329T010000
END:DAYLIGHT
BEGIN:STANDARD
TZOFFSETFROM:+0300
TZOFFSETTO:+0200
TZNAME:EET
DTSTART:20261025T010000
END:STANDARD
BEGIN:DAYLIGHT
TZOFFSETFROM:+0200
TZOFFSETTO:+0300
TZNAME:EEST
DTSTART:20270328T010000
END:DAYLIGHT
BEGIN:STANDARD
TZOFFSETFROM:+0300
TZOFFSETTO:+0200
TZNAME:EET
DTSTART:20271031T010000
END:STANDARD
END:VTIMEZONE
BEGIN:VEVENT
DTSTART;TZID=Europe/Bucharest:20260301T090000
DTEND;TZID=Europe/Bucharest:20260301T170000
DTSTAMP:20260424T021801
CREATED:20260307T225246Z
LAST-MODIFIED:20260307T230648Z
UID:10014149-1772355600-1772384400@craiovalive.ro
SUMMARY:Salonul de primăvară 2026
DESCRIPTION:SALONUL DE PRIMĂVARĂ 2026\nUniunea Artiștilor Plastici din România – Filiala Craiova a vernisaj vineri\, 6 martie 2026\, pra 16:00\, Salonul de Primăvară 2026\, un eveniment conceput ca un adevărat târg de artă\, dedicat întâlnirii directe dintre artist și public.\nSalonul reunește lucrări recente ale artiștilor plastici din Craiova\, iar toate lucrările expuse pot fi achiziționate. Este o ocazie de a susține arta contemporană locală și de a începe primăvara cu o lucrare originală.Expoziția poate fi vizitată în perioada 1 – 14 martie 2026.\n Galeria ARTA – Calea Unirii nr. 12\nVă așteptăm cu drag!
URL:https://craiovalive.ro/eveniment/salonul-de-primavara-2026/2026-03-01/
LOCATION:Galeria Arta 1\, Calea Unirii\, nr. 12\, Craiova\, Dolj\, România
CATEGORIES:Expoziție,Pictura
ATTACH;FMTTYPE=image/jpeg:https://craiovalive.ro/wp-content/uploads/2026/03/Salonul-de-primavara-2026.jpg
ORGANIZER;CN="Uniunea Arti%C8%99tilor Plastici din Rom%C3%A2nia - Filiala Craiova":MAILTO:emil_banuti@yahoo.com
GEO:44.3184417;23.7945318
X-APPLE-STRUCTURED-LOCATION;VALUE=URI;X-ADDRESS=Galeria Arta 1 Calea Unirii nr. 12 Craiova Dolj România;X-APPLE-RADIUS=500;X-TITLE=Calea Unirii\, nr. 12:geo:23.7945318,44.3184417
END:VEVENT
END:VCALENDAR