BEGIN:VCALENDAR
VERSION:2.0
PRODID:-//Craiova Live - ECPv6.15.18//NONSGML v1.0//EN
CALSCALE:GREGORIAN
METHOD:PUBLISH
X-WR-CALNAME:Craiova Live
X-ORIGINAL-URL:https://craiovalive.ro
X-WR-CALDESC:Evenimente pentru Craiova Live
REFRESH-INTERVAL;VALUE=DURATION:PT1H
X-Robots-Tag:noindex
X-PUBLISHED-TTL:PT1H
BEGIN:VTIMEZONE
TZID:Europe/Bucharest
BEGIN:DAYLIGHT
TZOFFSETFROM:+0200
TZOFFSETTO:+0300
TZNAME:EEST
DTSTART:20240331T010000
END:DAYLIGHT
BEGIN:STANDARD
TZOFFSETFROM:+0300
TZOFFSETTO:+0200
TZNAME:EET
DTSTART:20241027T010000
END:STANDARD
BEGIN:DAYLIGHT
TZOFFSETFROM:+0200
TZOFFSETTO:+0300
TZNAME:EEST
DTSTART:20250330T010000
END:DAYLIGHT
BEGIN:STANDARD
TZOFFSETFROM:+0300
TZOFFSETTO:+0200
TZNAME:EET
DTSTART:20251026T010000
END:STANDARD
BEGIN:DAYLIGHT
TZOFFSETFROM:+0200
TZOFFSETTO:+0300
TZNAME:EEST
DTSTART:20260329T010000
END:DAYLIGHT
BEGIN:STANDARD
TZOFFSETFROM:+0300
TZOFFSETTO:+0200
TZNAME:EET
DTSTART:20261025T010000
END:STANDARD
BEGIN:DAYLIGHT
TZOFFSETFROM:+0200
TZOFFSETTO:+0300
TZNAME:EEST
DTSTART:20270328T010000
END:DAYLIGHT
BEGIN:STANDARD
TZOFFSETFROM:+0300
TZOFFSETTO:+0200
TZNAME:EET
DTSTART:20271031T010000
END:STANDARD
END:VTIMEZONE
BEGIN:VEVENT
DTSTART;TZID=Europe/Bucharest:20251229T090000
DTEND;TZID=Europe/Bucharest:20251229T203000
DTSTAMP:20260424T015634
CREATED:20251217T114209Z
LAST-MODIFIED:20251217T114209Z
UID:10012672-1766998800-1767040200@craiovalive.ro
SUMMARY:Expoziție de artă vizuală: 121 de ani de la înființarea Societății Filarmonice din Craiova
DESCRIPTION:În suita evenimentului 121 ani de la înfiinţarea Societăţii Filarmonice din Craiova\, sub auspiciile Primăriei Craiova și Consiliului Local\, ale Filialei Dolj a Uniunii Artiştilor Plastici din România\, în parteneriat cu Filarmonica „Oltenia”\, Asociaţia Seniori Art Craiova \nprezintă: \nExpoziţie de artă vizuală \n17.12.2025 – 11.01.2026 \nCuratori: \nEmilian Popescu\, Dr. în Arte Vizuale / U.A.P. Filiala Craiova  \nDaniel Guţă / U.A.P. Filiala Craiova \nExpozanţi: \nAlis Daniela Guţă (Alicante/Spania) \nCleopatra Marinescu (Craiova) \nCristina Petria (U.A.P. Craiova) \nDan Avram (Craiova) \nDana Curcă (Craiova) \nDaniel Guţă (U.A.P. Craiova) \nDragoş Brădiceanu (Craiova) \nEmilia Burlan (U.A.P. Craiova) \nEmilian Popescu (U.A.P. Craiova) \nEugen Dumitru (U.A.P. Craiova) \nErin Teodorescu (Craiova) \nFlorin Măceşanu (Craiova) \nGeorgeta Vasiliev (Constanţa\, U.A.P. Bucureşti) \nGheorghe Leteanu (Vaslui\, U.A.P. Iaşi) \nIlinca Butucea (Craiova) \nMarian Rada (Craiova) \nMădălina Ruican (Craiova) \nMihai Ghizdavu (Craiova) \nMonica Goşoiu (U.A.P. Constanţa) \nPuşa Bărbulescu (Craiova) \nRodica Jianu (U.A.P. Craiova) \nViorel Pîrligras (Craiova) \n  \nVernisaj: miercuri 17 decembrie 2025\, ora 14\, în Foaierul Filarmonicii „Oltenia” din str. Unirii 16\, Craiova \n  \nInvitat special: \nNicolae Marinescu\, Directorul Editurii „Aius” Craiova
URL:https://craiovalive.ro/eveniment/expozitie-de-arta-vizuala-121-de-ani-de-la-infiintarea-societatii-filarmonice-din-craiova/2025-12-29/
LOCATION:Filarmonica Oltenia\, Calea Unirii\, nr. 16\, Craiova\, Dolj\, 200585\, România
CATEGORIES:Expoziție,Pictura
ATTACH;FMTTYPE=image/jpeg:https://craiovalive.ro/wp-content/uploads/2025/12/Expozitie-de-arta-vizuala-121-de-ani-de-la-infiintarea-Societatii-Filarmonice-din-Craiova.jpeg
ORGANIZER;CN="Filarmonica Oltenia Craiova":MAILTO:secretariat@filarmonica-oltenia.ro
GEO:44.3172308;23.7944364
X-APPLE-STRUCTURED-LOCATION;VALUE=URI;X-ADDRESS=Filarmonica Oltenia Calea Unirii nr. 16 Craiova Dolj 200585 România;X-APPLE-RADIUS=500;X-TITLE=Calea Unirii\, nr. 16:geo:23.7944364,44.3172308
END:VEVENT
BEGIN:VEVENT
DTSTART;TZID=Europe/Bucharest:20251230T090000
DTEND;TZID=Europe/Bucharest:20251230T203000
DTSTAMP:20260424T015634
CREATED:20251217T114209Z
LAST-MODIFIED:20251217T114209Z
UID:10012673-1767085200-1767126600@craiovalive.ro
SUMMARY:Expoziție de artă vizuală: 121 de ani de la înființarea Societății Filarmonice din Craiova
DESCRIPTION:În suita evenimentului 121 ani de la înfiinţarea Societăţii Filarmonice din Craiova\, sub auspiciile Primăriei Craiova și Consiliului Local\, ale Filialei Dolj a Uniunii Artiştilor Plastici din România\, în parteneriat cu Filarmonica „Oltenia”\, Asociaţia Seniori Art Craiova \nprezintă: \nExpoziţie de artă vizuală \n17.12.2025 – 11.01.2026 \nCuratori: \nEmilian Popescu\, Dr. în Arte Vizuale / U.A.P. Filiala Craiova  \nDaniel Guţă / U.A.P. Filiala Craiova \nExpozanţi: \nAlis Daniela Guţă (Alicante/Spania) \nCleopatra Marinescu (Craiova) \nCristina Petria (U.A.P. Craiova) \nDan Avram (Craiova) \nDana Curcă (Craiova) \nDaniel Guţă (U.A.P. Craiova) \nDragoş Brădiceanu (Craiova) \nEmilia Burlan (U.A.P. Craiova) \nEmilian Popescu (U.A.P. Craiova) \nEugen Dumitru (U.A.P. Craiova) \nErin Teodorescu (Craiova) \nFlorin Măceşanu (Craiova) \nGeorgeta Vasiliev (Constanţa\, U.A.P. Bucureşti) \nGheorghe Leteanu (Vaslui\, U.A.P. Iaşi) \nIlinca Butucea (Craiova) \nMarian Rada (Craiova) \nMădălina Ruican (Craiova) \nMihai Ghizdavu (Craiova) \nMonica Goşoiu (U.A.P. Constanţa) \nPuşa Bărbulescu (Craiova) \nRodica Jianu (U.A.P. Craiova) \nViorel Pîrligras (Craiova) \n  \nVernisaj: miercuri 17 decembrie 2025\, ora 14\, în Foaierul Filarmonicii „Oltenia” din str. Unirii 16\, Craiova \n  \nInvitat special: \nNicolae Marinescu\, Directorul Editurii „Aius” Craiova
URL:https://craiovalive.ro/eveniment/expozitie-de-arta-vizuala-121-de-ani-de-la-infiintarea-societatii-filarmonice-din-craiova/2025-12-30/
LOCATION:Filarmonica Oltenia\, Calea Unirii\, nr. 16\, Craiova\, Dolj\, 200585\, România
CATEGORIES:Expoziție,Pictura
ATTACH;FMTTYPE=image/jpeg:https://craiovalive.ro/wp-content/uploads/2025/12/Expozitie-de-arta-vizuala-121-de-ani-de-la-infiintarea-Societatii-Filarmonice-din-Craiova.jpeg
ORGANIZER;CN="Filarmonica Oltenia Craiova":MAILTO:secretariat@filarmonica-oltenia.ro
GEO:44.3172308;23.7944364
X-APPLE-STRUCTURED-LOCATION;VALUE=URI;X-ADDRESS=Filarmonica Oltenia Calea Unirii nr. 16 Craiova Dolj 200585 România;X-APPLE-RADIUS=500;X-TITLE=Calea Unirii\, nr. 16:geo:23.7944364,44.3172308
END:VEVENT
BEGIN:VEVENT
DTSTART;TZID=Europe/Bucharest:20251231T090000
DTEND;TZID=Europe/Bucharest:20251231T203000
DTSTAMP:20260424T015634
CREATED:20251217T114209Z
LAST-MODIFIED:20251217T114209Z
UID:10012674-1767171600-1767213000@craiovalive.ro
SUMMARY:Expoziție de artă vizuală: 121 de ani de la înființarea Societății Filarmonice din Craiova
DESCRIPTION:În suita evenimentului 121 ani de la înfiinţarea Societăţii Filarmonice din Craiova\, sub auspiciile Primăriei Craiova și Consiliului Local\, ale Filialei Dolj a Uniunii Artiştilor Plastici din România\, în parteneriat cu Filarmonica „Oltenia”\, Asociaţia Seniori Art Craiova \nprezintă: \nExpoziţie de artă vizuală \n17.12.2025 – 11.01.2026 \nCuratori: \nEmilian Popescu\, Dr. în Arte Vizuale / U.A.P. Filiala Craiova  \nDaniel Guţă / U.A.P. Filiala Craiova \nExpozanţi: \nAlis Daniela Guţă (Alicante/Spania) \nCleopatra Marinescu (Craiova) \nCristina Petria (U.A.P. Craiova) \nDan Avram (Craiova) \nDana Curcă (Craiova) \nDaniel Guţă (U.A.P. Craiova) \nDragoş Brădiceanu (Craiova) \nEmilia Burlan (U.A.P. Craiova) \nEmilian Popescu (U.A.P. Craiova) \nEugen Dumitru (U.A.P. Craiova) \nErin Teodorescu (Craiova) \nFlorin Măceşanu (Craiova) \nGeorgeta Vasiliev (Constanţa\, U.A.P. Bucureşti) \nGheorghe Leteanu (Vaslui\, U.A.P. Iaşi) \nIlinca Butucea (Craiova) \nMarian Rada (Craiova) \nMădălina Ruican (Craiova) \nMihai Ghizdavu (Craiova) \nMonica Goşoiu (U.A.P. Constanţa) \nPuşa Bărbulescu (Craiova) \nRodica Jianu (U.A.P. Craiova) \nViorel Pîrligras (Craiova) \n  \nVernisaj: miercuri 17 decembrie 2025\, ora 14\, în Foaierul Filarmonicii „Oltenia” din str. Unirii 16\, Craiova \n  \nInvitat special: \nNicolae Marinescu\, Directorul Editurii „Aius” Craiova
URL:https://craiovalive.ro/eveniment/expozitie-de-arta-vizuala-121-de-ani-de-la-infiintarea-societatii-filarmonice-din-craiova/2025-12-31/
LOCATION:Filarmonica Oltenia\, Calea Unirii\, nr. 16\, Craiova\, Dolj\, 200585\, România
CATEGORIES:Expoziție,Pictura
ATTACH;FMTTYPE=image/jpeg:https://craiovalive.ro/wp-content/uploads/2025/12/Expozitie-de-arta-vizuala-121-de-ani-de-la-infiintarea-Societatii-Filarmonice-din-Craiova.jpeg
ORGANIZER;CN="Filarmonica Oltenia Craiova":MAILTO:secretariat@filarmonica-oltenia.ro
GEO:44.3172308;23.7944364
X-APPLE-STRUCTURED-LOCATION;VALUE=URI;X-ADDRESS=Filarmonica Oltenia Calea Unirii nr. 16 Craiova Dolj 200585 România;X-APPLE-RADIUS=500;X-TITLE=Calea Unirii\, nr. 16:geo:23.7944364,44.3172308
END:VEVENT
BEGIN:VEVENT
DTSTART;TZID=Europe/Bucharest:20260101T090000
DTEND;TZID=Europe/Bucharest:20260101T203000
DTSTAMP:20260424T015634
CREATED:20251217T114209Z
LAST-MODIFIED:20251217T114209Z
UID:10012675-1767258000-1767299400@craiovalive.ro
SUMMARY:Expoziție de artă vizuală: 121 de ani de la înființarea Societății Filarmonice din Craiova
DESCRIPTION:În suita evenimentului 121 ani de la înfiinţarea Societăţii Filarmonice din Craiova\, sub auspiciile Primăriei Craiova și Consiliului Local\, ale Filialei Dolj a Uniunii Artiştilor Plastici din România\, în parteneriat cu Filarmonica „Oltenia”\, Asociaţia Seniori Art Craiova \nprezintă: \nExpoziţie de artă vizuală \n17.12.2025 – 11.01.2026 \nCuratori: \nEmilian Popescu\, Dr. în Arte Vizuale / U.A.P. Filiala Craiova  \nDaniel Guţă / U.A.P. Filiala Craiova \nExpozanţi: \nAlis Daniela Guţă (Alicante/Spania) \nCleopatra Marinescu (Craiova) \nCristina Petria (U.A.P. Craiova) \nDan Avram (Craiova) \nDana Curcă (Craiova) \nDaniel Guţă (U.A.P. Craiova) \nDragoş Brădiceanu (Craiova) \nEmilia Burlan (U.A.P. Craiova) \nEmilian Popescu (U.A.P. Craiova) \nEugen Dumitru (U.A.P. Craiova) \nErin Teodorescu (Craiova) \nFlorin Măceşanu (Craiova) \nGeorgeta Vasiliev (Constanţa\, U.A.P. Bucureşti) \nGheorghe Leteanu (Vaslui\, U.A.P. Iaşi) \nIlinca Butucea (Craiova) \nMarian Rada (Craiova) \nMădălina Ruican (Craiova) \nMihai Ghizdavu (Craiova) \nMonica Goşoiu (U.A.P. Constanţa) \nPuşa Bărbulescu (Craiova) \nRodica Jianu (U.A.P. Craiova) \nViorel Pîrligras (Craiova) \n  \nVernisaj: miercuri 17 decembrie 2025\, ora 14\, în Foaierul Filarmonicii „Oltenia” din str. Unirii 16\, Craiova \n  \nInvitat special: \nNicolae Marinescu\, Directorul Editurii „Aius” Craiova
URL:https://craiovalive.ro/eveniment/expozitie-de-arta-vizuala-121-de-ani-de-la-infiintarea-societatii-filarmonice-din-craiova/2026-01-01/
LOCATION:Filarmonica Oltenia\, Calea Unirii\, nr. 16\, Craiova\, Dolj\, 200585\, România
CATEGORIES:Expoziție,Pictura
ATTACH;FMTTYPE=image/jpeg:https://craiovalive.ro/wp-content/uploads/2025/12/Expozitie-de-arta-vizuala-121-de-ani-de-la-infiintarea-Societatii-Filarmonice-din-Craiova.jpeg
ORGANIZER;CN="Filarmonica Oltenia Craiova":MAILTO:secretariat@filarmonica-oltenia.ro
GEO:44.3172308;23.7944364
X-APPLE-STRUCTURED-LOCATION;VALUE=URI;X-ADDRESS=Filarmonica Oltenia Calea Unirii nr. 16 Craiova Dolj 200585 România;X-APPLE-RADIUS=500;X-TITLE=Calea Unirii\, nr. 16:geo:23.7944364,44.3172308
END:VEVENT
BEGIN:VEVENT
DTSTART;TZID=Europe/Bucharest:20260102T090000
DTEND;TZID=Europe/Bucharest:20260102T203000
DTSTAMP:20260424T015634
CREATED:20251217T114209Z
LAST-MODIFIED:20251217T114209Z
UID:10012676-1767344400-1767385800@craiovalive.ro
SUMMARY:Expoziție de artă vizuală: 121 de ani de la înființarea Societății Filarmonice din Craiova
DESCRIPTION:În suita evenimentului 121 ani de la înfiinţarea Societăţii Filarmonice din Craiova\, sub auspiciile Primăriei Craiova și Consiliului Local\, ale Filialei Dolj a Uniunii Artiştilor Plastici din România\, în parteneriat cu Filarmonica „Oltenia”\, Asociaţia Seniori Art Craiova \nprezintă: \nExpoziţie de artă vizuală \n17.12.2025 – 11.01.2026 \nCuratori: \nEmilian Popescu\, Dr. în Arte Vizuale / U.A.P. Filiala Craiova  \nDaniel Guţă / U.A.P. Filiala Craiova \nExpozanţi: \nAlis Daniela Guţă (Alicante/Spania) \nCleopatra Marinescu (Craiova) \nCristina Petria (U.A.P. Craiova) \nDan Avram (Craiova) \nDana Curcă (Craiova) \nDaniel Guţă (U.A.P. Craiova) \nDragoş Brădiceanu (Craiova) \nEmilia Burlan (U.A.P. Craiova) \nEmilian Popescu (U.A.P. Craiova) \nEugen Dumitru (U.A.P. Craiova) \nErin Teodorescu (Craiova) \nFlorin Măceşanu (Craiova) \nGeorgeta Vasiliev (Constanţa\, U.A.P. Bucureşti) \nGheorghe Leteanu (Vaslui\, U.A.P. Iaşi) \nIlinca Butucea (Craiova) \nMarian Rada (Craiova) \nMădălina Ruican (Craiova) \nMihai Ghizdavu (Craiova) \nMonica Goşoiu (U.A.P. Constanţa) \nPuşa Bărbulescu (Craiova) \nRodica Jianu (U.A.P. Craiova) \nViorel Pîrligras (Craiova) \n  \nVernisaj: miercuri 17 decembrie 2025\, ora 14\, în Foaierul Filarmonicii „Oltenia” din str. Unirii 16\, Craiova \n  \nInvitat special: \nNicolae Marinescu\, Directorul Editurii „Aius” Craiova
URL:https://craiovalive.ro/eveniment/expozitie-de-arta-vizuala-121-de-ani-de-la-infiintarea-societatii-filarmonice-din-craiova/2026-01-02/
LOCATION:Filarmonica Oltenia\, Calea Unirii\, nr. 16\, Craiova\, Dolj\, 200585\, România
CATEGORIES:Expoziție,Pictura
ATTACH;FMTTYPE=image/jpeg:https://craiovalive.ro/wp-content/uploads/2025/12/Expozitie-de-arta-vizuala-121-de-ani-de-la-infiintarea-Societatii-Filarmonice-din-Craiova.jpeg
ORGANIZER;CN="Filarmonica Oltenia Craiova":MAILTO:secretariat@filarmonica-oltenia.ro
GEO:44.3172308;23.7944364
X-APPLE-STRUCTURED-LOCATION;VALUE=URI;X-ADDRESS=Filarmonica Oltenia Calea Unirii nr. 16 Craiova Dolj 200585 România;X-APPLE-RADIUS=500;X-TITLE=Calea Unirii\, nr. 16:geo:23.7944364,44.3172308
END:VEVENT
BEGIN:VEVENT
DTSTART;TZID=Europe/Bucharest:20260103T090000
DTEND;TZID=Europe/Bucharest:20260103T203000
DTSTAMP:20260424T015634
CREATED:20251217T114209Z
LAST-MODIFIED:20251217T114209Z
UID:10012677-1767430800-1767472200@craiovalive.ro
SUMMARY:Expoziție de artă vizuală: 121 de ani de la înființarea Societății Filarmonice din Craiova
DESCRIPTION:În suita evenimentului 121 ani de la înfiinţarea Societăţii Filarmonice din Craiova\, sub auspiciile Primăriei Craiova și Consiliului Local\, ale Filialei Dolj a Uniunii Artiştilor Plastici din România\, în parteneriat cu Filarmonica „Oltenia”\, Asociaţia Seniori Art Craiova \nprezintă: \nExpoziţie de artă vizuală \n17.12.2025 – 11.01.2026 \nCuratori: \nEmilian Popescu\, Dr. în Arte Vizuale / U.A.P. Filiala Craiova  \nDaniel Guţă / U.A.P. Filiala Craiova \nExpozanţi: \nAlis Daniela Guţă (Alicante/Spania) \nCleopatra Marinescu (Craiova) \nCristina Petria (U.A.P. Craiova) \nDan Avram (Craiova) \nDana Curcă (Craiova) \nDaniel Guţă (U.A.P. Craiova) \nDragoş Brădiceanu (Craiova) \nEmilia Burlan (U.A.P. Craiova) \nEmilian Popescu (U.A.P. Craiova) \nEugen Dumitru (U.A.P. Craiova) \nErin Teodorescu (Craiova) \nFlorin Măceşanu (Craiova) \nGeorgeta Vasiliev (Constanţa\, U.A.P. Bucureşti) \nGheorghe Leteanu (Vaslui\, U.A.P. Iaşi) \nIlinca Butucea (Craiova) \nMarian Rada (Craiova) \nMădălina Ruican (Craiova) \nMihai Ghizdavu (Craiova) \nMonica Goşoiu (U.A.P. Constanţa) \nPuşa Bărbulescu (Craiova) \nRodica Jianu (U.A.P. Craiova) \nViorel Pîrligras (Craiova) \n  \nVernisaj: miercuri 17 decembrie 2025\, ora 14\, în Foaierul Filarmonicii „Oltenia” din str. Unirii 16\, Craiova \n  \nInvitat special: \nNicolae Marinescu\, Directorul Editurii „Aius” Craiova
URL:https://craiovalive.ro/eveniment/expozitie-de-arta-vizuala-121-de-ani-de-la-infiintarea-societatii-filarmonice-din-craiova/2026-01-03/
LOCATION:Filarmonica Oltenia\, Calea Unirii\, nr. 16\, Craiova\, Dolj\, 200585\, România
CATEGORIES:Expoziție,Pictura
ATTACH;FMTTYPE=image/jpeg:https://craiovalive.ro/wp-content/uploads/2025/12/Expozitie-de-arta-vizuala-121-de-ani-de-la-infiintarea-Societatii-Filarmonice-din-Craiova.jpeg
ORGANIZER;CN="Filarmonica Oltenia Craiova":MAILTO:secretariat@filarmonica-oltenia.ro
GEO:44.3172308;23.7944364
X-APPLE-STRUCTURED-LOCATION;VALUE=URI;X-ADDRESS=Filarmonica Oltenia Calea Unirii nr. 16 Craiova Dolj 200585 România;X-APPLE-RADIUS=500;X-TITLE=Calea Unirii\, nr. 16:geo:23.7944364,44.3172308
END:VEVENT
BEGIN:VEVENT
DTSTART;TZID=Europe/Bucharest:20260104T090000
DTEND;TZID=Europe/Bucharest:20260104T203000
DTSTAMP:20260424T015634
CREATED:20251217T114209Z
LAST-MODIFIED:20251217T114209Z
UID:10012678-1767517200-1767558600@craiovalive.ro
SUMMARY:Expoziție de artă vizuală: 121 de ani de la înființarea Societății Filarmonice din Craiova
DESCRIPTION:În suita evenimentului 121 ani de la înfiinţarea Societăţii Filarmonice din Craiova\, sub auspiciile Primăriei Craiova și Consiliului Local\, ale Filialei Dolj a Uniunii Artiştilor Plastici din România\, în parteneriat cu Filarmonica „Oltenia”\, Asociaţia Seniori Art Craiova \nprezintă: \nExpoziţie de artă vizuală \n17.12.2025 – 11.01.2026 \nCuratori: \nEmilian Popescu\, Dr. în Arte Vizuale / U.A.P. Filiala Craiova  \nDaniel Guţă / U.A.P. Filiala Craiova \nExpozanţi: \nAlis Daniela Guţă (Alicante/Spania) \nCleopatra Marinescu (Craiova) \nCristina Petria (U.A.P. Craiova) \nDan Avram (Craiova) \nDana Curcă (Craiova) \nDaniel Guţă (U.A.P. Craiova) \nDragoş Brădiceanu (Craiova) \nEmilia Burlan (U.A.P. Craiova) \nEmilian Popescu (U.A.P. Craiova) \nEugen Dumitru (U.A.P. Craiova) \nErin Teodorescu (Craiova) \nFlorin Măceşanu (Craiova) \nGeorgeta Vasiliev (Constanţa\, U.A.P. Bucureşti) \nGheorghe Leteanu (Vaslui\, U.A.P. Iaşi) \nIlinca Butucea (Craiova) \nMarian Rada (Craiova) \nMădălina Ruican (Craiova) \nMihai Ghizdavu (Craiova) \nMonica Goşoiu (U.A.P. Constanţa) \nPuşa Bărbulescu (Craiova) \nRodica Jianu (U.A.P. Craiova) \nViorel Pîrligras (Craiova) \n  \nVernisaj: miercuri 17 decembrie 2025\, ora 14\, în Foaierul Filarmonicii „Oltenia” din str. Unirii 16\, Craiova \n  \nInvitat special: \nNicolae Marinescu\, Directorul Editurii „Aius” Craiova
URL:https://craiovalive.ro/eveniment/expozitie-de-arta-vizuala-121-de-ani-de-la-infiintarea-societatii-filarmonice-din-craiova/2026-01-04/
LOCATION:Filarmonica Oltenia\, Calea Unirii\, nr. 16\, Craiova\, Dolj\, 200585\, România
CATEGORIES:Expoziție,Pictura
ATTACH;FMTTYPE=image/jpeg:https://craiovalive.ro/wp-content/uploads/2025/12/Expozitie-de-arta-vizuala-121-de-ani-de-la-infiintarea-Societatii-Filarmonice-din-Craiova.jpeg
ORGANIZER;CN="Filarmonica Oltenia Craiova":MAILTO:secretariat@filarmonica-oltenia.ro
GEO:44.3172308;23.7944364
X-APPLE-STRUCTURED-LOCATION;VALUE=URI;X-ADDRESS=Filarmonica Oltenia Calea Unirii nr. 16 Craiova Dolj 200585 România;X-APPLE-RADIUS=500;X-TITLE=Calea Unirii\, nr. 16:geo:23.7944364,44.3172308
END:VEVENT
END:VCALENDAR