BEGIN:VCALENDAR
VERSION:2.0
PRODID:-//Craiova Live - ECPv6.15.18//NONSGML v1.0//EN
CALSCALE:GREGORIAN
METHOD:PUBLISH
X-WR-CALNAME:Craiova Live
X-ORIGINAL-URL:https://craiovalive.ro
X-WR-CALDESC:Evenimente pentru Craiova Live
REFRESH-INTERVAL;VALUE=DURATION:PT1H
X-Robots-Tag:noindex
X-PUBLISHED-TTL:PT1H
BEGIN:VTIMEZONE
TZID:Europe/Bucharest
BEGIN:DAYLIGHT
TZOFFSETFROM:+0200
TZOFFSETTO:+0300
TZNAME:EEST
DTSTART:20240331T010000
END:DAYLIGHT
BEGIN:STANDARD
TZOFFSETFROM:+0300
TZOFFSETTO:+0200
TZNAME:EET
DTSTART:20241027T010000
END:STANDARD
BEGIN:DAYLIGHT
TZOFFSETFROM:+0200
TZOFFSETTO:+0300
TZNAME:EEST
DTSTART:20250330T010000
END:DAYLIGHT
BEGIN:STANDARD
TZOFFSETFROM:+0300
TZOFFSETTO:+0200
TZNAME:EET
DTSTART:20251026T010000
END:STANDARD
BEGIN:DAYLIGHT
TZOFFSETFROM:+0200
TZOFFSETTO:+0300
TZNAME:EEST
DTSTART:20260329T010000
END:DAYLIGHT
BEGIN:STANDARD
TZOFFSETFROM:+0300
TZOFFSETTO:+0200
TZNAME:EET
DTSTART:20261025T010000
END:STANDARD
END:VTIMEZONE
BEGIN:VEVENT
DTSTART;TZID=Europe/Bucharest:20251006T090000
DTEND;TZID=Europe/Bucharest:20251006T160000
DTSTAMP:20260424T073605
CREATED:20250919T100412Z
LAST-MODIFIED:20250930T170625Z
UID:10010238-1759741200-1759766400@craiovalive.ro
SUMMARY:Expoziție „Cromatic Show II“
DESCRIPTION:Centrul Judeţean de Cultură și Artă Dolj – Secția pentru Conservarea şi Promovarea Culturii Tradiţionale invită iubitorii artei plastice să se bucure de expoziția „Cromatic Show II“\, deschisă pe simezele Galeriilor „Cromatic“ în perioada 30 septembrie – 15 octombrie 2025. \nEvenimentul este inclus în programul proiectului Noaptea Albă a Galeriilor și este realizat împreună cu Daniel Guță\, curatorul expoziției și reprezentantul Uniunii Artiștilor Plastici\, precum și cu Asociația Seniori Art Craiova. \nVizitatorii vor putea admira creații semnate de 70 de artiști din opt orașe ale țării: București\, Constanța\, Sebeș\, Arad\, Botoșani\, Calafat\, Drăgășani și Balș. \nVernisajul expoziției „Cromatic Show II“ va avea loc marți\, 30 septembrie 2025\, la ora 16.00\, la Galeriile „Cromatic“\, strada Alexandru Macedonski\, nr. 28. \nExpoziția va fi deschisă pentru public până pe 15 octombrie inclusiv\, de luni până vineri\, în intervalul orar 09:00 – 16:00\, cu excepția zilelor de 03 – 04 octombrie  când va putea fi vizitată între orele 18:00 – 24:00\, iar duminică\, 5 octombrie de la ora 18:00 până la 22:00.
URL:https://craiovalive.ro/eveniment/expozitie-cromatic-show-ii/2025-10-06/
LOCATION:Galeriile Cromatic\, str. Al. Macedonski\, nr. 28\, Craiova\, Dolj\, România
CATEGORIES:Expoziție,Pictura
ATTACH;FMTTYPE=image/jpeg:https://craiovalive.ro/wp-content/uploads/2025/09/Expozitie-„Cromatic-Show-II.jpeg
ORGANIZER;CN="Centrul Jude%C8%9Bean de Cultur%C4%83 %C8%99i Art%C4%83 Dolj - Sec%C8%9Bia pentru Conservarea %C5%9Fi Promovarea Culturii Tradi%C8%9Bionale Dolj":MAILTO:ccpdolj@yahoo.com
GEO:44.312816218541;23.800203213591
X-APPLE-STRUCTURED-LOCATION;VALUE=URI;X-ADDRESS=Galeriile Cromatic str. Al. Macedonski nr. 28 Craiova Dolj România;X-APPLE-RADIUS=500;X-TITLE=str. Al. Macedonski\, nr. 28:geo:23.800203213591,44.312816218541
END:VEVENT
BEGIN:VEVENT
DTSTART;TZID=Europe/Bucharest:20251007T090000
DTEND;TZID=Europe/Bucharest:20251007T160000
DTSTAMP:20260424T073605
CREATED:20250919T100412Z
LAST-MODIFIED:20250930T170625Z
UID:10010239-1759827600-1759852800@craiovalive.ro
SUMMARY:Expoziție „Cromatic Show II“
DESCRIPTION:Centrul Judeţean de Cultură și Artă Dolj – Secția pentru Conservarea şi Promovarea Culturii Tradiţionale invită iubitorii artei plastice să se bucure de expoziția „Cromatic Show II“\, deschisă pe simezele Galeriilor „Cromatic“ în perioada 30 septembrie – 15 octombrie 2025. \nEvenimentul este inclus în programul proiectului Noaptea Albă a Galeriilor și este realizat împreună cu Daniel Guță\, curatorul expoziției și reprezentantul Uniunii Artiștilor Plastici\, precum și cu Asociația Seniori Art Craiova. \nVizitatorii vor putea admira creații semnate de 70 de artiști din opt orașe ale țării: București\, Constanța\, Sebeș\, Arad\, Botoșani\, Calafat\, Drăgășani și Balș. \nVernisajul expoziției „Cromatic Show II“ va avea loc marți\, 30 septembrie 2025\, la ora 16.00\, la Galeriile „Cromatic“\, strada Alexandru Macedonski\, nr. 28. \nExpoziția va fi deschisă pentru public până pe 15 octombrie inclusiv\, de luni până vineri\, în intervalul orar 09:00 – 16:00\, cu excepția zilelor de 03 – 04 octombrie  când va putea fi vizitată între orele 18:00 – 24:00\, iar duminică\, 5 octombrie de la ora 18:00 până la 22:00.
URL:https://craiovalive.ro/eveniment/expozitie-cromatic-show-ii/2025-10-07/
LOCATION:Galeriile Cromatic\, str. Al. Macedonski\, nr. 28\, Craiova\, Dolj\, România
CATEGORIES:Expoziție,Pictura
ATTACH;FMTTYPE=image/jpeg:https://craiovalive.ro/wp-content/uploads/2025/09/Expozitie-„Cromatic-Show-II.jpeg
ORGANIZER;CN="Centrul Jude%C8%9Bean de Cultur%C4%83 %C8%99i Art%C4%83 Dolj - Sec%C8%9Bia pentru Conservarea %C5%9Fi Promovarea Culturii Tradi%C8%9Bionale Dolj":MAILTO:ccpdolj@yahoo.com
GEO:44.312816218541;23.800203213591
X-APPLE-STRUCTURED-LOCATION;VALUE=URI;X-ADDRESS=Galeriile Cromatic str. Al. Macedonski nr. 28 Craiova Dolj România;X-APPLE-RADIUS=500;X-TITLE=str. Al. Macedonski\, nr. 28:geo:23.800203213591,44.312816218541
END:VEVENT
BEGIN:VEVENT
DTSTART;TZID=Europe/Bucharest:20251008T090000
DTEND;TZID=Europe/Bucharest:20251008T160000
DTSTAMP:20260424T073605
CREATED:20250919T100412Z
LAST-MODIFIED:20250930T170625Z
UID:10010240-1759914000-1759939200@craiovalive.ro
SUMMARY:Expoziție „Cromatic Show II“
DESCRIPTION:Centrul Judeţean de Cultură și Artă Dolj – Secția pentru Conservarea şi Promovarea Culturii Tradiţionale invită iubitorii artei plastice să se bucure de expoziția „Cromatic Show II“\, deschisă pe simezele Galeriilor „Cromatic“ în perioada 30 septembrie – 15 octombrie 2025. \nEvenimentul este inclus în programul proiectului Noaptea Albă a Galeriilor și este realizat împreună cu Daniel Guță\, curatorul expoziției și reprezentantul Uniunii Artiștilor Plastici\, precum și cu Asociația Seniori Art Craiova. \nVizitatorii vor putea admira creații semnate de 70 de artiști din opt orașe ale țării: București\, Constanța\, Sebeș\, Arad\, Botoșani\, Calafat\, Drăgășani și Balș. \nVernisajul expoziției „Cromatic Show II“ va avea loc marți\, 30 septembrie 2025\, la ora 16.00\, la Galeriile „Cromatic“\, strada Alexandru Macedonski\, nr. 28. \nExpoziția va fi deschisă pentru public până pe 15 octombrie inclusiv\, de luni până vineri\, în intervalul orar 09:00 – 16:00\, cu excepția zilelor de 03 – 04 octombrie  când va putea fi vizitată între orele 18:00 – 24:00\, iar duminică\, 5 octombrie de la ora 18:00 până la 22:00.
URL:https://craiovalive.ro/eveniment/expozitie-cromatic-show-ii/2025-10-08/
LOCATION:Galeriile Cromatic\, str. Al. Macedonski\, nr. 28\, Craiova\, Dolj\, România
CATEGORIES:Expoziție,Pictura
ATTACH;FMTTYPE=image/jpeg:https://craiovalive.ro/wp-content/uploads/2025/09/Expozitie-„Cromatic-Show-II.jpeg
ORGANIZER;CN="Centrul Jude%C8%9Bean de Cultur%C4%83 %C8%99i Art%C4%83 Dolj - Sec%C8%9Bia pentru Conservarea %C5%9Fi Promovarea Culturii Tradi%C8%9Bionale Dolj":MAILTO:ccpdolj@yahoo.com
GEO:44.312816218541;23.800203213591
X-APPLE-STRUCTURED-LOCATION;VALUE=URI;X-ADDRESS=Galeriile Cromatic str. Al. Macedonski nr. 28 Craiova Dolj România;X-APPLE-RADIUS=500;X-TITLE=str. Al. Macedonski\, nr. 28:geo:23.800203213591,44.312816218541
END:VEVENT
BEGIN:VEVENT
DTSTART;TZID=Europe/Bucharest:20251009T090000
DTEND;TZID=Europe/Bucharest:20251009T160000
DTSTAMP:20260424T073605
CREATED:20250919T100412Z
LAST-MODIFIED:20250930T170625Z
UID:10010241-1760000400-1760025600@craiovalive.ro
SUMMARY:Expoziție „Cromatic Show II“
DESCRIPTION:Centrul Judeţean de Cultură și Artă Dolj – Secția pentru Conservarea şi Promovarea Culturii Tradiţionale invită iubitorii artei plastice să se bucure de expoziția „Cromatic Show II“\, deschisă pe simezele Galeriilor „Cromatic“ în perioada 30 septembrie – 15 octombrie 2025. \nEvenimentul este inclus în programul proiectului Noaptea Albă a Galeriilor și este realizat împreună cu Daniel Guță\, curatorul expoziției și reprezentantul Uniunii Artiștilor Plastici\, precum și cu Asociația Seniori Art Craiova. \nVizitatorii vor putea admira creații semnate de 70 de artiști din opt orașe ale țării: București\, Constanța\, Sebeș\, Arad\, Botoșani\, Calafat\, Drăgășani și Balș. \nVernisajul expoziției „Cromatic Show II“ va avea loc marți\, 30 septembrie 2025\, la ora 16.00\, la Galeriile „Cromatic“\, strada Alexandru Macedonski\, nr. 28. \nExpoziția va fi deschisă pentru public până pe 15 octombrie inclusiv\, de luni până vineri\, în intervalul orar 09:00 – 16:00\, cu excepția zilelor de 03 – 04 octombrie  când va putea fi vizitată între orele 18:00 – 24:00\, iar duminică\, 5 octombrie de la ora 18:00 până la 22:00.
URL:https://craiovalive.ro/eveniment/expozitie-cromatic-show-ii/2025-10-09/
LOCATION:Galeriile Cromatic\, str. Al. Macedonski\, nr. 28\, Craiova\, Dolj\, România
CATEGORIES:Expoziție,Pictura
ATTACH;FMTTYPE=image/jpeg:https://craiovalive.ro/wp-content/uploads/2025/09/Expozitie-„Cromatic-Show-II.jpeg
ORGANIZER;CN="Centrul Jude%C8%9Bean de Cultur%C4%83 %C8%99i Art%C4%83 Dolj - Sec%C8%9Bia pentru Conservarea %C5%9Fi Promovarea Culturii Tradi%C8%9Bionale Dolj":MAILTO:ccpdolj@yahoo.com
GEO:44.312816218541;23.800203213591
X-APPLE-STRUCTURED-LOCATION;VALUE=URI;X-ADDRESS=Galeriile Cromatic str. Al. Macedonski nr. 28 Craiova Dolj România;X-APPLE-RADIUS=500;X-TITLE=str. Al. Macedonski\, nr. 28:geo:23.800203213591,44.312816218541
END:VEVENT
BEGIN:VEVENT
DTSTART;TZID=Europe/Bucharest:20251010T090000
DTEND;TZID=Europe/Bucharest:20251010T160000
DTSTAMP:20260424T073605
CREATED:20250919T100412Z
LAST-MODIFIED:20250930T170625Z
UID:10010242-1760086800-1760112000@craiovalive.ro
SUMMARY:Expoziție „Cromatic Show II“
DESCRIPTION:Centrul Judeţean de Cultură și Artă Dolj – Secția pentru Conservarea şi Promovarea Culturii Tradiţionale invită iubitorii artei plastice să se bucure de expoziția „Cromatic Show II“\, deschisă pe simezele Galeriilor „Cromatic“ în perioada 30 septembrie – 15 octombrie 2025. \nEvenimentul este inclus în programul proiectului Noaptea Albă a Galeriilor și este realizat împreună cu Daniel Guță\, curatorul expoziției și reprezentantul Uniunii Artiștilor Plastici\, precum și cu Asociația Seniori Art Craiova. \nVizitatorii vor putea admira creații semnate de 70 de artiști din opt orașe ale țării: București\, Constanța\, Sebeș\, Arad\, Botoșani\, Calafat\, Drăgășani și Balș. \nVernisajul expoziției „Cromatic Show II“ va avea loc marți\, 30 septembrie 2025\, la ora 16.00\, la Galeriile „Cromatic“\, strada Alexandru Macedonski\, nr. 28. \nExpoziția va fi deschisă pentru public până pe 15 octombrie inclusiv\, de luni până vineri\, în intervalul orar 09:00 – 16:00\, cu excepția zilelor de 03 – 04 octombrie  când va putea fi vizitată între orele 18:00 – 24:00\, iar duminică\, 5 octombrie de la ora 18:00 până la 22:00.
URL:https://craiovalive.ro/eveniment/expozitie-cromatic-show-ii/2025-10-10/
LOCATION:Galeriile Cromatic\, str. Al. Macedonski\, nr. 28\, Craiova\, Dolj\, România
CATEGORIES:Expoziție,Pictura
ATTACH;FMTTYPE=image/jpeg:https://craiovalive.ro/wp-content/uploads/2025/09/Expozitie-„Cromatic-Show-II.jpeg
ORGANIZER;CN="Centrul Jude%C8%9Bean de Cultur%C4%83 %C8%99i Art%C4%83 Dolj - Sec%C8%9Bia pentru Conservarea %C5%9Fi Promovarea Culturii Tradi%C8%9Bionale Dolj":MAILTO:ccpdolj@yahoo.com
GEO:44.312816218541;23.800203213591
X-APPLE-STRUCTURED-LOCATION;VALUE=URI;X-ADDRESS=Galeriile Cromatic str. Al. Macedonski nr. 28 Craiova Dolj România;X-APPLE-RADIUS=500;X-TITLE=str. Al. Macedonski\, nr. 28:geo:23.800203213591,44.312816218541
END:VEVENT
END:VCALENDAR