BEGIN:VCALENDAR
VERSION:2.0
PRODID:-//Craiova Live - ECPv6.15.18//NONSGML v1.0//EN
CALSCALE:GREGORIAN
METHOD:PUBLISH
X-WR-CALNAME:Craiova Live
X-ORIGINAL-URL:https://craiovalive.ro
X-WR-CALDESC:Evenimente pentru Craiova Live
REFRESH-INTERVAL;VALUE=DURATION:PT1H
X-Robots-Tag:noindex
X-PUBLISHED-TTL:PT1H
BEGIN:VTIMEZONE
TZID:Europe/Bucharest
BEGIN:DAYLIGHT
TZOFFSETFROM:+0200
TZOFFSETTO:+0300
TZNAME:EEST
DTSTART:20240331T010000
END:DAYLIGHT
BEGIN:STANDARD
TZOFFSETFROM:+0300
TZOFFSETTO:+0200
TZNAME:EET
DTSTART:20241027T010000
END:STANDARD
BEGIN:DAYLIGHT
TZOFFSETFROM:+0200
TZOFFSETTO:+0300
TZNAME:EEST
DTSTART:20250330T010000
END:DAYLIGHT
BEGIN:STANDARD
TZOFFSETFROM:+0300
TZOFFSETTO:+0200
TZNAME:EET
DTSTART:20251026T010000
END:STANDARD
BEGIN:DAYLIGHT
TZOFFSETFROM:+0200
TZOFFSETTO:+0300
TZNAME:EEST
DTSTART:20260329T010000
END:DAYLIGHT
BEGIN:STANDARD
TZOFFSETFROM:+0300
TZOFFSETTO:+0200
TZNAME:EET
DTSTART:20261025T010000
END:STANDARD
END:VTIMEZONE
BEGIN:VEVENT
DTSTART;TZID=Europe/Bucharest:20250930T070000
DTEND;TZID=Europe/Bucharest:20250930T170000
DTSTAMP:20260424T073612
CREATED:20250917T095527Z
LAST-MODIFIED:20250917T095636Z
UID:10010090-1759215600-1759251600@craiovalive.ro
SUMMARY:Expoziție de pictură Dragoș Bradiceanu
DESCRIPTION:Muzeul Cărții și Exilului Românesc – 𝐄𝐱𝐩𝐨𝐳𝐢𝐭̦𝐢𝐞 𝐝𝐞 𝐩𝐢𝐜𝐭𝐮𝐫𝐚̆ 𝐃𝐫𝐚𝐠𝐨𝐬̦ 𝐁𝐫𝐚𝐝𝐢𝐜𝐞𝐚𝐧𝐮\n\n\nVineri\, 19 septembrie 2025\, la ora 11\, vă așteptăm la Muzeul Cărții și Exilului Românesc\, la vernisajul expoziției de pictură al artistului Dragoș Bradiceanu.\n\n\nLucrările vor fi expuse în spațiul expozițional din curtea muzeului.\n\n\nCuratorul expoziției: Prof. Dr. în arte vizuale Emilian Popescu\n\n\nInvitați:\nProf. Ovidiu Bărbulescu\, Uniunea Artiștilor Plastici din România\, filiala Craiova\nProf. Nicolae Marinescu\, dir. Editura Aius\n\n\nExpoziția va fi disponibilă la Muzeul Cărții și Exilului Românesc până pe data de 3 octombrie.
URL:https://craiovalive.ro/eveniment/expozitie-de-pictura-dragos-bradiceanu/2025-09-30/
LOCATION:Muzeul Cărții și Exilului Românesc\, Str. 24 Ianuarie nr. 4\, Craiova\, Dolj\, România
CATEGORIES:Expoziție,Pictura
ATTACH;FMTTYPE=image/jpeg:https://craiovalive.ro/wp-content/uploads/2025/09/Expozitie-de-pictura-Dragos-Bradiceanu.jpg
GEO:44.3141881;23.7984041
X-APPLE-STRUCTURED-LOCATION;VALUE=URI;X-ADDRESS=Muzeul Cărții și Exilului Românesc Str. 24 Ianuarie nr. 4 Craiova Dolj România;X-APPLE-RADIUS=500;X-TITLE=Str. 24 Ianuarie nr. 4:geo:23.7984041,44.3141881
END:VEVENT
BEGIN:VEVENT
DTSTART;TZID=Europe/Bucharest:20250930T160000
DTEND;TZID=Europe/Bucharest:20250930T170000
DTSTAMP:20260424T073612
CREATED:20250919T100412Z
LAST-MODIFIED:20250930T170625Z
UID:10010232-1759248000-1759251600@craiovalive.ro
SUMMARY:Expoziție „Cromatic Show II“
DESCRIPTION:Centrul Judeţean de Cultură și Artă Dolj – Secția pentru Conservarea şi Promovarea Culturii Tradiţionale invită iubitorii artei plastice să se bucure de expoziția „Cromatic Show II“\, deschisă pe simezele Galeriilor „Cromatic“ în perioada 30 septembrie – 15 octombrie 2025. \nEvenimentul este inclus în programul proiectului Noaptea Albă a Galeriilor și este realizat împreună cu Daniel Guță\, curatorul expoziției și reprezentantul Uniunii Artiștilor Plastici\, precum și cu Asociația Seniori Art Craiova. \nVizitatorii vor putea admira creații semnate de 70 de artiști din opt orașe ale țării: București\, Constanța\, Sebeș\, Arad\, Botoșani\, Calafat\, Drăgășani și Balș. \nVernisajul expoziției „Cromatic Show II“ va avea loc marți\, 30 septembrie 2025\, la ora 16.00\, la Galeriile „Cromatic“\, strada Alexandru Macedonski\, nr. 28. \nExpoziția va fi deschisă pentru public până pe 15 octombrie inclusiv\, de luni până vineri\, în intervalul orar 09:00 – 16:00\, cu excepția zilelor de 03 – 04 octombrie  când va putea fi vizitată între orele 18:00 – 24:00\, iar duminică\, 5 octombrie de la ora 18:00 până la 22:00.
URL:https://craiovalive.ro/eveniment/expozitie-cromatic-show-ii/2025-09-30/
LOCATION:Galeriile Cromatic\, str. Al. Macedonski\, nr. 28\, Craiova\, Dolj\, România
CATEGORIES:Expoziție,Pictura
ATTACH;FMTTYPE=image/jpeg:https://craiovalive.ro/wp-content/uploads/2025/09/Expozitie-„Cromatic-Show-II.jpeg
ORGANIZER;CN="Centrul Jude%C8%9Bean de Cultur%C4%83 %C8%99i Art%C4%83 Dolj - Sec%C8%9Bia pentru Conservarea %C5%9Fi Promovarea Culturii Tradi%C8%9Bionale Dolj":MAILTO:ccpdolj@yahoo.com
GEO:44.312816218541;23.800203213591
X-APPLE-STRUCTURED-LOCATION;VALUE=URI;X-ADDRESS=Galeriile Cromatic str. Al. Macedonski nr. 28 Craiova Dolj România;X-APPLE-RADIUS=500;X-TITLE=str. Al. Macedonski\, nr. 28:geo:23.800203213591,44.312816218541
END:VEVENT
BEGIN:VEVENT
DTSTART;TZID=Europe/Bucharest:20251001T070000
DTEND;TZID=Europe/Bucharest:20251001T170000
DTSTAMP:20260424T073612
CREATED:20250917T095527Z
LAST-MODIFIED:20250917T095636Z
UID:10010091-1759302000-1759338000@craiovalive.ro
SUMMARY:Expoziție de pictură Dragoș Bradiceanu
DESCRIPTION:Muzeul Cărții și Exilului Românesc – 𝐄𝐱𝐩𝐨𝐳𝐢𝐭̦𝐢𝐞 𝐝𝐞 𝐩𝐢𝐜𝐭𝐮𝐫𝐚̆ 𝐃𝐫𝐚𝐠𝐨𝐬̦ 𝐁𝐫𝐚𝐝𝐢𝐜𝐞𝐚𝐧𝐮\n\n\nVineri\, 19 septembrie 2025\, la ora 11\, vă așteptăm la Muzeul Cărții și Exilului Românesc\, la vernisajul expoziției de pictură al artistului Dragoș Bradiceanu.\n\n\nLucrările vor fi expuse în spațiul expozițional din curtea muzeului.\n\n\nCuratorul expoziției: Prof. Dr. în arte vizuale Emilian Popescu\n\n\nInvitați:\nProf. Ovidiu Bărbulescu\, Uniunea Artiștilor Plastici din România\, filiala Craiova\nProf. Nicolae Marinescu\, dir. Editura Aius\n\n\nExpoziția va fi disponibilă la Muzeul Cărții și Exilului Românesc până pe data de 3 octombrie.
URL:https://craiovalive.ro/eveniment/expozitie-de-pictura-dragos-bradiceanu/2025-10-01/
LOCATION:Muzeul Cărții și Exilului Românesc\, Str. 24 Ianuarie nr. 4\, Craiova\, Dolj\, România
CATEGORIES:Expoziție,Pictura
ATTACH;FMTTYPE=image/jpeg:https://craiovalive.ro/wp-content/uploads/2025/09/Expozitie-de-pictura-Dragos-Bradiceanu.jpg
GEO:44.3141881;23.7984041
X-APPLE-STRUCTURED-LOCATION;VALUE=URI;X-ADDRESS=Muzeul Cărții și Exilului Românesc Str. 24 Ianuarie nr. 4 Craiova Dolj România;X-APPLE-RADIUS=500;X-TITLE=Str. 24 Ianuarie nr. 4:geo:23.7984041,44.3141881
END:VEVENT
BEGIN:VEVENT
DTSTART;TZID=Europe/Bucharest:20251001T090000
DTEND;TZID=Europe/Bucharest:20251001T160000
DTSTAMP:20260424T073612
CREATED:20250919T100412Z
LAST-MODIFIED:20250930T170625Z
UID:10010233-1759309200-1759334400@craiovalive.ro
SUMMARY:Expoziție „Cromatic Show II“
DESCRIPTION:Centrul Judeţean de Cultură și Artă Dolj – Secția pentru Conservarea şi Promovarea Culturii Tradiţionale invită iubitorii artei plastice să se bucure de expoziția „Cromatic Show II“\, deschisă pe simezele Galeriilor „Cromatic“ în perioada 30 septembrie – 15 octombrie 2025. \nEvenimentul este inclus în programul proiectului Noaptea Albă a Galeriilor și este realizat împreună cu Daniel Guță\, curatorul expoziției și reprezentantul Uniunii Artiștilor Plastici\, precum și cu Asociația Seniori Art Craiova. \nVizitatorii vor putea admira creații semnate de 70 de artiști din opt orașe ale țării: București\, Constanța\, Sebeș\, Arad\, Botoșani\, Calafat\, Drăgășani și Balș. \nVernisajul expoziției „Cromatic Show II“ va avea loc marți\, 30 septembrie 2025\, la ora 16.00\, la Galeriile „Cromatic“\, strada Alexandru Macedonski\, nr. 28. \nExpoziția va fi deschisă pentru public până pe 15 octombrie inclusiv\, de luni până vineri\, în intervalul orar 09:00 – 16:00\, cu excepția zilelor de 03 – 04 octombrie  când va putea fi vizitată între orele 18:00 – 24:00\, iar duminică\, 5 octombrie de la ora 18:00 până la 22:00.
URL:https://craiovalive.ro/eveniment/expozitie-cromatic-show-ii/2025-10-01/
LOCATION:Galeriile Cromatic\, str. Al. Macedonski\, nr. 28\, Craiova\, Dolj\, România
CATEGORIES:Expoziție,Pictura
ATTACH;FMTTYPE=image/jpeg:https://craiovalive.ro/wp-content/uploads/2025/09/Expozitie-„Cromatic-Show-II.jpeg
ORGANIZER;CN="Centrul Jude%C8%9Bean de Cultur%C4%83 %C8%99i Art%C4%83 Dolj - Sec%C8%9Bia pentru Conservarea %C5%9Fi Promovarea Culturii Tradi%C8%9Bionale Dolj":MAILTO:ccpdolj@yahoo.com
GEO:44.312816218541;23.800203213591
X-APPLE-STRUCTURED-LOCATION;VALUE=URI;X-ADDRESS=Galeriile Cromatic str. Al. Macedonski nr. 28 Craiova Dolj România;X-APPLE-RADIUS=500;X-TITLE=str. Al. Macedonski\, nr. 28:geo:23.800203213591,44.312816218541
END:VEVENT
BEGIN:VEVENT
DTSTART;TZID=Europe/Bucharest:20251002T070000
DTEND;TZID=Europe/Bucharest:20251002T170000
DTSTAMP:20260424T073612
CREATED:20250917T095527Z
LAST-MODIFIED:20250917T095636Z
UID:10010092-1759388400-1759424400@craiovalive.ro
SUMMARY:Expoziție de pictură Dragoș Bradiceanu
DESCRIPTION:Muzeul Cărții și Exilului Românesc – 𝐄𝐱𝐩𝐨𝐳𝐢𝐭̦𝐢𝐞 𝐝𝐞 𝐩𝐢𝐜𝐭𝐮𝐫𝐚̆ 𝐃𝐫𝐚𝐠𝐨𝐬̦ 𝐁𝐫𝐚𝐝𝐢𝐜𝐞𝐚𝐧𝐮\n\n\nVineri\, 19 septembrie 2025\, la ora 11\, vă așteptăm la Muzeul Cărții și Exilului Românesc\, la vernisajul expoziției de pictură al artistului Dragoș Bradiceanu.\n\n\nLucrările vor fi expuse în spațiul expozițional din curtea muzeului.\n\n\nCuratorul expoziției: Prof. Dr. în arte vizuale Emilian Popescu\n\n\nInvitați:\nProf. Ovidiu Bărbulescu\, Uniunea Artiștilor Plastici din România\, filiala Craiova\nProf. Nicolae Marinescu\, dir. Editura Aius\n\n\nExpoziția va fi disponibilă la Muzeul Cărții și Exilului Românesc până pe data de 3 octombrie.
URL:https://craiovalive.ro/eveniment/expozitie-de-pictura-dragos-bradiceanu/2025-10-02/
LOCATION:Muzeul Cărții și Exilului Românesc\, Str. 24 Ianuarie nr. 4\, Craiova\, Dolj\, România
CATEGORIES:Expoziție,Pictura
ATTACH;FMTTYPE=image/jpeg:https://craiovalive.ro/wp-content/uploads/2025/09/Expozitie-de-pictura-Dragos-Bradiceanu.jpg
GEO:44.3141881;23.7984041
X-APPLE-STRUCTURED-LOCATION;VALUE=URI;X-ADDRESS=Muzeul Cărții și Exilului Românesc Str. 24 Ianuarie nr. 4 Craiova Dolj România;X-APPLE-RADIUS=500;X-TITLE=Str. 24 Ianuarie nr. 4:geo:23.7984041,44.3141881
END:VEVENT
BEGIN:VEVENT
DTSTART;TZID=Europe/Bucharest:20251002T090000
DTEND;TZID=Europe/Bucharest:20251002T160000
DTSTAMP:20260424T073612
CREATED:20250919T100412Z
LAST-MODIFIED:20250930T170625Z
UID:10010234-1759395600-1759420800@craiovalive.ro
SUMMARY:Expoziție „Cromatic Show II“
DESCRIPTION:Centrul Judeţean de Cultură și Artă Dolj – Secția pentru Conservarea şi Promovarea Culturii Tradiţionale invită iubitorii artei plastice să se bucure de expoziția „Cromatic Show II“\, deschisă pe simezele Galeriilor „Cromatic“ în perioada 30 septembrie – 15 octombrie 2025. \nEvenimentul este inclus în programul proiectului Noaptea Albă a Galeriilor și este realizat împreună cu Daniel Guță\, curatorul expoziției și reprezentantul Uniunii Artiștilor Plastici\, precum și cu Asociația Seniori Art Craiova. \nVizitatorii vor putea admira creații semnate de 70 de artiști din opt orașe ale țării: București\, Constanța\, Sebeș\, Arad\, Botoșani\, Calafat\, Drăgășani și Balș. \nVernisajul expoziției „Cromatic Show II“ va avea loc marți\, 30 septembrie 2025\, la ora 16.00\, la Galeriile „Cromatic“\, strada Alexandru Macedonski\, nr. 28. \nExpoziția va fi deschisă pentru public până pe 15 octombrie inclusiv\, de luni până vineri\, în intervalul orar 09:00 – 16:00\, cu excepția zilelor de 03 – 04 octombrie  când va putea fi vizitată între orele 18:00 – 24:00\, iar duminică\, 5 octombrie de la ora 18:00 până la 22:00.
URL:https://craiovalive.ro/eveniment/expozitie-cromatic-show-ii/2025-10-02/
LOCATION:Galeriile Cromatic\, str. Al. Macedonski\, nr. 28\, Craiova\, Dolj\, România
CATEGORIES:Expoziție,Pictura
ATTACH;FMTTYPE=image/jpeg:https://craiovalive.ro/wp-content/uploads/2025/09/Expozitie-„Cromatic-Show-II.jpeg
ORGANIZER;CN="Centrul Jude%C8%9Bean de Cultur%C4%83 %C8%99i Art%C4%83 Dolj - Sec%C8%9Bia pentru Conservarea %C5%9Fi Promovarea Culturii Tradi%C8%9Bionale Dolj":MAILTO:ccpdolj@yahoo.com
GEO:44.312816218541;23.800203213591
X-APPLE-STRUCTURED-LOCATION;VALUE=URI;X-ADDRESS=Galeriile Cromatic str. Al. Macedonski nr. 28 Craiova Dolj România;X-APPLE-RADIUS=500;X-TITLE=str. Al. Macedonski\, nr. 28:geo:23.800203213591,44.312816218541
END:VEVENT
BEGIN:VEVENT
DTSTART;TZID=Europe/Bucharest:20251003T070000
DTEND;TZID=Europe/Bucharest:20251003T170000
DTSTAMP:20260424T073612
CREATED:20250917T095527Z
LAST-MODIFIED:20250917T095636Z
UID:10010093-1759474800-1759510800@craiovalive.ro
SUMMARY:Expoziție de pictură Dragoș Bradiceanu
DESCRIPTION:Muzeul Cărții și Exilului Românesc – 𝐄𝐱𝐩𝐨𝐳𝐢𝐭̦𝐢𝐞 𝐝𝐞 𝐩𝐢𝐜𝐭𝐮𝐫𝐚̆ 𝐃𝐫𝐚𝐠𝐨𝐬̦ 𝐁𝐫𝐚𝐝𝐢𝐜𝐞𝐚𝐧𝐮\n\n\nVineri\, 19 septembrie 2025\, la ora 11\, vă așteptăm la Muzeul Cărții și Exilului Românesc\, la vernisajul expoziției de pictură al artistului Dragoș Bradiceanu.\n\n\nLucrările vor fi expuse în spațiul expozițional din curtea muzeului.\n\n\nCuratorul expoziției: Prof. Dr. în arte vizuale Emilian Popescu\n\n\nInvitați:\nProf. Ovidiu Bărbulescu\, Uniunea Artiștilor Plastici din România\, filiala Craiova\nProf. Nicolae Marinescu\, dir. Editura Aius\n\n\nExpoziția va fi disponibilă la Muzeul Cărții și Exilului Românesc până pe data de 3 octombrie.
URL:https://craiovalive.ro/eveniment/expozitie-de-pictura-dragos-bradiceanu/2025-10-03/
LOCATION:Muzeul Cărții și Exilului Românesc\, Str. 24 Ianuarie nr. 4\, Craiova\, Dolj\, România
CATEGORIES:Expoziție,Pictura
ATTACH;FMTTYPE=image/jpeg:https://craiovalive.ro/wp-content/uploads/2025/09/Expozitie-de-pictura-Dragos-Bradiceanu.jpg
GEO:44.3141881;23.7984041
X-APPLE-STRUCTURED-LOCATION;VALUE=URI;X-ADDRESS=Muzeul Cărții și Exilului Românesc Str. 24 Ianuarie nr. 4 Craiova Dolj România;X-APPLE-RADIUS=500;X-TITLE=Str. 24 Ianuarie nr. 4:geo:23.7984041,44.3141881
END:VEVENT
BEGIN:VEVENT
DTSTART;TZID=Europe/Bucharest:20251003T180000
DTEND;TZID=Europe/Bucharest:20251003T235900
DTSTAMP:20260424T073612
CREATED:20250919T100412Z
LAST-MODIFIED:20250930T170625Z
UID:10010235-1759514400-1759535940@craiovalive.ro
SUMMARY:Expoziție „Cromatic Show II“
DESCRIPTION:Centrul Judeţean de Cultură și Artă Dolj – Secția pentru Conservarea şi Promovarea Culturii Tradiţionale invită iubitorii artei plastice să se bucure de expoziția „Cromatic Show II“\, deschisă pe simezele Galeriilor „Cromatic“ în perioada 30 septembrie – 15 octombrie 2025. \nEvenimentul este inclus în programul proiectului Noaptea Albă a Galeriilor și este realizat împreună cu Daniel Guță\, curatorul expoziției și reprezentantul Uniunii Artiștilor Plastici\, precum și cu Asociația Seniori Art Craiova. \nVizitatorii vor putea admira creații semnate de 70 de artiști din opt orașe ale țării: București\, Constanța\, Sebeș\, Arad\, Botoșani\, Calafat\, Drăgășani și Balș. \nVernisajul expoziției „Cromatic Show II“ va avea loc marți\, 30 septembrie 2025\, la ora 16.00\, la Galeriile „Cromatic“\, strada Alexandru Macedonski\, nr. 28. \nExpoziția va fi deschisă pentru public până pe 15 octombrie inclusiv\, de luni până vineri\, în intervalul orar 09:00 – 16:00\, cu excepția zilelor de 03 – 04 octombrie  când va putea fi vizitată între orele 18:00 – 24:00\, iar duminică\, 5 octombrie de la ora 18:00 până la 22:00.
URL:https://craiovalive.ro/eveniment/expozitie-cromatic-show-ii/2025-10-03/
LOCATION:Galeriile Cromatic\, str. Al. Macedonski\, nr. 28\, Craiova\, Dolj\, România
CATEGORIES:Expoziție,Pictura
ATTACH;FMTTYPE=image/jpeg:https://craiovalive.ro/wp-content/uploads/2025/09/Expozitie-„Cromatic-Show-II.jpeg
ORGANIZER;CN="Centrul Jude%C8%9Bean de Cultur%C4%83 %C8%99i Art%C4%83 Dolj - Sec%C8%9Bia pentru Conservarea %C5%9Fi Promovarea Culturii Tradi%C8%9Bionale Dolj":MAILTO:ccpdolj@yahoo.com
GEO:44.312816218541;23.800203213591
X-APPLE-STRUCTURED-LOCATION;VALUE=URI;X-ADDRESS=Galeriile Cromatic str. Al. Macedonski nr. 28 Craiova Dolj România;X-APPLE-RADIUS=500;X-TITLE=str. Al. Macedonski\, nr. 28:geo:23.800203213591,44.312816218541
END:VEVENT
BEGIN:VEVENT
DTSTART;TZID=Europe/Bucharest:20251004T180000
DTEND;TZID=Europe/Bucharest:20251004T235900
DTSTAMP:20260424T073612
CREATED:20250919T100412Z
LAST-MODIFIED:20250930T170625Z
UID:10010236-1759600800-1759622340@craiovalive.ro
SUMMARY:Expoziție „Cromatic Show II“
DESCRIPTION:Centrul Judeţean de Cultură și Artă Dolj – Secția pentru Conservarea şi Promovarea Culturii Tradiţionale invită iubitorii artei plastice să se bucure de expoziția „Cromatic Show II“\, deschisă pe simezele Galeriilor „Cromatic“ în perioada 30 septembrie – 15 octombrie 2025. \nEvenimentul este inclus în programul proiectului Noaptea Albă a Galeriilor și este realizat împreună cu Daniel Guță\, curatorul expoziției și reprezentantul Uniunii Artiștilor Plastici\, precum și cu Asociația Seniori Art Craiova. \nVizitatorii vor putea admira creații semnate de 70 de artiști din opt orașe ale țării: București\, Constanța\, Sebeș\, Arad\, Botoșani\, Calafat\, Drăgășani și Balș. \nVernisajul expoziției „Cromatic Show II“ va avea loc marți\, 30 septembrie 2025\, la ora 16.00\, la Galeriile „Cromatic“\, strada Alexandru Macedonski\, nr. 28. \nExpoziția va fi deschisă pentru public până pe 15 octombrie inclusiv\, de luni până vineri\, în intervalul orar 09:00 – 16:00\, cu excepția zilelor de 03 – 04 octombrie  când va putea fi vizitată între orele 18:00 – 24:00\, iar duminică\, 5 octombrie de la ora 18:00 până la 22:00.
URL:https://craiovalive.ro/eveniment/expozitie-cromatic-show-ii/2025-10-04/
LOCATION:Galeriile Cromatic\, str. Al. Macedonski\, nr. 28\, Craiova\, Dolj\, România
CATEGORIES:Expoziție,Pictura
ATTACH;FMTTYPE=image/jpeg:https://craiovalive.ro/wp-content/uploads/2025/09/Expozitie-„Cromatic-Show-II.jpeg
ORGANIZER;CN="Centrul Jude%C8%9Bean de Cultur%C4%83 %C8%99i Art%C4%83 Dolj - Sec%C8%9Bia pentru Conservarea %C5%9Fi Promovarea Culturii Tradi%C8%9Bionale Dolj":MAILTO:ccpdolj@yahoo.com
GEO:44.312816218541;23.800203213591
X-APPLE-STRUCTURED-LOCATION;VALUE=URI;X-ADDRESS=Galeriile Cromatic str. Al. Macedonski nr. 28 Craiova Dolj România;X-APPLE-RADIUS=500;X-TITLE=str. Al. Macedonski\, nr. 28:geo:23.800203213591,44.312816218541
END:VEVENT
BEGIN:VEVENT
DTSTART;TZID=Europe/Bucharest:20251005T180000
DTEND;TZID=Europe/Bucharest:20251005T220000
DTSTAMP:20260424T073612
CREATED:20250919T100412Z
LAST-MODIFIED:20250930T170625Z
UID:10010237-1759687200-1759701600@craiovalive.ro
SUMMARY:Expoziție „Cromatic Show II“
DESCRIPTION:Centrul Judeţean de Cultură și Artă Dolj – Secția pentru Conservarea şi Promovarea Culturii Tradiţionale invită iubitorii artei plastice să se bucure de expoziția „Cromatic Show II“\, deschisă pe simezele Galeriilor „Cromatic“ în perioada 30 septembrie – 15 octombrie 2025. \nEvenimentul este inclus în programul proiectului Noaptea Albă a Galeriilor și este realizat împreună cu Daniel Guță\, curatorul expoziției și reprezentantul Uniunii Artiștilor Plastici\, precum și cu Asociația Seniori Art Craiova. \nVizitatorii vor putea admira creații semnate de 70 de artiști din opt orașe ale țării: București\, Constanța\, Sebeș\, Arad\, Botoșani\, Calafat\, Drăgășani și Balș. \nVernisajul expoziției „Cromatic Show II“ va avea loc marți\, 30 septembrie 2025\, la ora 16.00\, la Galeriile „Cromatic“\, strada Alexandru Macedonski\, nr. 28. \nExpoziția va fi deschisă pentru public până pe 15 octombrie inclusiv\, de luni până vineri\, în intervalul orar 09:00 – 16:00\, cu excepția zilelor de 03 – 04 octombrie  când va putea fi vizitată între orele 18:00 – 24:00\, iar duminică\, 5 octombrie de la ora 18:00 până la 22:00.
URL:https://craiovalive.ro/eveniment/expozitie-cromatic-show-ii/2025-10-05/
LOCATION:Galeriile Cromatic\, str. Al. Macedonski\, nr. 28\, Craiova\, Dolj\, România
CATEGORIES:Expoziție,Pictura
ATTACH;FMTTYPE=image/jpeg:https://craiovalive.ro/wp-content/uploads/2025/09/Expozitie-„Cromatic-Show-II.jpeg
ORGANIZER;CN="Centrul Jude%C8%9Bean de Cultur%C4%83 %C8%99i Art%C4%83 Dolj - Sec%C8%9Bia pentru Conservarea %C5%9Fi Promovarea Culturii Tradi%C8%9Bionale Dolj":MAILTO:ccpdolj@yahoo.com
GEO:44.312816218541;23.800203213591
X-APPLE-STRUCTURED-LOCATION;VALUE=URI;X-ADDRESS=Galeriile Cromatic str. Al. Macedonski nr. 28 Craiova Dolj România;X-APPLE-RADIUS=500;X-TITLE=str. Al. Macedonski\, nr. 28:geo:23.800203213591,44.312816218541
END:VEVENT
END:VCALENDAR