BEGIN:VCALENDAR
VERSION:2.0
PRODID:-//Craiova Live - ECPv6.15.18//NONSGML v1.0//EN
CALSCALE:GREGORIAN
METHOD:PUBLISH
X-ORIGINAL-URL:https://craiovalive.ro
X-WR-CALDESC:Evenimente pentru Craiova Live
REFRESH-INTERVAL;VALUE=DURATION:PT1H
X-Robots-Tag:noindex
X-PUBLISHED-TTL:PT1H
BEGIN:VTIMEZONE
TZID:Europe/Bucharest
BEGIN:DAYLIGHT
TZOFFSETFROM:+0200
TZOFFSETTO:+0300
TZNAME:EEST
DTSTART:20240331T010000
END:DAYLIGHT
BEGIN:STANDARD
TZOFFSETFROM:+0300
TZOFFSETTO:+0200
TZNAME:EET
DTSTART:20241027T010000
END:STANDARD
BEGIN:DAYLIGHT
TZOFFSETFROM:+0200
TZOFFSETTO:+0300
TZNAME:EEST
DTSTART:20250330T010000
END:DAYLIGHT
BEGIN:STANDARD
TZOFFSETFROM:+0300
TZOFFSETTO:+0200
TZNAME:EET
DTSTART:20251026T010000
END:STANDARD
BEGIN:DAYLIGHT
TZOFFSETFROM:+0200
TZOFFSETTO:+0300
TZNAME:EEST
DTSTART:20260329T010000
END:DAYLIGHT
BEGIN:STANDARD
TZOFFSETFROM:+0300
TZOFFSETTO:+0200
TZNAME:EET
DTSTART:20261025T010000
END:STANDARD
END:VTIMEZONE
BEGIN:VEVENT
DTSTART;TZID=Europe/Bucharest:20250815T090000
DTEND;TZID=Europe/Bucharest:20250815T170000
DTSTAMP:20260424T061732
CREATED:20250802T121439Z
LAST-MODIFIED:20250802T121439Z
UID:10007874-1755248400-1755277200@craiovalive.ro
SUMMARY:Expoziție pictură Ion Aurel Gârjoabă
DESCRIPTION:UAPR și Filiala UAPR-Craiova găzduiesc\, la Galeria de Artă din Craiova\, expoziția artistului plastic Ion Aurel Gârjoabă\, din Curtea de Argeș\, filiala UAPR-Pitești!
URL:https://craiovalive.ro/eveniment/expozitie-pictura-ion-aurel-garjoaba/2025-08-15/
LOCATION:Galeria Arta 1\, Calea Unirii\, nr. 12\, Craiova\, Dolj\, România
CATEGORIES:Expoziție,Pictura
ATTACH;FMTTYPE=image/jpeg:https://craiovalive.ro/wp-content/uploads/2025/08/Expozitie-pictura-Ion-Aurel-Garjoaba.jpg
ORGANIZER;CN="Uniunea Arti%C8%99tilor Plastici din Rom%C3%A2nia - Filiala Craiova":MAILTO:emil_banuti@yahoo.com
GEO:44.3184417;23.7945318
X-APPLE-STRUCTURED-LOCATION;VALUE=URI;X-ADDRESS=Galeria Arta 1 Calea Unirii nr. 12 Craiova Dolj România;X-APPLE-RADIUS=500;X-TITLE=Calea Unirii\, nr. 12:geo:23.7945318,44.3184417
END:VEVENT
BEGIN:VEVENT
DTSTART;TZID=Europe/Bucharest:20250725T090000
DTEND;TZID=Europe/Bucharest:20250725T170000
DTSTAMP:20260424T061732
CREATED:20250624T092051Z
LAST-MODIFIED:20250624T092051Z
UID:10007520-1753434000-1753462800@craiovalive.ro
SUMMARY:Expoziție „Occupied Silence”
DESCRIPTION:Muzeul Cărții și Exilului Românesc găzduiește miercuri\, 25 iunie 2025\, la ora 20.00\, vernisajul expoziției „Occupied Silence”\, ce curprinde lucrări realizate de studenții Secției de Pictură a Facultății de Teologie Ortodoxă din Craiova. \nRealizată cu binecuvântarea IPS Acad. Prof. univ. dr. Irineu Popa\, Arhiepiscopul Craiovei și Mitropolitul Olteniei\, expoziția „Occupied Silence” propune o investigație artistică asupra spațiilor abandonate și a clădirilor în ruină\, privite nu ca simple relicve ale unei funcționalități pierdute\, ci ca entități încărcate de memorie\, stratificare temporală și prezență latentă. \nArtiștii incluși în această selecție sunt studenți de la Specializarea Pictură (Licență: Anul I\, II\, III și Master: Anul I). \n– Lucia Chirvăsuță \n– Ana Maria Lisatu \n– Nicoleta Nicolaescu \n– Valentin Georgescu \n– Cornelia Purcărin \n– Maria Man \n– Ana Gabriela Şerban \n– Iulia Voinea \n– Viorel Surdoiu \n– Iulian Bănuț \n– Cătălina Dobroiu \n– Bianca Otoiu \n– Ana-Maria Călugăru \n– Oana Piscureanu \n– Eduard Nițulescu \n– Denisa Negru \n– Andreea Crețan \n– Angela Mustăcilă \n– Carmen Oanță \n– Marius Rece \n– Manuela Popescu \n– Andreea Popescu \n– Antonia Liță \n– Andra Badea \n– Iason Tavlaridis \n– Alexandra Șoancă \n– Ionuț Mitroi \n– Alexia Mișcu \n– Marioara Ghiluși \nCuratorii expoziției sunt Lect. univ. dr. Laura Semenov și Pr. Asist. univ. dr. Constantin Semenov. \n„În centrul demersului curatorial se află ideea că absența umană nu anulează viața unui spațiu\, ci o transformă. Tăcerea devine aici o forță ocupantă\, un agent activ ce reconfigurează percepția asupra ruinelor urbane. Zidurile crăpate\, ferestrele sparte\, infiltrațiile și urmele timpului sunt documentate pictural cu o precizie aproape arheologică\, dar și cu o sensibilitate care evită simpla nostalgie. \nOccupied Silence funcționează ca o interfață între memorie și uitare\, între vizibil și invizibil. Fiecare lucrare evocă un peisaj liminal – un teritoriu suspendat între funcțiune și abandon\, între trecutul locuit și prezentul golit de sens imediat. Clădirile pictate nu sunt doar subiecte\, ci personaje – martori tăcuți ai unei lumi care dispare\, dar care continuă să emită semnale subtile\, perceptibile doar privirii atente și empatice. \nAceastă expoziție nu oferă răspunsuri\, ci deschide spații de reflecție critică asupra urbanului\, memoriei colective și modului în care estetizăm ruina. Într-un prezent accelerat\, dominat de reconstrucție și ștergerea urmelor\, Occupied Silence propune o încetinire necesară și o reevaluare poetică a ceea ce (încă) stă în picioare\, tăcut\, în pragul dispariției.”- Lect. univ. dr. Laura Semenov\, curator
URL:https://craiovalive.ro/eveniment/expozitie-occupied-silence/2025-07-25/
LOCATION:Muzeul Cărții și Exilului Românesc\, Str. 24 Ianuarie nr. 4\, Craiova\, Dolj\, România
CATEGORIES:Expoziție,Pictura
ATTACH;FMTTYPE=image/jpeg:https://craiovalive.ro/wp-content/uploads/2025/06/Expozitie-„Occupied-Silence.jpeg
GEO:44.3141881;23.7984041
X-APPLE-STRUCTURED-LOCATION;VALUE=URI;X-ADDRESS=Muzeul Cărții și Exilului Românesc Str. 24 Ianuarie nr. 4 Craiova Dolj România;X-APPLE-RADIUS=500;X-TITLE=Str. 24 Ianuarie nr. 4:geo:23.7984041,44.3141881
END:VEVENT
BEGIN:VEVENT
DTSTART;TZID=Europe/Bucharest:20250711T090000
DTEND;TZID=Europe/Bucharest:20250711T170000
DTSTAMP:20260424T061732
CREATED:20250612T192906Z
LAST-MODIFIED:20250612T192906Z
UID:10007422-1752224400-1752253200@craiovalive.ro
SUMMARY:Expoziție de pictură „Cu noi începe lumea“
DESCRIPTION:Juniorii Seniori Art și Cromatic Arts Studio\, alături de coordonatorii lor și invitați\, au vernisat joi\, 12 iunie 2025\, la ora 17:00\, expoziția de pictură „Cu noi începe lumea“\, la Galeriile „Cromatic“ din strada Alexandru Macedonski\, nr. 28.\n\n\nExpoziția de pictură cuprinde 67 de lucrări\, realizate de 19 copii\, participanți la atelierele coordonate de artistul vizual Daniel Guță și artistul liric Dana Curcă\, în parteneriat cu Secția pentru Conservarea şi Promovarea Culturii Tradiţionale Dolj a Centrului Județean de Cultură și Artă Dolj.\n\n\nAlături de copii s-au aflat: prof. Ovidiu Bărbulescu (U.A.P.R.- Filiala Craiova) și prof. Nicolae Marinescu (director Editura „Mozaicul“).\nUn medalion muzical a fost oferit de Ruxandra și Rareș Lucan la pian și de cvartetul vocal format din Andreea Mirea\, Alexia Ardeleanu\, Luca Isvoranu\, David Volintiru. Momentul de teatru a fost dăruit de Teodora Botezatu și „două flori“ (sceneta Scufița Roșie).
URL:https://craiovalive.ro/eveniment/expozitie-de-pictura-cu-noi-incepe-lumea/2025-07-11/
LOCATION:Dolj
CATEGORIES:Expoziție,Pictura
ATTACH;FMTTYPE=image/jpeg:https://craiovalive.ro/wp-content/uploads/2025/06/Expozitie-de-pictura-„Cu-noi-incepe-lumea.jpg
ORGANIZER;CN="Centrul Jude%C8%9Bean de Cultur%C4%83 %C8%99i Art%C4%83 Dolj - Sec%C8%9Bia pentru Conservarea %C5%9Fi Promovarea Culturii Tradi%C8%9Bionale Dolj":MAILTO:ccpdolj@yahoo.com
END:VEVENT
END:VCALENDAR