BEGIN:VCALENDAR
VERSION:2.0
PRODID:-//Craiova Live - ECPv6.15.18//NONSGML v1.0//EN
CALSCALE:GREGORIAN
METHOD:PUBLISH
X-ORIGINAL-URL:https://craiovalive.ro
X-WR-CALDESC:Evenimente pentru Craiova Live
REFRESH-INTERVAL;VALUE=DURATION:PT1H
X-Robots-Tag:noindex
X-PUBLISHED-TTL:PT1H
BEGIN:VTIMEZONE
TZID:Europe/Bucharest
BEGIN:DAYLIGHT
TZOFFSETFROM:+0200
TZOFFSETTO:+0300
TZNAME:EEST
DTSTART:20250330T010000
END:DAYLIGHT
BEGIN:STANDARD
TZOFFSETFROM:+0300
TZOFFSETTO:+0200
TZNAME:EET
DTSTART:20251026T010000
END:STANDARD
BEGIN:DAYLIGHT
TZOFFSETFROM:+0200
TZOFFSETTO:+0300
TZNAME:EEST
DTSTART:20260329T010000
END:DAYLIGHT
BEGIN:STANDARD
TZOFFSETFROM:+0300
TZOFFSETTO:+0200
TZNAME:EET
DTSTART:20261025T010000
END:STANDARD
BEGIN:DAYLIGHT
TZOFFSETFROM:+0200
TZOFFSETTO:+0300
TZNAME:EEST
DTSTART:20270328T010000
END:DAYLIGHT
BEGIN:STANDARD
TZOFFSETFROM:+0300
TZOFFSETTO:+0200
TZNAME:EET
DTSTART:20271031T010000
END:STANDARD
END:VTIMEZONE
BEGIN:VEVENT
DTSTART;TZID=Europe/Bucharest:20260307T235900
DTEND;TZID=Europe/Bucharest:20260308T050000
DTSTAMP:20260424T000752
CREATED:20260224T094824Z
LAST-MODIFIED:20260224T094824Z
UID:10014061-1772927940-1772946000@craiovalive.ro
SUMMARY:Girls Night Out @Comitet
DESCRIPTION: GET READY\, GIRLS! CRAIOVA IS GOING WILD! Sâmbătă seară\, Centrul Vechi devine epicentrul distracției! Lăsăm inhibițiile la intrare și sărbătorim femeia în cel mai hot mod posibil. E noaptea noastră\, regulile noastre!  DRINK UP: Fetele primesc PRIMUL LONG DRINK GRATUIT! Startul perfect pentru o noapte de neuitat. THE VIBE: DJ BULLDOG pune stăpânire pe platane și promite un set care o să ne țină pe ringul de dans până la răsărit!  LOCAȚIA: Str. Mihail Kogălniceanu Nr. 21A\, Craiova (Centrul Vechi) CÂND: Sâmbătă\, 7 Martie | Ora 00:00 RESERVĂRI la: 0764.913.713.Mood: Young\, Wild & Free. Ne vedem acolo! 
URL:https://craiovalive.ro/eveniment/girls-night-out-comitet/
CATEGORIES:Party
ATTACH;FMTTYPE=image/jpeg:https://craiovalive.ro/wp-content/uploads/2026/02/Girls-Night-Out-@Comitet.jpg
END:VEVENT
END:VCALENDAR