BEGIN:VCALENDAR
VERSION:2.0
PRODID:-//Craiova Live - ECPv6.15.18//NONSGML v1.0//EN
CALSCALE:GREGORIAN
METHOD:PUBLISH
X-ORIGINAL-URL:https://craiovalive.ro
X-WR-CALDESC:Evenimente pentru Craiova Live
REFRESH-INTERVAL;VALUE=DURATION:PT1H
X-Robots-Tag:noindex
X-PUBLISHED-TTL:PT1H
BEGIN:VTIMEZONE
TZID:Europe/Bucharest
BEGIN:DAYLIGHT
TZOFFSETFROM:+0200
TZOFFSETTO:+0300
TZNAME:EEST
DTSTART:20250330T010000
END:DAYLIGHT
BEGIN:STANDARD
TZOFFSETFROM:+0300
TZOFFSETTO:+0200
TZNAME:EET
DTSTART:20251026T010000
END:STANDARD
BEGIN:DAYLIGHT
TZOFFSETFROM:+0200
TZOFFSETTO:+0300
TZNAME:EEST
DTSTART:20260329T010000
END:DAYLIGHT
BEGIN:STANDARD
TZOFFSETFROM:+0300
TZOFFSETTO:+0200
TZNAME:EET
DTSTART:20261025T010000
END:STANDARD
BEGIN:DAYLIGHT
TZOFFSETFROM:+0200
TZOFFSETTO:+0300
TZNAME:EEST
DTSTART:20270328T010000
END:DAYLIGHT
BEGIN:STANDARD
TZOFFSETFROM:+0300
TZOFFSETTO:+0200
TZNAME:EET
DTSTART:20271031T010000
END:STANDARD
END:VTIMEZONE
BEGIN:VEVENT
DTSTART;TZID=Europe/Bucharest:20260213T220000
DTEND;TZID=Europe/Bucharest:20260214T030000
DTSTAMP:20260424T014016
CREATED:20260203T102437Z
LAST-MODIFIED:20260203T102437Z
UID:10013005-1771020000-1771038000@craiovalive.ro
SUMMARY:Electronic nights w/ Albui | Naidin | Toni
DESCRIPTION:Ne reîntoarcem la Korona pentru evenimentul din luna februarie alături de un invitat foarte drag nouă\, si anume Albui\, DJ-ul orădean din gașca Dinsubsol.\nPrea multe nu va mai spunem\, știți deja ce o să găsiți la eveniment: muzică bună\, o atmosferă cosy\, prețuri mici si foarte mulți prieteni.\nSă aveți o săptămână minunată si ne vedem pe 13 februarie la Korona.\nSuport artiști: 20 RON
URL:https://craiovalive.ro/eveniment/electronic-nights-w-albui-naidin-toni/
CATEGORIES:Muzică,Party
ATTACH;FMTTYPE=image/jpeg:https://craiovalive.ro/wp-content/uploads/2026/02/Electronic-nights-cu-Albui-Naidin-Toni.jpg
END:VEVENT
END:VCALENDAR