BEGIN:VCALENDAR
VERSION:2.0
PRODID:-//Craiova Live - ECPv6.15.18//NONSGML v1.0//EN
CALSCALE:GREGORIAN
METHOD:PUBLISH
X-ORIGINAL-URL:https://craiovalive.ro
X-WR-CALDESC:Evenimente pentru Craiova Live
REFRESH-INTERVAL;VALUE=DURATION:PT1H
X-Robots-Tag:noindex
X-PUBLISHED-TTL:PT1H
BEGIN:VTIMEZONE
TZID:Europe/Bucharest
BEGIN:DAYLIGHT
TZOFFSETFROM:+0200
TZOFFSETTO:+0300
TZNAME:EEST
DTSTART:20240331T010000
END:DAYLIGHT
BEGIN:STANDARD
TZOFFSETFROM:+0300
TZOFFSETTO:+0200
TZNAME:EET
DTSTART:20241027T010000
END:STANDARD
BEGIN:DAYLIGHT
TZOFFSETFROM:+0200
TZOFFSETTO:+0300
TZNAME:EEST
DTSTART:20250330T010000
END:DAYLIGHT
BEGIN:STANDARD
TZOFFSETFROM:+0300
TZOFFSETTO:+0200
TZNAME:EET
DTSTART:20251026T010000
END:STANDARD
BEGIN:DAYLIGHT
TZOFFSETFROM:+0200
TZOFFSETTO:+0300
TZNAME:EEST
DTSTART:20260329T010000
END:DAYLIGHT
BEGIN:STANDARD
TZOFFSETFROM:+0300
TZOFFSETTO:+0200
TZNAME:EET
DTSTART:20261025T010000
END:STANDARD
END:VTIMEZONE
BEGIN:VEVENT
DTSTART;TZID=Europe/Bucharest:20251206T213000
DTEND;TZID=Europe/Bucharest:20251206T233000
DTSTAMP:20260424T124332
CREATED:20240312T224002Z
LAST-MODIFIED:20251123T222219Z
UID:10002832-1765056600-1765063800@craiovalive.ro
SUMMARY:Disco '84
DESCRIPTION:Strălucirea anilor ’80 revine la Teatrul Național din Craiova! \n\n\n Sâmbătă\, 6 decembrie 2025\n Începând cu ora 21:30\n Foaierul teatrului\nBilete: https://ebilet.tncms.ro/ebilet/Spectacol/Edit/2006 sau la Agenția Teatrală\, Str. A.I.Cuza\, nr. 11.\n\n\nTe așteptăm la Disco ’84\, o petrecere plină de ritm\, culoare și vibe retro\, care va transforma foaierul teatrului într-un ring de dans ca în vremurile bune! \n\n\nȚinuta inspirată de moda anilor ’80 este super binevenită\, așa că pune-ți la punct look-ul retro și pregătește-te pentru o seară electrizantă!\n\n\n Hai să retrăim împreună magia unei epoci care nu se demodează niciodată!
URL:https://craiovalive.ro/eveniment/disco-84/
LOCATION:Teatrul Național Craiova – Foaier\, Str. A. I. Cuza\, nr. 11\, Craiova\, Dolj\, 200585\, România
CATEGORIES:Party
ATTACH;FMTTYPE=image/png:https://craiovalive.ro/wp-content/uploads/2024/03/Disco-84-Teatrul-National-Craiova.png
ORGANIZER;CN="Teatrul Na%C8%9Bional Marin Sorescu Craiova":MAILTO:secretariat@tncms.ro
GEO:44.3186661;23.8003743
X-APPLE-STRUCTURED-LOCATION;VALUE=URI;X-ADDRESS=Teatrul Național Craiova – Foaier Str. A. I. Cuza nr. 11 Craiova Dolj 200585 România;X-APPLE-RADIUS=500;X-TITLE=Str. A. I. Cuza\, nr. 11:geo:23.8003743,44.3186661
END:VEVENT
END:VCALENDAR