BEGIN:VCALENDAR
VERSION:2.0
PRODID:-//Craiova Live - ECPv6.15.18//NONSGML v1.0//EN
CALSCALE:GREGORIAN
METHOD:PUBLISH
X-ORIGINAL-URL:https://craiovalive.ro
X-WR-CALDESC:Evenimente pentru Craiova Live
REFRESH-INTERVAL;VALUE=DURATION:PT1H
X-Robots-Tag:noindex
X-PUBLISHED-TTL:PT1H
BEGIN:VTIMEZONE
TZID:Europe/Bucharest
BEGIN:DAYLIGHT
TZOFFSETFROM:+0200
TZOFFSETTO:+0300
TZNAME:EEST
DTSTART:20240331T010000
END:DAYLIGHT
BEGIN:STANDARD
TZOFFSETFROM:+0300
TZOFFSETTO:+0200
TZNAME:EET
DTSTART:20241027T010000
END:STANDARD
BEGIN:DAYLIGHT
TZOFFSETFROM:+0200
TZOFFSETTO:+0300
TZNAME:EEST
DTSTART:20250330T010000
END:DAYLIGHT
BEGIN:STANDARD
TZOFFSETFROM:+0300
TZOFFSETTO:+0200
TZNAME:EET
DTSTART:20251026T010000
END:STANDARD
BEGIN:DAYLIGHT
TZOFFSETFROM:+0200
TZOFFSETTO:+0300
TZNAME:EEST
DTSTART:20260329T010000
END:DAYLIGHT
BEGIN:STANDARD
TZOFFSETFROM:+0300
TZOFFSETTO:+0200
TZNAME:EET
DTSTART:20261025T010000
END:STANDARD
END:VTIMEZONE
BEGIN:VEVENT
DTSTART;TZID=Europe/Bucharest:20251031T170000
DTEND;TZID=Europe/Bucharest:20251031T235900
DTSTAMP:20260424T134544
CREATED:20251007T211654Z
LAST-MODIFIED:20251007T211654Z
UID:10010297-1761930000-1761955140@craiovalive.ro
SUMMARY:Halloween @Fado
DESCRIPTION: CONCURS de Lip Sync & Costume de Halloween la Fado Pub! Data: 31 OCT. Locație: Fado Pub\, Craiova\n Regulament Concurs Lip Sync & Costume – Halloween la Fado\nConcursul are loc în cadrul petrecerii de Halloween de la Fado Pub –\nFiecare participant (sau echipă) va pregăti un moment artistic ce combină interpretarea prin Lip Sync și costumul de Halloween.\nDurata momentului nu trebuie să depășească 5 minute.\nMuzica trebuie anunțată la înscriere și adaugata in playlistul HOLLOW FADO CRAIOVA (spotify) https://open.spotify.com/playlist/10EzRG2EHNhMVRGS5uzJM1….\nCostumul este parte integrantă a momentului și va fi luat în considerare la jurizare.\nCâștigătorul va fi desemnat pe baza impactului artistic al momentului (energie\, creativitate\, sincronizare\, costum).\nOrganizatorii își rezervă dreptul de a ajusta ordinea intrărilor și de a respinge înscrieri nepotrivite cu tematica.\nPremiul se acordă pentru “Cel mai bun moment” al serii.\nINSCRIERILE SE FAC ONLINE PE FORMULARUL:\nhttps://docs.google.com/…/1q2kxDZ…/edit
URL:https://craiovalive.ro/eveniment/halloween-fado/
LOCATION:Fado Irish Pub\, Str. Traian Demetrescu\, nr. 8\, Craiova\, Dolj\, România
CATEGORIES:Party
ATTACH;FMTTYPE=image/jpeg:https://craiovalive.ro/wp-content/uploads/2025/10/Halloween-@Fado.jpg
GEO:44.3166637;23.7997315
X-APPLE-STRUCTURED-LOCATION;VALUE=URI;X-ADDRESS=Fado Irish Pub Str. Traian Demetrescu nr. 8 Craiova Dolj România;X-APPLE-RADIUS=500;X-TITLE=Str. Traian Demetrescu\, nr. 8:geo:23.7997315,44.3166637
END:VEVENT
END:VCALENDAR