BEGIN:VCALENDAR
VERSION:2.0
PRODID:-//Craiova Live - ECPv6.15.18//NONSGML v1.0//EN
CALSCALE:GREGORIAN
METHOD:PUBLISH
X-ORIGINAL-URL:https://craiovalive.ro
X-WR-CALDESC:Evenimente pentru Craiova Live
REFRESH-INTERVAL;VALUE=DURATION:PT1H
X-Robots-Tag:noindex
X-PUBLISHED-TTL:PT1H
BEGIN:VTIMEZONE
TZID:Europe/Bucharest
BEGIN:DAYLIGHT
TZOFFSETFROM:+0200
TZOFFSETTO:+0300
TZNAME:EEST
DTSTART:20240331T010000
END:DAYLIGHT
BEGIN:STANDARD
TZOFFSETFROM:+0300
TZOFFSETTO:+0200
TZNAME:EET
DTSTART:20241027T010000
END:STANDARD
BEGIN:DAYLIGHT
TZOFFSETFROM:+0200
TZOFFSETTO:+0300
TZNAME:EEST
DTSTART:20250330T010000
END:DAYLIGHT
BEGIN:STANDARD
TZOFFSETFROM:+0300
TZOFFSETTO:+0200
TZNAME:EET
DTSTART:20251026T010000
END:STANDARD
BEGIN:DAYLIGHT
TZOFFSETFROM:+0200
TZOFFSETTO:+0300
TZNAME:EEST
DTSTART:20260329T010000
END:DAYLIGHT
BEGIN:STANDARD
TZOFFSETFROM:+0300
TZOFFSETTO:+0200
TZNAME:EET
DTSTART:20261025T010000
END:STANDARD
END:VTIMEZONE
BEGIN:VEVENT
DTSTART;TZID=Europe/Bucharest:20250509T220000
DTEND;TZID=Europe/Bucharest:20250510T030000
DTSTAMP:20260425T051631
CREATED:20250508T140922Z
LAST-MODIFIED:20250508T140922Z
UID:10006518-1746828000-1746846000@craiovalive.ro
SUMMARY:Allexinno @Toska
DESCRIPTION:
URL:https://craiovalive.ro/eveniment/allexinno-toska/
CATEGORIES:Party
ATTACH;FMTTYPE=image/jpeg:https://craiovalive.ro/wp-content/uploads/2025/05/Allexinno-@Toska.jpg
END:VEVENT
BEGIN:VEVENT
DTSTART;TZID=Europe/Bucharest:20250510T230000
DTEND;TZID=Europe/Bucharest:20250511T040000
DTSTAMP:20260425T051631
CREATED:20250508T140730Z
LAST-MODIFIED:20250508T140730Z
UID:10006517-1746918000-1746936000@craiovalive.ro
SUMMARY:Afro Tech Party
DESCRIPTION:Get ready for a night of rhythm\, energy\, and pure Afro Techno vibes!Join us this Saturday at The 20’s for a special edition Afro Tech Party featuring the one and only DJ Ablo. From tribal beats to hypnotic techno grooves\, he’s bringing the fire to keep you dancing all night long.\nStart: 11:00 PMDress to express. Dance to connect.
URL:https://craiovalive.ro/eveniment/afro-tech-party/
LOCATION:The 20s\, Str. Traian Demetrescu\, nr. 14\, Craiova\, Dolj\, 200395\, România
CATEGORIES:Party
ATTACH;FMTTYPE=image/jpeg:https://craiovalive.ro/wp-content/uploads/2025/05/Afro-Tech-Party.jpg
GEO:44.3166319;23.8001481
X-APPLE-STRUCTURED-LOCATION;VALUE=URI;X-ADDRESS=The 20s Str. Traian Demetrescu nr. 14 Craiova Dolj 200395 România;X-APPLE-RADIUS=500;X-TITLE=Str. Traian Demetrescu\, nr. 14:geo:23.8001481,44.3166319
END:VEVENT
END:VCALENDAR