BEGIN:VCALENDAR
VERSION:2.0
PRODID:-//Craiova Live - ECPv6.15.18//NONSGML v1.0//EN
CALSCALE:GREGORIAN
METHOD:PUBLISH
X-WR-CALNAME:Craiova Live
X-ORIGINAL-URL:https://craiovalive.ro
X-WR-CALDESC:Evenimente pentru Craiova Live
REFRESH-INTERVAL;VALUE=DURATION:PT1H
X-Robots-Tag:noindex
X-PUBLISHED-TTL:PT1H
BEGIN:VTIMEZONE
TZID:Europe/Bucharest
BEGIN:DAYLIGHT
TZOFFSETFROM:+0200
TZOFFSETTO:+0300
TZNAME:EEST
DTSTART:20240331T010000
END:DAYLIGHT
BEGIN:STANDARD
TZOFFSETFROM:+0300
TZOFFSETTO:+0200
TZNAME:EET
DTSTART:20241027T010000
END:STANDARD
BEGIN:DAYLIGHT
TZOFFSETFROM:+0200
TZOFFSETTO:+0300
TZNAME:EEST
DTSTART:20250330T010000
END:DAYLIGHT
BEGIN:STANDARD
TZOFFSETFROM:+0300
TZOFFSETTO:+0200
TZNAME:EET
DTSTART:20251026T010000
END:STANDARD
BEGIN:DAYLIGHT
TZOFFSETFROM:+0200
TZOFFSETTO:+0300
TZNAME:EEST
DTSTART:20260329T010000
END:DAYLIGHT
BEGIN:STANDARD
TZOFFSETFROM:+0300
TZOFFSETTO:+0200
TZNAME:EET
DTSTART:20261025T010000
END:STANDARD
END:VTIMEZONE
BEGIN:VEVENT
DTSTART;TZID=Europe/Bucharest:20250426T220000
DTEND;TZID=Europe/Bucharest:20250427T020000
DTSTAMP:20260425T051223
CREATED:20250414T132411Z
LAST-MODIFIED:20250505T092350Z
UID:10006130-1745704800-1745719200@craiovalive.ro
SUMMARY:☆ Le Petit – Pays de Merveille ☆ MINA Pop-Up Museum Craiova
DESCRIPTION:☆ Le Petit – Pays de Merveille ☆MINA Pop-Up Museum – Craiova | 26.04.2025\nLe Petit lands in Craiova for the very first time – and it’s going to be unforgettable!\nStep into a world of pure magic where imagination knows no limits. Get ready to lose yourself in breathtaking visuals\, electrifying beats\, and an atmosphere straight out of a dream.\nThis isn’t just a party — it’s an experience you’ll never forget.\nLine-up:MARCO GENERANI | ANDREW DUM | BIG P – bringing the sound of wonder straight to your soul!\nDon’t miss your chance to be part of this epic night!\nEvent Details: Date: April 26\, 2025 Location: Mina Pop-Up Museum\, Craiova\nGather your crew\, dress to impress\, and let the magic unfold! See you in the land of wonders! 
URL:https://craiovalive.ro/eveniment/%e2%98%86-le-petit-pays-de-merveille-%e2%98%86-mina-pop-up-museum-craiova/
LOCATION:MINA Pop-Up Craiova\, Bulevard Ilie Balaci nr. 6 (lângă Sala Polivalentă)\, Craiova\, Dolj\, 200920\, România
CATEGORIES:Party
ATTACH;FMTTYPE=image/jpeg:https://craiovalive.ro/wp-content/uploads/2025/04/Le-Petit-–-Pays-de-Merveille-MINA-Pop-Up-Museum-Craiova.jpg
GEO:44.313128875204;23.787296767497
X-APPLE-STRUCTURED-LOCATION;VALUE=URI;X-ADDRESS=MINA Pop-Up Craiova Bulevard Ilie Balaci nr. 6 (lângă Sala Polivalentă) Craiova Dolj 200920 România;X-APPLE-RADIUS=500;X-TITLE=Bulevard Ilie Balaci nr. 6 (lângă Sala Polivalentă):geo:23.787296767497,44.313128875204
END:VEVENT
END:VCALENDAR