BEGIN:VCALENDAR
VERSION:2.0
PRODID:-//Craiova Live - ECPv6.15.18//NONSGML v1.0//EN
CALSCALE:GREGORIAN
METHOD:PUBLISH
X-ORIGINAL-URL:https://craiovalive.ro
X-WR-CALDESC:Evenimente pentru Craiova Live
REFRESH-INTERVAL;VALUE=DURATION:PT1H
X-Robots-Tag:noindex
X-PUBLISHED-TTL:PT1H
BEGIN:VTIMEZONE
TZID:Europe/Bucharest
BEGIN:DAYLIGHT
TZOFFSETFROM:+0200
TZOFFSETTO:+0300
TZNAME:EEST
DTSTART:20250330T010000
END:DAYLIGHT
BEGIN:STANDARD
TZOFFSETFROM:+0300
TZOFFSETTO:+0200
TZNAME:EET
DTSTART:20251026T010000
END:STANDARD
BEGIN:DAYLIGHT
TZOFFSETFROM:+0200
TZOFFSETTO:+0300
TZNAME:EEST
DTSTART:20260329T010000
END:DAYLIGHT
BEGIN:STANDARD
TZOFFSETFROM:+0300
TZOFFSETTO:+0200
TZNAME:EET
DTSTART:20261025T010000
END:STANDARD
BEGIN:DAYLIGHT
TZOFFSETFROM:+0200
TZOFFSETTO:+0300
TZNAME:EEST
DTSTART:20270328T010000
END:DAYLIGHT
BEGIN:STANDARD
TZOFFSETFROM:+0300
TZOFFSETTO:+0200
TZNAME:EET
DTSTART:20271031T010000
END:STANDARD
END:VTIMEZONE
BEGIN:VEVENT
DTSTART;TZID=Europe/Bucharest:20260528T210000
DTEND;TZID=Europe/Bucharest:20260528T230000
DTSTAMP:20260423T211104
CREATED:20260419T210001Z
LAST-MODIFIED:20260419T210001Z
UID:10014562-1780002000-1780009200@craiovalive.ro
SUMMARY:Black Party - Ian
DESCRIPTION:Craiova: Black Party – Ian\n\nCrush Jungle \, Craiova\nStrada Mihai Viteazu 16A\, Craiova\njoi\, 28 mai\, ora 21:00\n\n\n\nPregătește-te pentru o noapte exclusivistă și plină de energie: BLACK PARTY la Crush Jungle\, alături de Ian! \nDress code: ALL BLACK\nVibe: fără limite \n\n\nIan vine să rupă scena cu stilul lui inconfundabil și cu hituri care definesc noul val. Dacă știi “Black Party”\, știi deja că noaptea asta nu e pentru oricine — e pentru cei care simt muzica\, trăiesc intens și nu stau pe margine. \n\nJungle vibes + lumini \nCocktailuri reci\, atmosferă încinsă \n\nÎmbracă-te în negru. Vino pregătit. Pleci schimbat. \n\nMinorii sunt obligați să se prezinte însoțiți de un acord parental redactat în formă scrisă.
URL:https://craiovalive.ro/eveniment/black-party-ian/
CATEGORIES:Muzică,Party
ATTACH;FMTTYPE=image/webp:https://craiovalive.ro/wp-content/uploads/2026/04/Black-Party-Ian.webp
END:VEVENT
END:VCALENDAR