BEGIN:VCALENDAR
VERSION:2.0
PRODID:-//Craiova Live - ECPv6.15.18//NONSGML v1.0//EN
CALSCALE:GREGORIAN
METHOD:PUBLISH
X-WR-CALNAME:Craiova Live
X-ORIGINAL-URL:https://craiovalive.ro
X-WR-CALDESC:Evenimente pentru Craiova Live
REFRESH-INTERVAL;VALUE=DURATION:PT1H
X-Robots-Tag:noindex
X-PUBLISHED-TTL:PT1H
BEGIN:VTIMEZONE
TZID:Europe/Bucharest
BEGIN:DAYLIGHT
TZOFFSETFROM:+0200
TZOFFSETTO:+0300
TZNAME:EEST
DTSTART:20240331T010000
END:DAYLIGHT
BEGIN:STANDARD
TZOFFSETFROM:+0300
TZOFFSETTO:+0200
TZNAME:EET
DTSTART:20241027T010000
END:STANDARD
BEGIN:DAYLIGHT
TZOFFSETFROM:+0200
TZOFFSETTO:+0300
TZNAME:EEST
DTSTART:20250330T010000
END:DAYLIGHT
BEGIN:STANDARD
TZOFFSETFROM:+0300
TZOFFSETTO:+0200
TZNAME:EET
DTSTART:20251026T010000
END:STANDARD
BEGIN:DAYLIGHT
TZOFFSETFROM:+0200
TZOFFSETTO:+0300
TZNAME:EEST
DTSTART:20260329T010000
END:DAYLIGHT
BEGIN:STANDARD
TZOFFSETFROM:+0300
TZOFFSETTO:+0200
TZNAME:EET
DTSTART:20261025T010000
END:STANDARD
END:VTIMEZONE
BEGIN:VEVENT
DTSTART;TZID=Europe/Bucharest:20251003T193000
DTEND;TZID=Europe/Bucharest:20251003T220000
DTSTAMP:20260424T111335
CREATED:20250324T114823Z
LAST-MODIFIED:20250730T152247Z
UID:10006002-1759519800-1759528800@craiovalive.ro
SUMMARY:Retro Mania Craiova 2025
DESCRIPTION:Retro Mania – Spectacolul Nostalgiei la Sala Polivalenta Craiova! \nPe 3 octombrie 2025\, Sala Polivalenta Craiova găzduiește un eveniment de neuitat: Retro Mania\, un spectacol dedicat muzicii legendare care a marcat generații! Vino să te bucuri de o seară magică\, alături de artiști de renume internațional: \n\n\n\n\nBoney M – vocea emblematică a unor hituri precum *Rivers of Babylon* și *Daddy Cool*.  Dr Alban – va aduce pe scenă energie pură cu piese care au făcut istorie\, precum *It’s My Life* și *Sing Hallelujah*.\nBad Boys Blue – pregătește-te să dansezi pe ritmurile care au cucerit lumea!  *You’re a Woman*\, *Pretty Youg Girl*\nAdmiral C4C – energia reggae care va ridica sala în picioare cu hiturile precum *Turn It Up\,*\, *Drop The Boom*\nABBA Tribute – celebrează magia unor clasice ca *Dancing Queen* și *Mamma Mia*\nMR PRESIDENT – cu totii am fredonat megahitul Coco Jambo\n\nPregătește-te pentru o explozie de nostalgie\, dans și bună dispoziție!\n\nLocație: Sala Polivalenta Craiova\nData: 3 Octombrie 2025\nOra: 19:30\n\nNu rata șansa de a retrăi cele mai frumoase momente muzicale din anii ’70\, ’80 și ’90\, într-o atmosferă vibrantă! – o seară pentru suflet și dans!
URL:https://craiovalive.ro/eveniment/retro-mania-craiova-2025/
LOCATION:Sala Polivalentă\, Bvd. Ilie Balaci\, nr.6\, Craiova\, Dolj\, România
CATEGORIES:Muzică,Party
ATTACH;FMTTYPE=image/png:https://craiovalive.ro/wp-content/uploads/2025/03/Retro-Mania-Craiova-2025-1.png
GEO:44.3133053;23.7867478
X-APPLE-STRUCTURED-LOCATION;VALUE=URI;X-ADDRESS=Sala Polivalentă Bvd. Ilie Balaci nr.6 Craiova Dolj România;X-APPLE-RADIUS=500;X-TITLE=Bvd. Ilie Balaci\, nr.6:geo:23.7867478,44.3133053
END:VEVENT
BEGIN:VEVENT
DTSTART;TZID=Europe/Bucharest:20251017T210000
DTEND;TZID=Europe/Bucharest:20251017T233000
DTSTAMP:20260424T111335
CREATED:20251012T152052Z
LAST-MODIFIED:20251012T152052Z
UID:10010569-1760734800-1760743800@craiovalive.ro
SUMMARY:Housematiq presents Autumn Showcase
DESCRIPTION:Pentru că vremea e capricioasă\, ne retragem înăuntru la ALAI HUB\, refugiul perfect\, un spatiu cu o atmosfera deosebită. Ne așteaptă o seară plină de muzică electronică\, dans și conexiuni autentice. \n Line-up: Liviu Nina VE.RE Daghi nERV\n ALAI HUB 17.10.2025 Start: 21:00\n Intrare gratuită între 21:00 – 23:00 După 23:00 – 20 lei Locuri limitate
URL:https://craiovalive.ro/eveniment/housematiq-presents-autumn-showcase/
CATEGORIES:Party
ATTACH;FMTTYPE=image/jpeg:https://craiovalive.ro/wp-content/uploads/2025/10/Housematiq-presents-Autumn-Showcase.jpg
END:VEVENT
BEGIN:VEVENT
DTSTART;TZID=Europe/Bucharest:20251031T170000
DTEND;TZID=Europe/Bucharest:20251031T235900
DTSTAMP:20260424T111335
CREATED:20251007T211654Z
LAST-MODIFIED:20251007T211654Z
UID:10010297-1761930000-1761955140@craiovalive.ro
SUMMARY:Halloween @Fado
DESCRIPTION: CONCURS de Lip Sync & Costume de Halloween la Fado Pub! Data: 31 OCT. Locație: Fado Pub\, Craiova\n Regulament Concurs Lip Sync & Costume – Halloween la Fado\nConcursul are loc în cadrul petrecerii de Halloween de la Fado Pub –\nFiecare participant (sau echipă) va pregăti un moment artistic ce combină interpretarea prin Lip Sync și costumul de Halloween.\nDurata momentului nu trebuie să depășească 5 minute.\nMuzica trebuie anunțată la înscriere și adaugata in playlistul HOLLOW FADO CRAIOVA (spotify) https://open.spotify.com/playlist/10EzRG2EHNhMVRGS5uzJM1….\nCostumul este parte integrantă a momentului și va fi luat în considerare la jurizare.\nCâștigătorul va fi desemnat pe baza impactului artistic al momentului (energie\, creativitate\, sincronizare\, costum).\nOrganizatorii își rezervă dreptul de a ajusta ordinea intrărilor și de a respinge înscrieri nepotrivite cu tematica.\nPremiul se acordă pentru “Cel mai bun moment” al serii.\nINSCRIERILE SE FAC ONLINE PE FORMULARUL:\nhttps://docs.google.com/…/1q2kxDZ…/edit
URL:https://craiovalive.ro/eveniment/halloween-fado/
LOCATION:Fado Irish Pub\, Str. Traian Demetrescu\, nr. 8\, Craiova\, Dolj\, România
CATEGORIES:Party
ATTACH;FMTTYPE=image/jpeg:https://craiovalive.ro/wp-content/uploads/2025/10/Halloween-@Fado.jpg
GEO:44.3166637;23.7997315
X-APPLE-STRUCTURED-LOCATION;VALUE=URI;X-ADDRESS=Fado Irish Pub Str. Traian Demetrescu nr. 8 Craiova Dolj România;X-APPLE-RADIUS=500;X-TITLE=Str. Traian Demetrescu\, nr. 8:geo:23.7997315,44.3166637
END:VEVENT
END:VCALENDAR