BEGIN:VCALENDAR
VERSION:2.0
PRODID:-//Craiova Live - ECPv6.15.18//NONSGML v1.0//EN
CALSCALE:GREGORIAN
METHOD:PUBLISH
X-ORIGINAL-URL:https://craiovalive.ro
X-WR-CALDESC:Evenimente pentru Craiova Live
REFRESH-INTERVAL;VALUE=DURATION:PT1H
X-Robots-Tag:noindex
X-PUBLISHED-TTL:PT1H
BEGIN:VTIMEZONE
TZID:Europe/Bucharest
BEGIN:DAYLIGHT
TZOFFSETFROM:+0200
TZOFFSETTO:+0300
TZNAME:EEST
DTSTART:20250330T010000
END:DAYLIGHT
BEGIN:STANDARD
TZOFFSETFROM:+0300
TZOFFSETTO:+0200
TZNAME:EET
DTSTART:20251026T010000
END:STANDARD
BEGIN:DAYLIGHT
TZOFFSETFROM:+0200
TZOFFSETTO:+0300
TZNAME:EEST
DTSTART:20260329T010000
END:DAYLIGHT
BEGIN:STANDARD
TZOFFSETFROM:+0300
TZOFFSETTO:+0200
TZNAME:EET
DTSTART:20261025T010000
END:STANDARD
BEGIN:DAYLIGHT
TZOFFSETFROM:+0200
TZOFFSETTO:+0300
TZNAME:EEST
DTSTART:20270328T010000
END:DAYLIGHT
BEGIN:STANDARD
TZOFFSETFROM:+0300
TZOFFSETTO:+0200
TZNAME:EET
DTSTART:20271031T010000
END:STANDARD
END:VTIMEZONE
BEGIN:VEVENT
DTSTART;TZID=Europe/Bucharest:20260221T190000
DTEND;TZID=Europe/Bucharest:20260221T210000
DTSTAMP:20260425T045746
CREATED:20250203T104127Z
LAST-MODIFIED:20260127T132743Z
UID:10005163-1771700400-1771707600@craiovalive.ro
SUMMARY:Pescuitorii de perle
DESCRIPTION:Pescuitorii de perle – Operă în 3 acte de Georges Bizet \ndupă libretul lui Michel Carré și Eugène Cormon. \nPremieră mondială: 30 septembrie 1863\, la Teatrul Liric din Paris.\nDurată: 2h \nOrchestra\, Corul și Baletul Operei Române Craiova \nRegie artistică\, scenografie\, costume și lumini: l’Oiseleur des Longchamps (Franța)\nAsistent regie artistică: Arabela Tănase\nRealizare scenografie: Răsvan Drăgănescu\nCoregrafie: Laurențiu Nicu \nActul I \nO plajă de pe Insula Ceylan. Pescarii se întorc ca în fiecare an la locul de pescuit pe care îl oferă musonul. Zurga este ales șeful clanului. Sosește Nadir\, prietenul din copilărie al lui Zurga. Împreună\, își povestesc trecutul și pasiunea de odinioară pentru o preoteasă pe care au zărit-o la Candi. Amândoi și-au înăbușit sentimentele pentru a nu-și pune în pericol prietenia. Bătrânii satului au plecat să o caute pe cea care\, fecioară\, trebuia să liniștească marea și să favorizeze pescuitul cu cântecele sale. Tradiția prevedea ca tânăra fată să fi depus jurământ de castitate. Nadir își dă seama că Leila este fata care îi fermecase pe amândoi. Leila îl recunoaște pe Nadir pe care îl visase în secret. \nActul II \nRuinele unui templu. Leila se odihnește. Preotul Nourabad îi reamintește obligațiile. Ea îi povestește că într-o zi și-a riscat viața pentru a salva un străin. Acesta i-a oferit atunci un colier. Mai târziu\, Nadir se întâlnește cu Leila pe stâncile care înconjoară marea. Tinerii își mărturisesc iubirea și hotărăsc să se vadă în fiecare seară\, însă marele preot îi găsește și cheamă pescarii și pe Zurga. Acesta o recunoaște pe Leila\, preoteasa de altădată\, cuprins de gelozie\, îi condamnă pe cei doi trădători la moarte. O furtună îngrozitoare se pornește. Pescarii\, înfrigurați\, sunt convinși că este vorba despre răzbunarea zeilor ofensați. \nActul III \nScena 1: Zurga se plânge și regretă cruzimea de care a dat dovadă. Leila încearcă să îl înduplece pe acesta să-l ierte pe Nadir\, însă nu reușește decât să-i reînvie gelozia lui Zurga. Înainte de a o lua\, îi cere ca după moartea sa să îi dea mamei sale colierul. Zurga își dă seama că este bijuteria pe care i-o oferise adolescentei care îl salvase mai demult. \nScena 2: Pescarii așteaptă zorile pentru a-i executa pe Nadir și Leila\, însă Zurga reacționează: câmpul arde. Toți aleargă. Zurga\, care aprinsese focul pentru a crea o diversiune\, îi eliberează pe Nadir și pe Leila și îi obligă să fugă. Rămâne singur și se sacrifică…
URL:https://craiovalive.ro/eveniment/pescuitorii-de-perle/
LOCATION:Cercul Militar Craiova\, Str. Marin Sorescu\, nr. 2\, Craiova\, Dolj\, 200642\, România
CATEGORIES:Opera
ATTACH;FMTTYPE=image/jpeg:https://craiovalive.ro/wp-content/uploads/2025/02/Pescuitorii-de-perle.jpg
ORGANIZER;CN="Opera Rom%C3%A2n%C4%83 Craiova":MAILTO:rezervari@operacraiova.ro
GEO:44.308454;23.7956757
X-APPLE-STRUCTURED-LOCATION;VALUE=URI;X-ADDRESS=Cercul Militar Craiova Str. Marin Sorescu nr. 2 Craiova Dolj 200642 România;X-APPLE-RADIUS=500;X-TITLE=Str. Marin Sorescu\, nr. 2:geo:23.7956757,44.308454
END:VEVENT
END:VCALENDAR