BEGIN:VCALENDAR
VERSION:2.0
PRODID:-//Craiova Live - ECPv6.15.18//NONSGML v1.0//EN
CALSCALE:GREGORIAN
METHOD:PUBLISH
X-WR-CALNAME:Craiova Live
X-ORIGINAL-URL:https://craiovalive.ro
X-WR-CALDESC:Evenimente pentru Craiova Live
REFRESH-INTERVAL;VALUE=DURATION:PT1H
X-Robots-Tag:noindex
X-PUBLISHED-TTL:PT1H
BEGIN:VTIMEZONE
TZID:Europe/Bucharest
BEGIN:DAYLIGHT
TZOFFSETFROM:+0200
TZOFFSETTO:+0300
TZNAME:EEST
DTSTART:20250330T010000
END:DAYLIGHT
BEGIN:STANDARD
TZOFFSETFROM:+0300
TZOFFSETTO:+0200
TZNAME:EET
DTSTART:20251026T010000
END:STANDARD
BEGIN:DAYLIGHT
TZOFFSETFROM:+0200
TZOFFSETTO:+0300
TZNAME:EEST
DTSTART:20260329T010000
END:DAYLIGHT
BEGIN:STANDARD
TZOFFSETFROM:+0300
TZOFFSETTO:+0200
TZNAME:EET
DTSTART:20261025T010000
END:STANDARD
BEGIN:DAYLIGHT
TZOFFSETFROM:+0200
TZOFFSETTO:+0300
TZNAME:EEST
DTSTART:20270328T010000
END:DAYLIGHT
BEGIN:STANDARD
TZOFFSETFROM:+0300
TZOFFSETTO:+0200
TZNAME:EET
DTSTART:20271031T010000
END:STANDARD
END:VTIMEZONE
BEGIN:VEVENT
DTSTART;TZID=Europe/Bucharest:20260207T190000
DTEND;TZID=Europe/Bucharest:20260207T220000
DTSTAMP:20260425T045754
CREATED:20241003T153744Z
LAST-MODIFIED:20260127T132059Z
UID:10000523-1770490800-1770501600@craiovalive.ro
SUMMARY:Văduva veselă
DESCRIPTION:Opera Română Craiova îi invită pe iubitorii muzicii la spectacolul „Văduva Veselă” de Franz Lehár\, povestea de dragoste cu personaje carismatice\, umor fin și o muzică fermecătoare care a devenit una dintre cele mai iubite operete din istoria muzicii și care se bucură de un succes imens în toate teatrele lirice din lume. \n\n\n\n\nPremieră mondială: Theater an der Wien\, 25 decembrie 1905\n\n\nDurată: aprox. 3h – două pauze\n\n\nMenţiuni: Spectacol în limba română\n\n\n\nOperetă în trei acte compusă de Franz Lehár. \nLibretul de Victor Léon și Leo Stein\, după comedia Atașatul de ambasadă a lui Henri Meilhac. \n\nSpectacol al Operei Române Craiova pe scena Cercului Militar \nRegia artistică: Arabela Tănase\nScenografia: Răsvan Drăgănescu\nCoregrafia: Erna Marin\n\nConducerea muzicală: Dumitru Cârciumaru\n\nDistribuția: \nDistribuția:\nHanna Glawari – Renata Vari\nContele Danilo Danilowitsch – Petrișor Efrem\nValencienne – Nadia Domnicu\nBaronul Mirko Zeta – Dan Cornescu\nCamille de Rosillon – Ion Timofti (Chișinău)\nNjegus – Laurenţiu Nicu\nVicontele Cascada – Cristian Fofucă\nRaoul de Saint-Brioch – Say Ufuk Gengis\nKromow – Cosmin Vasilescu\nOlga – Anca Țecu\nBogdanowitsch – Victor Dimieru\nSylviane – Ana Radu\nPraškowia – Edith Mag\nPritschitsch – Adrian Grădinaru\nMajordomul – Robert Vladu\nGrizetele: Lolo – Mihaela Leonte\, Dodo – Diana Oșca\, Jou-Jou – Silvia Ceche\, Frou-Frou – Raluca Predoi\, Clo-Clo – Rodica Dinișoară\, Margot – Andreea Vasile\nOrchestra\, Corul și Baletul Operei Române Craiova \n\n\nAcțiunea se petrece la Paris. \nACTUL I \nElita societăţii „pontevedrine” de la Paris participă la un bal dat în onoarea onomasticii şefului statului Pontevedro. Prea marea încredere a ambasadorului Zetta în soţia sa\, parizianca Valencienne\, îi îngăduie acesteia să încurajeze o amuzantă aventură romantică cu Camille de Rosillon\, locotenent de vânători. Într-o efuziune de dragoste\, acesta a scris pe evantaiul tinerei doamne „Te iubesc”. \nSe anunţă prezenţa unei frumoase\, tinere şi bogate văduve\, Hanna Glavari\, care stârneşte multă admiraţie\, dar şi îngrijorarea ambasadorului. Ştiind că imensa avere a Hannei este depusă în seifurile băncii din Pontevedro\, el consideră că trebuie prin orice mijloace să împiedice înstrăinarea banilor. Este un accident ce s-ar putea întâmpla în eventualitatea unei căsătorii a văduvei cu cineva din afara statului. Oportunitatea ivirii unui pretendent pontevedrin i se pare ambasadorului cea mai nimerită rezolvare. În acest scop l-a ales pe ataşatul ambasadei\, Danilo Danilovici\, tânăr elegant\, petrecăreţ şi cam fluşturatic\, care îşi petrece timpul mai mult în celebrul local parizian „Maxim”. Acesta\, „chemat la datorie” de ambasador\, trebuie să o cucerească pe celebra şi frumoasa văduvă\, cerând-o în căsătorie. \nACTUL II \nO petrecere în casa Hannei Glavari\, care îşi primeşte oaspeţii. Evantaiul buclucaş îşi continuă periplul. Danilo recunoaşte scrisul lui Camille şi crede că acest mesaj este adresat Hannei; tânăra văduvă citeşte mesajul ca venind din partea lui Danilo. Învăluiţi de aventura lor sentimentală\, Valencienne şi Camille s-au retras într-un pavilion\, unde sunt urmăriţi mai apoi de ambasadorul Zetta. Gata să facă scandal\, el descoperă stupefiat că\, în pavilion cu Camille de Rosillon\, se află Hanna\, care a luat discret locul Valenciennei. Reacţia lui Danilo este violentă\, căci gelozia îl determină să plece imediat\, refugiindu-se\, ca de obicei\, la cabaretul „Maxim”. \nACTUL III \nSuntem invitaţi în ambianţa veselă a cabaretului „Maxim”\, unde\, rând pe rând\, apar toate personajele istorioarei care îmbină jocul cu evantaiul compromiţător şi vânătoarea moştenirii. Danilo\, comportându-se în fapt ca un dandy\, se consolează alături de prietenele sale de la cabaret. Oricum\, nu mai vrea să se lase vrăjit de farmecul iubirii de altădată\, care l-a făcut să sufere\, şi nici să asculte explicaţiile Hannei\, în care nu mai crede. Dornică să-i recucerească dragostea\, tânăra văduvă insistă\, aparent fără sorţi de izbândă. Între toate aceste combinaţii\, ambasadorul Zetta s-a convins că Valencienne îl înşală. El hotărăşte să divorţeze\, cerând mâna – şi averea! – Hannei. Văduva anunţă însă că o căsătorie va determina pierderea tuturor banilor. Propunerile se retrag de îndată\, singurul pretendent rămânând… Danilo. Hanna acceptă cu bucurie această alegere şi anunţă\, surâzând\, că întreaga avere s-a pierdut… în favoarea celui de al doilea soţ\, veste care o face să adauge fericirea iubirii la veselia ei de … fostă văduvă. \n*Titus Moisescu și Miltiade Păun\, Ghid de operetă\, Editura Muzicală a Uniunii Compozitorilor\, București\, 1969
URL:https://craiovalive.ro/eveniment/vaduva-vesela/
LOCATION:Cercul Militar Craiova\, Str. Marin Sorescu\, nr. 2\, Craiova\, Dolj\, 200642\, România
CATEGORIES:Opera
ATTACH;FMTTYPE=image/png:https://craiovalive.ro/wp-content/uploads/2024/10/Vaduva-Vesela-Opera-Romana-Craiova.png
ORGANIZER;CN="Opera Rom%C3%A2n%C4%83 Craiova":MAILTO:rezervari@operacraiova.ro
GEO:44.308454;23.7956757
X-APPLE-STRUCTURED-LOCATION;VALUE=URI;X-ADDRESS=Cercul Militar Craiova Str. Marin Sorescu nr. 2 Craiova Dolj 200642 România;X-APPLE-RADIUS=500;X-TITLE=Str. Marin Sorescu\, nr. 2:geo:23.7956757,44.308454
END:VEVENT
END:VCALENDAR