BEGIN:VCALENDAR
VERSION:2.0
PRODID:-//Craiova Live - ECPv6.15.18//NONSGML v1.0//EN
CALSCALE:GREGORIAN
METHOD:PUBLISH
X-ORIGINAL-URL:https://craiovalive.ro
X-WR-CALDESC:Evenimente pentru Craiova Live
REFRESH-INTERVAL;VALUE=DURATION:PT1H
X-Robots-Tag:noindex
X-PUBLISHED-TTL:PT1H
BEGIN:VTIMEZONE
TZID:Europe/Bucharest
BEGIN:DAYLIGHT
TZOFFSETFROM:+0200
TZOFFSETTO:+0300
TZNAME:EEST
DTSTART:20240331T010000
END:DAYLIGHT
BEGIN:STANDARD
TZOFFSETFROM:+0300
TZOFFSETTO:+0200
TZNAME:EET
DTSTART:20241027T010000
END:STANDARD
BEGIN:DAYLIGHT
TZOFFSETFROM:+0200
TZOFFSETTO:+0300
TZNAME:EEST
DTSTART:20250330T010000
END:DAYLIGHT
BEGIN:STANDARD
TZOFFSETFROM:+0300
TZOFFSETTO:+0200
TZNAME:EET
DTSTART:20251026T010000
END:STANDARD
BEGIN:DAYLIGHT
TZOFFSETFROM:+0200
TZOFFSETTO:+0300
TZNAME:EEST
DTSTART:20260329T010000
END:DAYLIGHT
BEGIN:STANDARD
TZOFFSETFROM:+0300
TZOFFSETTO:+0200
TZNAME:EET
DTSTART:20261025T010000
END:STANDARD
END:VTIMEZONE
BEGIN:VEVENT
DTSTART;TZID=Europe/Bucharest:20251108T190000
DTEND;TZID=Europe/Bucharest:20251108T203000
DTSTAMP:20260425T131640
CREATED:20251104T184352Z
LAST-MODIFIED:20251104T184352Z
UID:10012346-1762628400-1762633800@craiovalive.ro
SUMMARY:Gianni Schicchi
DESCRIPTION:Data: 8 noiembrie 2025 \nOra: 19.00 \nLocația: Cercul Militar \nSpectacolul Operei Române Craiova Gianni Schicchi este o bijuterie amuzantă care aduce pe scenă o satiră plină de vervă despre lăcomie și ingeniozitate și o perspectivă comică asupra spiritului uman. Puccini îmbină umorul rafinat cu o muzică bogată în culoare și ritm\, pentru a contura un tablou savuros al unei lumi în care inteligența și ironia triumfă asupra ipocriziei. La mai bine de un veac de la premiera mondială\, opera continuă să fascineze prin echilibrul perfect dintre comedie și emoție autentică. \nOra si locul evenimentului \nVă așteptăm 8 noiembrie\, începând cu ora 19:00 la Cercul Militar Craiova \nPreț: 100 RON
URL:https://craiovalive.ro/eveniment/gianni-schicchi/
LOCATION:Cercul Militar Craiova\, Str. Marin Sorescu\, nr. 2\, Craiova\, Dolj\, 200642\, România
CATEGORIES:Opera
ATTACH;FMTTYPE=image/webp:https://craiovalive.ro/wp-content/uploads/2025/11/Gianni-Schicchi.webp
ORGANIZER;CN="Opera Rom%C3%A2n%C4%83 Craiova":MAILTO:rezervari@operacraiova.ro
GEO:44.308454;23.7956757
X-APPLE-STRUCTURED-LOCATION;VALUE=URI;X-ADDRESS=Cercul Militar Craiova Str. Marin Sorescu nr. 2 Craiova Dolj 200642 România;X-APPLE-RADIUS=500;X-TITLE=Str. Marin Sorescu\, nr. 2:geo:23.7956757,44.308454
END:VEVENT
END:VCALENDAR