BEGIN:VCALENDAR
VERSION:2.0
PRODID:-//Craiova Live - ECPv6.15.18//NONSGML v1.0//EN
CALSCALE:GREGORIAN
METHOD:PUBLISH
X-ORIGINAL-URL:https://craiovalive.ro
X-WR-CALDESC:Evenimente pentru Craiova Live
REFRESH-INTERVAL;VALUE=DURATION:PT1H
X-Robots-Tag:noindex
X-PUBLISHED-TTL:PT1H
BEGIN:VTIMEZONE
TZID:Europe/Bucharest
BEGIN:DAYLIGHT
TZOFFSETFROM:+0200
TZOFFSETTO:+0300
TZNAME:EEST
DTSTART:20240331T010000
END:DAYLIGHT
BEGIN:STANDARD
TZOFFSETFROM:+0300
TZOFFSETTO:+0200
TZNAME:EET
DTSTART:20241027T010000
END:STANDARD
BEGIN:DAYLIGHT
TZOFFSETFROM:+0200
TZOFFSETTO:+0300
TZNAME:EEST
DTSTART:20250330T010000
END:DAYLIGHT
BEGIN:STANDARD
TZOFFSETFROM:+0300
TZOFFSETTO:+0200
TZNAME:EET
DTSTART:20251026T010000
END:STANDARD
BEGIN:DAYLIGHT
TZOFFSETFROM:+0200
TZOFFSETTO:+0300
TZNAME:EEST
DTSTART:20260329T010000
END:DAYLIGHT
BEGIN:STANDARD
TZOFFSETFROM:+0300
TZOFFSETTO:+0200
TZNAME:EET
DTSTART:20261025T010000
END:STANDARD
END:VTIMEZONE
BEGIN:VEVENT
DTSTART;TZID=Europe/Bucharest:20250504T190000
DTEND;TZID=Europe/Bucharest:20250504T210000
DTSTAMP:20260424T002120
CREATED:20250428T193400Z
LAST-MODIFIED:20250428T193400Z
UID:10006212-1746385200-1746392400@craiovalive.ro
SUMMARY:Uite tata\, nu e tata
DESCRIPTION:Un spectacol plin de surprize\, ritm și replici spumoase\, în care încurcăturile de familie\, identitățile schimbate și situațiile inedite se țin lanț\, „Uite tata\, nu e tata” aduce pe scenă personaje carismatice și muzică antrenantă. Alegerea perfectă pentru cei care vor să evadeze din cotidian și să petreacă o seară cu zâmbetul pe buze\, comedia muzicală scrisă de Mihail Joldea\, pe muzica lui Alexandru Iosub și cuplete muzicale de George Mihalache\, în regia lui Laurențiu Nicu și scenografia lui Răsvan Drăgănescu\, este un eveniment care\, de fiecare dată\, îi face pe spectatori să râdă cu poftă și să aplaude fredonând. \nSpectacol al Operei Române Craiova pe scena Cercului Militar
URL:https://craiovalive.ro/eveniment/uite-tata-nu-e-tata/
LOCATION:Cercul Militar Craiova\, Str. Marin Sorescu\, nr. 2\, Craiova\, Dolj\, 200642\, România
CATEGORIES:Opera
ATTACH;FMTTYPE=image/png:https://craiovalive.ro/wp-content/uploads/2025/04/Uite-tata-nu-e-tata.png
ORGANIZER;CN="Opera Rom%C3%A2n%C4%83 Craiova":MAILTO:rezervari@operacraiova.ro
GEO:44.308454;23.7956757
X-APPLE-STRUCTURED-LOCATION;VALUE=URI;X-ADDRESS=Cercul Militar Craiova Str. Marin Sorescu nr. 2 Craiova Dolj 200642 România;X-APPLE-RADIUS=500;X-TITLE=Str. Marin Sorescu\, nr. 2:geo:23.7956757,44.308454
END:VEVENT
END:VCALENDAR