BEGIN:VCALENDAR
VERSION:2.0
PRODID:-//Craiova Live - ECPv6.15.18//NONSGML v1.0//EN
CALSCALE:GREGORIAN
METHOD:PUBLISH
X-ORIGINAL-URL:https://craiovalive.ro
X-WR-CALDESC:Evenimente pentru Craiova Live
REFRESH-INTERVAL;VALUE=DURATION:PT1H
X-Robots-Tag:noindex
X-PUBLISHED-TTL:PT1H
BEGIN:VTIMEZONE
TZID:Europe/Bucharest
BEGIN:DAYLIGHT
TZOFFSETFROM:+0200
TZOFFSETTO:+0300
TZNAME:EEST
DTSTART:20250330T010000
END:DAYLIGHT
BEGIN:STANDARD
TZOFFSETFROM:+0300
TZOFFSETTO:+0200
TZNAME:EET
DTSTART:20251026T010000
END:STANDARD
BEGIN:DAYLIGHT
TZOFFSETFROM:+0200
TZOFFSETTO:+0300
TZNAME:EEST
DTSTART:20260329T010000
END:DAYLIGHT
BEGIN:STANDARD
TZOFFSETFROM:+0300
TZOFFSETTO:+0200
TZNAME:EET
DTSTART:20261025T010000
END:STANDARD
BEGIN:DAYLIGHT
TZOFFSETFROM:+0200
TZOFFSETTO:+0300
TZNAME:EEST
DTSTART:20270328T010000
END:DAYLIGHT
BEGIN:STANDARD
TZOFFSETFROM:+0300
TZOFFSETTO:+0200
TZNAME:EET
DTSTART:20271031T010000
END:STANDARD
END:VTIMEZONE
BEGIN:VEVENT
DTSTART;TZID=Europe/Bucharest:20260503T190000
DTEND;TZID=Europe/Bucharest:20260503T210000
DTSTAMP:20260424T002224
CREATED:20250201T221343Z
LAST-MODIFIED:20251215T180330Z
UID:10005149-1777834800-1777842000@craiovalive.ro
SUMMARY:Cocoșatul de la Notre Dame
DESCRIPTION:Musicalul “COCOȘATUL DE LA NOTRE DAME” vine la Teatrul Național Marin Sorescu din CRAIOVA pe 03 Mai 2026\, ora 19.00\, dupa reprezentațiile de succes avute pe marile scene Broadway\, Grand Via….. \nTheater du Soleil Entertainment vă răsfaţă cu o nouă producţie dinamică\, plină de culoare şi emoţie. „Cocoșatul de la Notre Dame” redă cu măiestrie una dintre cele mai vechi poveşti\, într-un MUSICALLIVE\, în care personajele prind viaţă. \nEste un show grandios\, o adaptare de Sergiu Roban și Iulia Miulescu\, un MUSICAL LIVE ÎN LIMBA ROMÂNĂ\, momente de dans unice\, costume și decoruri de basm\, care îi vor purta pe cei mari într-o lume de vis\, alături de cele mai îndrăgite personaje:Quasimodo\, Frollo\, Esmeralda\, Phoebus\, Clopin …. și multe altele. \nCocoșatul de la Notre Dame este un Musical care te poartă într-o călătorie întunecată și emoționantă printr-o poveste plasată în Parisul Medieval lăsând publicul să plângă la finalul sfâșietor. \nDe ce nu ar trebui să ratați așa ceva? Vă putem da o mie de motive pentru a fi alături de noi: \nVă mai amintiți de Cocoșatul Quasimodo\, clopotarul Catedralei Notre Dame?\nDar de frumoasa Esmeralda din celebrul roman al lui Victor Hugo? Vă e dor de o poveste din Parisul medieval? \nVă așteptăm alături de o echipă de profesioniști. În rolurile principale îi veți putea aplauda pe: Sergiu Roban – Quasimodo\, Bogdan Podlovschi /Vasile Filipescu – Frollo\, Iulia Miulescu – Esmeralda\, Tomer Jack Weissbuch – Phoebus\, Victor Valentin Ion – Clopin\, Emil Mitrache (Americnu) – Regele Louis\, Teodor Ștefan Colea – Frederic/ Jehan/ Povestitor\, Diana Maria Colea / Daniela Foiu– Povestitor/ Statuie\, Ioana Dragomir / Sofia Sânziana Ivan – Povestitor/ Matroană\, Alina Mariana Mirica – Statuie\, Doru Ciutacu – Statuie\, Radu Brescan – Statuie/Tigan\, Petru Schindler – Soldat\, Luana Prodea – Înger\, Elvira Ioana Bolovan – Țigancă/ Cetățean. \nACCESUL COPIILOR SUB 12 ANI ESTE INTERZIS! \nDurata Spectacolului: 120 min cu pauza intre acte de 15 min \nScenariul: Sergiu Roban și Iulia Miulescu \nRegia: Elena Nicolau și Sergiu Roban \nCoordonator Muzical : Iulia Miulescu \nTraducere si Adaptare Versuri: Iulia Miulescu și Sergiu Roban \nCoregrafia: Momo Sanno \nMișcare Scenică: Momo Sanno \nScenografia: Elena Nicolau \nCostume:Camelia Daniela Banu \nLighting Design: Ion Nicolau \nSound Design: Ion Nicolau \nGraphic Design: Studio Graphic Bear
URL:https://craiovalive.ro/eveniment/cocosatul-de-la-notre-dame/
LOCATION:Teatrul Național Craiova – Sala Amza Pellea\, Str. A. I. Cuza\, nr. 11\, Craiova\, Dolj\, 200585\, România
CATEGORIES:Muzică,Opera,Teatru
ATTACH;FMTTYPE=image/jpeg:https://craiovalive.ro/wp-content/uploads/2025/02/Cocosatul-de-la-Notre-Dame-Craiova-2025.jpg
GEO:44.3186661;23.8003743
X-APPLE-STRUCTURED-LOCATION;VALUE=URI;X-ADDRESS=Teatrul Național Craiova – Sala Amza Pellea Str. A. I. Cuza nr. 11 Craiova Dolj 200585 România;X-APPLE-RADIUS=500;X-TITLE=Str. A. I. Cuza\, nr. 11:geo:23.8003743,44.3186661
END:VEVENT
BEGIN:VEVENT
DTSTART;TZID=Europe/Bucharest:20260522T190000
DTEND;TZID=Europe/Bucharest:20260522T220000
DTSTAMP:20260424T002224
CREATED:20260328T201501Z
LAST-MODIFIED:20260328T201501Z
UID:10014434-1779476400-1779487200@craiovalive.ro
SUMMARY:Otello
DESCRIPTION:Otello (16+) – Festivalul Internațional Shakespeare Craiova 2026 \n22 Mai 2026\, 19:00 – 22:00\, Cercul Militar Craiova (Casa Armatei) \nREGIE: Rareș Zaharia \nȚARA: România \nDURATA: 3h \nLIMBA SPECTACOL: Italiană \nSUPRATITRARE: Engleză\, Română \n„Un spectacol eveniment pe scena craioveană”\, care valorifică atât forța muzicii lui Verdi\, cât și dimensiunea teatrală a montării. \nSinopsis \nOtello de Giuseppe Verdi\, produs de Opera Română din Craiova\, se conturează ca un spectacol în care muzica și teatrul se împletesc într-o construcție coerentă și fascinantă. Regia semnată de Rareș Zaharia plasează acțiunea la sfârșitul secolului al XIX-lea și construiește un univers scenic bazat pe simboluri și sugestii vizuale puternice\, în care elemente precum focul sau jocul luminii devin repere ale unei lumi interioare marcate de obsesie\, gelozie și destin tragic. Rezultatul este „un spectacol eveniment pe scena craioveană”\, care valorifică atât forța muzicii lui Verdi\, cât și dimensiunea teatrală a montării. \nInspirată din tragedia lui William Shakespeare\, opera spune povestea generalului maur Otello\, guvernator al Ciprului\, a soției sale Desdemona și a intrigantului Iago\, ofițerul său devotat doar în aparență. Întors victorios din luptă\, Otello devine ținta unui plan perfid pus la cale de Iago\, care\, din gelozie și ambiție\, îl manipulează insinuând infidelitatea Desdemonei. Cu ajutorul unor dovezi false și al unor situații atent orchestrate\, Iago reușește să strecoare îndoiala în sufletul lui Otello\, transformând iubirea profundă într-o gelozie devastatoare. Pe măsură ce suspiciunea crește\, relațiile dintre personaje se destramă\, iar adevărul devine imposibil de distins de minciună conducând inevitabil spre un deznodământ tragic. \nDistribuție & Echipă artistică\nDirijor – Alfredo Sorichetti \nOtello – Paolo Lardizzone | Jago – Leonardo Lopez Linares | Cassio – Francesco Napoleoni | Roderigo – Petrișor Efrem | Desdemona – Renata Vari | Emilia – Licia Toscano | Lodovico – Viktor Shevchenko | Montano – Ioan Toma | Un sol – Cristian Fofucă \nOrchestra și Corul Operei Române Craiova \nEchipa artistică \nAutorul textului: Giuseppe Verdi | Regia: RAREȘ ZAHARIA – regizor | Asistent regie artistică: ARABELA TĂNASE | Scenografia: RĂSVAN DRĂGĂNESCU | Costume: RĂSVAN DRĂGĂNESCU | Lighting design: ROBERTO BUJOR \nDescriere companie \nOpera Română Craiova este o instituție lirică de prestigiu din sud-vestul României\, cu o istorie construită în timp și o identitate artistică puternică\, exprimată printr-un repertoriu divers și producții de înaltă calitate. Având rădăcini în bogata tradiție lirică a orașului Craiova și înființată ca instituție independentă în anul 1979\, Opera Română Craiova s-a dezvoltat constant\, devenind un important reper cultural regional. De-a lungul anilor\, instituția a parcurs mai multe etape de evoluție\, reflectate în schimbări ale denumirii sale\, culminând cu titlul actual\, care exprimă pe deplin misiunea sa artistică. \nOpera Română Craiova prezintă un repertoriu variat care include operă\, operetă\, balet și teatru muzical\, îmbinând lucrările clasice cu viziuni scenice moderne. Prin colaborări cu artiști renumiți din România și din străinătate\, instituția promovează excelența artistică și dialogul cultural. Prin spectacole\, festivaluri și proiecte educaționale\, Opera Română Craiova joacă un rol activ în îmbogățirea vieții culturale a orașului Craiova și în consolidarea poziției sale în peisajul cultural național.
URL:https://craiovalive.ro/eveniment/otello/
LOCATION:Cercul Militar Craiova\, Str. Marin Sorescu\, nr. 2\, Craiova\, Dolj\, 200642\, România
CATEGORIES:Opera
ATTACH;FMTTYPE=image/jpeg:https://craiovalive.ro/wp-content/uploads/2026/03/Otello.jpeg
GEO:44.308454;23.7956757
X-APPLE-STRUCTURED-LOCATION;VALUE=URI;X-ADDRESS=Cercul Militar Craiova Str. Marin Sorescu nr. 2 Craiova Dolj 200642 România;X-APPLE-RADIUS=500;X-TITLE=Str. Marin Sorescu\, nr. 2:geo:23.7956757,44.308454
END:VEVENT
END:VCALENDAR