BEGIN:VCALENDAR
VERSION:2.0
PRODID:-//Craiova Live - ECPv6.15.18//NONSGML v1.0//EN
CALSCALE:GREGORIAN
METHOD:PUBLISH
X-WR-CALNAME:Craiova Live
X-ORIGINAL-URL:https://craiovalive.ro
X-WR-CALDESC:Evenimente pentru Craiova Live
REFRESH-INTERVAL;VALUE=DURATION:PT1H
X-Robots-Tag:noindex
X-PUBLISHED-TTL:PT1H
BEGIN:VTIMEZONE
TZID:Europe/Bucharest
BEGIN:DAYLIGHT
TZOFFSETFROM:+0200
TZOFFSETTO:+0300
TZNAME:EEST
DTSTART:20240331T010000
END:DAYLIGHT
BEGIN:STANDARD
TZOFFSETFROM:+0300
TZOFFSETTO:+0200
TZNAME:EET
DTSTART:20241027T010000
END:STANDARD
BEGIN:DAYLIGHT
TZOFFSETFROM:+0200
TZOFFSETTO:+0300
TZNAME:EEST
DTSTART:20250330T010000
END:DAYLIGHT
BEGIN:STANDARD
TZOFFSETFROM:+0300
TZOFFSETTO:+0200
TZNAME:EET
DTSTART:20251026T010000
END:STANDARD
BEGIN:DAYLIGHT
TZOFFSETFROM:+0200
TZOFFSETTO:+0300
TZNAME:EEST
DTSTART:20260329T010000
END:DAYLIGHT
BEGIN:STANDARD
TZOFFSETFROM:+0300
TZOFFSETTO:+0200
TZNAME:EET
DTSTART:20261025T010000
END:STANDARD
END:VTIMEZONE
BEGIN:VEVENT
DTSTART;TZID=Europe/Bucharest:20251217T190000
DTEND;TZID=Europe/Bucharest:20251217T200000
DTSTAMP:20260425T032740
CREATED:20251208T094138Z
LAST-MODIFIED:20251208T094556Z
UID:10012613-1765998000-1766001600@craiovalive.ro
SUMMARY:Suor Angelica
DESCRIPTION:Operă într-un act de Giacomo PucciniLibretul de Giovacchino Forzano\n\nSpectacol al Operei Române Craiova pe scena Cercului MilitarMiercuri\, 17 decembrie 2025\, ora 19.00\n\nBiletele sunt disponibile online:https://iticket.ro/event/suor-angelicași la agenția Operei Române Craiova de la Sala Polivalentă\,Bulevardul Ilie Balaci nr. 6\, tel. 0351.442.471\,agentiadebilete@operacraiova.ro\n\nConducerea muzicală: Dumitru Cârciumaru\nDistribuția:Sora Angelica – Renata VariPrințesa\, mătușa ei – Licia ToscanoStareța – Nadia DomnicuMonitoarea (Sora Zelatrice) – Corina VladaStăpâna novicilor – Rodica DinișoarăSora Genovieffa – Ana Pavel (București)Sora Osmina – Ana RaduSora Dolcina – Silvia CecheSora medicală – Ada ApanSurori de pomană – Diana Oșca\, Mihaela LeonteUn novice – Andreea VasileSurori mirene – Andreea Vasile\, Raluca Predoi\nOrchestra și Corul Operei Române Craiova\nRegia artistică: Ina HudeaAsistenți regie artistică: Iulian Dumitraș\, Arabela TănaseScenografia: Anca Pintilie\, Vlad Bulgăr\nhttps://www.operacraiova.ro/
URL:https://craiovalive.ro/eveniment/suor-angelica/
LOCATION:Cercul Militar Craiova\, Str. Marin Sorescu\, nr. 2\, Craiova\, Dolj\, 200642\, România
CATEGORIES:Opera
ATTACH;FMTTYPE=image/jpeg:https://craiovalive.ro/wp-content/uploads/2023/05/Suor-Angelica-e1765187144154.jpg
ORGANIZER;CN="Opera Rom%C3%A2n%C4%83 Craiova":MAILTO:rezervari@operacraiova.ro
GEO:44.308454;23.7956757
X-APPLE-STRUCTURED-LOCATION;VALUE=URI;X-ADDRESS=Cercul Militar Craiova Str. Marin Sorescu nr. 2 Craiova Dolj 200642 România;X-APPLE-RADIUS=500;X-TITLE=Str. Marin Sorescu\, nr. 2:geo:23.7956757,44.308454
END:VEVENT
END:VCALENDAR