BEGIN:VCALENDAR
VERSION:2.0
PRODID:-//Craiova Live - ECPv6.15.18//NONSGML v1.0//EN
CALSCALE:GREGORIAN
METHOD:PUBLISH
X-ORIGINAL-URL:https://craiovalive.ro
X-WR-CALDESC:Evenimente pentru Craiova Live
REFRESH-INTERVAL;VALUE=DURATION:PT1H
X-Robots-Tag:noindex
X-PUBLISHED-TTL:PT1H
BEGIN:VTIMEZONE
TZID:Europe/Bucharest
BEGIN:DAYLIGHT
TZOFFSETFROM:+0200
TZOFFSETTO:+0300
TZNAME:EEST
DTSTART:20240331T010000
END:DAYLIGHT
BEGIN:STANDARD
TZOFFSETFROM:+0300
TZOFFSETTO:+0200
TZNAME:EET
DTSTART:20241027T010000
END:STANDARD
BEGIN:DAYLIGHT
TZOFFSETFROM:+0200
TZOFFSETTO:+0300
TZNAME:EEST
DTSTART:20250330T010000
END:DAYLIGHT
BEGIN:STANDARD
TZOFFSETFROM:+0300
TZOFFSETTO:+0200
TZNAME:EET
DTSTART:20251026T010000
END:STANDARD
BEGIN:DAYLIGHT
TZOFFSETFROM:+0200
TZOFFSETTO:+0300
TZNAME:EEST
DTSTART:20260329T010000
END:DAYLIGHT
BEGIN:STANDARD
TZOFFSETFROM:+0300
TZOFFSETTO:+0200
TZNAME:EET
DTSTART:20261025T010000
END:STANDARD
END:VTIMEZONE
BEGIN:VEVENT
DTSTART;TZID=Europe/Bucharest:20251101T180000
DTEND;TZID=Europe/Bucharest:20251101T193000
DTSTAMP:20260425T051850
CREATED:20250703T151249Z
LAST-MODIFIED:20250703T151249Z
UID:10007616-1762020000-1762025400@craiovalive.ro
SUMMARY:Frozen - Regatul Înghețat
DESCRIPTION:Musicalul “FROZEN\, REGATUL ÎNGHEȚAT” vine la TEATRUL NAȚIONAL “Marin Sorescu”  din Craiova pe 01 Noiembrie 2025  de la ora 18\,00 .\n\n\nTheater du Soleil Entertainment și echipa musicalului “Frozen Regatul Înghețat”\, vă invită să luați parte la un spectacol magic\, cu personaje îndrăgite și cunoscute\, atât de cei mici cât și de cei mari. \nDupă reprezentațiile de succes de până acum\, spectacolul vine la Craiova \, cu o adevărată surpriza. \nEste un show grandios o adaptare de Zully Mustafa\, un musical în limba română\, cu dansuri și momente de balet unice\, costume și decoruri de basm\, care îi vor purta pe cei mici și mari într-o lume de vis alături de cele mai îndrăgite personaje: Prințesa Anna\, Regina Elsa\, Hans\, Kristoff \, Olaf și multe altele. \nDe ce nu ar trebui să ratați așa ceva? Vă putem da o mie de motive pentru a fi alături de noi! Însă pentru a vă convinge că într-adevăr trebuie să faceți parte din noua noastră poveste\, vă spunem doar atât: va fi o lume de basm\, din care nu veți mai vrea să ieșiți. Va fi magie\, vor fi decoruri de basm\, proiecții 3D\, va fi cântec și dans. Va fi bucurie! Într-un cuvânt : copilărie! Voi când ați fost ultima oară copii? \nVă așteptăm alături profesioniști. \nÎn rolurile principale îi veți putea aplauda pe: Emil Mitrache (Americanul) / Petru Schindler – Nepotul Trol\, Ioana Dragomir / Alina Marina Mirica- Răspandac\, Vasile Filipescu – Regele Trol\, Iulia Miulescu – Elsa\, Diana Maria Colea – Anna\, Sergiu Antoniu Roban – Hans\, Dragoș Darius Sorin / Teodor Ștefan Colea – Cristoff\, Catalina Antal – Olaf\, Daniela Foiu / Sofia Sânziana Ivan – Sven / Scutier\, Alexandra Stroe/ Dariana Elena Jurjuț – Femeia cu Vreascur\, miscare scenica Momo Sanno \nDecorurile au fost o inovație folosindu-se tehnica de proiecție high- tech 3D virtual reality background\, combinată cu efecte de lumină și cu elemente de mobilier real\, o premieră pentru un spectacol de teatru românesc. \nVârstă recomandată: 3+ \nDurata spectacolului: 90 minute \nRegia: Elena Nicolau \nCompozitor: Nicolae Caragea (Rep. Moldova) \nScenariul: Zully Mustafa \nCoregrafia: Momo Sanno \nScenografia: Ovidiu Pascal \nCostume: Geanina Punkoști.
URL:https://craiovalive.ro/eveniment/frozen-regatul-inghetat/
LOCATION:Teatrul Național Craiova – Sala Amza Pellea\, Str. A. I. Cuza\, nr. 11\, Craiova\, Dolj\, 200585\, România
CATEGORIES:Opera
ATTACH;FMTTYPE=image/jpeg:https://craiovalive.ro/wp-content/uploads/2025/07/Frozen-Regatul-Inghetat.jpg
GEO:44.3186661;23.8003743
X-APPLE-STRUCTURED-LOCATION;VALUE=URI;X-ADDRESS=Teatrul Național Craiova – Sala Amza Pellea Str. A. I. Cuza nr. 11 Craiova Dolj 200585 România;X-APPLE-RADIUS=500;X-TITLE=Str. A. I. Cuza\, nr. 11:geo:23.8003743,44.3186661
END:VEVENT
BEGIN:VEVENT
DTSTART;TZID=Europe/Bucharest:20251108T190000
DTEND;TZID=Europe/Bucharest:20251108T203000
DTSTAMP:20260425T051850
CREATED:20251104T184352Z
LAST-MODIFIED:20251104T184352Z
UID:10012346-1762628400-1762633800@craiovalive.ro
SUMMARY:Gianni Schicchi
DESCRIPTION:Data: 8 noiembrie 2025 \nOra: 19.00 \nLocația: Cercul Militar \nSpectacolul Operei Române Craiova Gianni Schicchi este o bijuterie amuzantă care aduce pe scenă o satiră plină de vervă despre lăcomie și ingeniozitate și o perspectivă comică asupra spiritului uman. Puccini îmbină umorul rafinat cu o muzică bogată în culoare și ritm\, pentru a contura un tablou savuros al unei lumi în care inteligența și ironia triumfă asupra ipocriziei. La mai bine de un veac de la premiera mondială\, opera continuă să fascineze prin echilibrul perfect dintre comedie și emoție autentică. \nOra si locul evenimentului \nVă așteptăm 8 noiembrie\, începând cu ora 19:00 la Cercul Militar Craiova \nPreț: 100 RON
URL:https://craiovalive.ro/eveniment/gianni-schicchi/
LOCATION:Cercul Militar Craiova\, Str. Marin Sorescu\, nr. 2\, Craiova\, Dolj\, 200642\, România
CATEGORIES:Opera
ATTACH;FMTTYPE=image/webp:https://craiovalive.ro/wp-content/uploads/2025/11/Gianni-Schicchi.webp
ORGANIZER;CN="Opera Rom%C3%A2n%C4%83 Craiova":MAILTO:rezervari@operacraiova.ro
GEO:44.308454;23.7956757
X-APPLE-STRUCTURED-LOCATION;VALUE=URI;X-ADDRESS=Cercul Militar Craiova Str. Marin Sorescu nr. 2 Craiova Dolj 200642 România;X-APPLE-RADIUS=500;X-TITLE=Str. Marin Sorescu\, nr. 2:geo:23.7956757,44.308454
END:VEVENT
BEGIN:VEVENT
DTSTART;TZID=Europe/Bucharest:20251129T200000
DTEND;TZID=Europe/Bucharest:20251129T213000
DTSTAMP:20260425T051850
CREATED:20251124T092022Z
LAST-MODIFIED:20251124T092022Z
UID:10012562-1764446400-1764451800@craiovalive.ro
SUMMARY:Unirea cea Mare
DESCRIPTION:Spectacol al Operei Române Craiova pe scena Cercului MilitarSâmbătă\, 29 noiembrie 2025\, ora 20.00\n\nCantată scenică de Eugen Doga pe versuri de Nicolae Dabija și Ion DeaconescuSpectacol dedicat memoriei compozitorului Eugen Doga (1937 – 2025)\n\nBiletele sunt disponibile online:https://iticket.ro/event/unirea-cea-mareși la agenția Operei Române Craiova de la Sala Polivalentă\,Bulevardul Ilie Balaci nr. 6\, tel. 0351.442.471\,agentiadebilete@operacraiova.ro\n\nConducerea muzicală: Dumitru Cârciumaru\n\nDistribuția:Moldova și Bucovina – Mariana BulicanuÎntreaga Românie – Petrișor EfremTransilvania – Cristian FofucăȚara Românească – Ioan TomaMihai Viteazul – Ioan CherataPan Halippa – Dan CornescuDoru Popovici – Cosmin VasilescuGheorghe Pop de Băsești – Romulus Nicolae CucuVasile Goldiș – Adrian George PopescuIuliu Maniu – Robert VladuMiron Cristea – Gabriel MarciuIuliu Hossu – Laurențiu Nicu\nOrchestra\, Corul și Baletul Operei Române Craiova\n\nRegie artistică: Antoniu ZamfirAsistent regie artistică: Arabela TănaseScenografie: Răsvan DrăgănescuCoregrafie: Erna Marin\nhttps://www.operacraiova.ro/
URL:https://craiovalive.ro/eveniment/unirea-cea-mare/
LOCATION:Cercul Militar Craiova\, Str. Marin Sorescu\, nr. 2\, Craiova\, Dolj\, 200642\, România
CATEGORIES:Opera
ATTACH;FMTTYPE=image/webp:https://craiovalive.ro/wp-content/uploads/2025/11/Unirea-cea-Mare.webp
ORGANIZER;CN="Opera Rom%C3%A2n%C4%83 Craiova":MAILTO:rezervari@operacraiova.ro
GEO:44.308454;23.7956757
X-APPLE-STRUCTURED-LOCATION;VALUE=URI;X-ADDRESS=Cercul Militar Craiova Str. Marin Sorescu nr. 2 Craiova Dolj 200642 România;X-APPLE-RADIUS=500;X-TITLE=Str. Marin Sorescu\, nr. 2:geo:23.7956757,44.308454
END:VEVENT
END:VCALENDAR