BEGIN:VCALENDAR
VERSION:2.0
PRODID:-//Craiova Live - ECPv6.15.18//NONSGML v1.0//EN
CALSCALE:GREGORIAN
METHOD:PUBLISH
X-ORIGINAL-URL:https://craiovalive.ro
X-WR-CALDESC:Evenimente pentru Craiova Live
REFRESH-INTERVAL;VALUE=DURATION:PT1H
X-Robots-Tag:noindex
X-PUBLISHED-TTL:PT1H
BEGIN:VTIMEZONE
TZID:Europe/Bucharest
BEGIN:DAYLIGHT
TZOFFSETFROM:+0200
TZOFFSETTO:+0300
TZNAME:EEST
DTSTART:20250330T010000
END:DAYLIGHT
BEGIN:STANDARD
TZOFFSETFROM:+0300
TZOFFSETTO:+0200
TZNAME:EET
DTSTART:20251026T010000
END:STANDARD
BEGIN:DAYLIGHT
TZOFFSETFROM:+0200
TZOFFSETTO:+0300
TZNAME:EEST
DTSTART:20260329T010000
END:DAYLIGHT
BEGIN:STANDARD
TZOFFSETFROM:+0300
TZOFFSETTO:+0200
TZNAME:EET
DTSTART:20261025T010000
END:STANDARD
BEGIN:DAYLIGHT
TZOFFSETFROM:+0200
TZOFFSETTO:+0300
TZNAME:EEST
DTSTART:20270328T010000
END:DAYLIGHT
BEGIN:STANDARD
TZOFFSETFROM:+0300
TZOFFSETTO:+0200
TZNAME:EET
DTSTART:20271031T010000
END:STANDARD
END:VTIMEZONE
BEGIN:VEVENT
DTSTART;TZID=Europe/Bucharest:20260430T190000
DTEND;TZID=Europe/Bucharest:20260430T203000
DTSTAMP:20260423T194855
CREATED:20260317T193137Z
LAST-MODIFIED:20260317T193137Z
UID:10014366-1777575600-1777581000@craiovalive.ro
SUMMARY:Lumina Lina - Grupul Tronos și Ana Nuță
DESCRIPTION:LUMINA LINA\n– GRUPUL TRONOS SI ANA NUTA –\n30 Aprilie 2026 ora 19:00\nTeatrul National „Marin Sorescu’ Craiova\nO seară de o profundă încărcătură spirituală te așteaptă alături de Grupul Psaltic Tronos al Catedralei Patriarhale\, în concertul „Lumină Lină” – un eveniment ce aduce în prim-plan frumusețea autentică a muzicii psaltice.Dirijorul grupului\, Arhid. Mihail Bucă\, este una dintre cele mai reprezentative voci ale muzicii bizantine din România\, apreciat pentru rigoarea artistică\, sensibilitatea interpretării și dăruirea cu care transmite fiecare cântare. Prin viziunea sa\, repertoriul psaltic capătă profunzime și forță\, iar fiecare apariție devine o experiență intensă și memorabilă. Sub îndrumarea sa\, Grupul Tronos a susținut numeroase concerte de succes\, fiind recunoscut pentru profesionalism și autenticitate.\nCunoscut pentru armoniile impresionante și pentru forța emoțională a interpretărilor\, Grupul Tronos reușește de fiecare dată să creeze o atmosferă solemnă\, plină de lumină și liniște interioară. Fiecare cântare devine o rugăciune rostită prin sunet\, o chemare la introspecție și la regăsirea păcii sufletești.\nInvitată specială este Ana Nuță\, a cărei sensibilitate artistică și expresivitate completează în mod armonios această experiență muzicală unică.\n„Lumină Lină” nu este doar un concert\, ci o trăire – o întâlnire între artă și credință\, între glas și suflet\, menită să rămână în inimile celor prezenți mult timp după ce ultimele acorduri se sting.
URL:https://craiovalive.ro/eveniment/lumina-lina-grupul-tronos-si-ana-nuta/
LOCATION:Teatrul Național Craiova – Sala Amza Pellea\, Str. A. I. Cuza\, nr. 11\, Craiova\, Dolj\, 200585\, România
CATEGORIES:Muzică
ATTACH;FMTTYPE=image/jpeg:https://craiovalive.ro/wp-content/uploads/2026/03/Lumina-Lina-Grupul-Tronos-si-Ana-Nuta.jpg
GEO:44.3186661;23.8003743
X-APPLE-STRUCTURED-LOCATION;VALUE=URI;X-ADDRESS=Teatrul Național Craiova – Sala Amza Pellea Str. A. I. Cuza nr. 11 Craiova Dolj 200585 România;X-APPLE-RADIUS=500;X-TITLE=Str. A. I. Cuza\, nr. 11:geo:23.8003743,44.3186661
END:VEVENT
BEGIN:VEVENT
DTSTART;TZID=Europe/Bucharest:20260430T190000
DTEND;TZID=Europe/Bucharest:20260430T203000
DTSTAMP:20260423T194855
CREATED:20260420T114507Z
LAST-MODIFIED:20260420T114507Z
UID:10014578-1777575600-1777581000@craiovalive.ro
SUMMARY:Concert Brahms – dirijor: Cristian Mandeal
DESCRIPTION:JOI\, 30 APRILIE 2026\, ORA 19:00 BRAHMSORCHESTRA SIMFONICĂ A FILARMONICII „OLTENIA” DIRIJOR: CRISTIAN MANDEAL SOLISTĂ: OXANA CORJOS (pian)————În program:Johannes Brahms:– Concertul nr. 1 în Re minor pentru pian și orchestră\, op. 15– Simfonia nr. 1 în Do minor\, op. 68————Inclus în abonament.
URL:https://craiovalive.ro/eveniment/concert-brahms-dirijor-cristian-mandeal/
LOCATION:Filarmonica Oltenia\, Calea Unirii\, nr. 16\, Craiova\, Dolj\, 200585\, România
CATEGORIES:Muzică
ATTACH;FMTTYPE=image/jpeg:https://craiovalive.ro/wp-content/uploads/2026/04/Concert-Brahms-–-dirijor-Cristian-Mandeal.jpg
ORGANIZER;CN="Filarmonica Oltenia Craiova":MAILTO:secretariat@filarmonica-oltenia.ro
GEO:44.3172308;23.7944364
X-APPLE-STRUCTURED-LOCATION;VALUE=URI;X-ADDRESS=Filarmonica Oltenia Calea Unirii nr. 16 Craiova Dolj 200585 România;X-APPLE-RADIUS=500;X-TITLE=Calea Unirii\, nr. 16:geo:23.7944364,44.3172308
END:VEVENT
END:VCALENDAR