BEGIN:VCALENDAR
VERSION:2.0
PRODID:-//Craiova Live - ECPv6.15.18//NONSGML v1.0//EN
CALSCALE:GREGORIAN
METHOD:PUBLISH
X-WR-CALNAME:Craiova Live
X-ORIGINAL-URL:https://craiovalive.ro
X-WR-CALDESC:Evenimente pentru Craiova Live
REFRESH-INTERVAL;VALUE=DURATION:PT1H
X-Robots-Tag:noindex
X-PUBLISHED-TTL:PT1H
BEGIN:VTIMEZONE
TZID:Europe/Bucharest
BEGIN:DAYLIGHT
TZOFFSETFROM:+0200
TZOFFSETTO:+0300
TZNAME:EEST
DTSTART:20250330T010000
END:DAYLIGHT
BEGIN:STANDARD
TZOFFSETFROM:+0300
TZOFFSETTO:+0200
TZNAME:EET
DTSTART:20251026T010000
END:STANDARD
BEGIN:DAYLIGHT
TZOFFSETFROM:+0200
TZOFFSETTO:+0300
TZNAME:EEST
DTSTART:20260329T010000
END:DAYLIGHT
BEGIN:STANDARD
TZOFFSETFROM:+0300
TZOFFSETTO:+0200
TZNAME:EET
DTSTART:20261025T010000
END:STANDARD
BEGIN:DAYLIGHT
TZOFFSETFROM:+0200
TZOFFSETTO:+0300
TZNAME:EEST
DTSTART:20270328T010000
END:DAYLIGHT
BEGIN:STANDARD
TZOFFSETFROM:+0300
TZOFFSETTO:+0200
TZNAME:EET
DTSTART:20271031T010000
END:STANDARD
END:VTIMEZONE
BEGIN:VEVENT
DTSTART;TZID=Europe/Bucharest:20260504T190000
DTEND;TZID=Europe/Bucharest:20260504T210000
DTSTAMP:20260424T002458
CREATED:20260316T123655Z
LAST-MODIFIED:20260316T133938Z
UID:10014199-1777921200-1777928400@craiovalive.ro
SUMMARY:Primăvara - Concert Tudor Gheorghe
DESCRIPTION:Primăvara – Concert Tudor Gheorghe\nLegenda continuă cu o nouă primăvară de excepție\, un concert luminos\, exuberant\, primăvăratec\, cu forța celebrilor salcâmi!\nAcest nou concert este desfășurat alături de Corul și Orchestra Concertino și Dirijorul Marius Hristescu.\n\n\nCorul și Orchestra ConcertinoOrchestrator și Dirijor: Marius Hristescu
URL:https://craiovalive.ro/eveniment/primavara-concert-tudor-gheorghe/2026-05-04/
LOCATION:Teatrul Național Craiova – Sala Amza Pellea\, Str. A. I. Cuza\, nr. 11\, Craiova\, Dolj\, 200585\, România
CATEGORIES:Muzică
ATTACH;FMTTYPE=image/webp:https://craiovalive.ro/wp-content/uploads/2026/03/Concert-Tudor-Gheorghe-Primavara.webp
GEO:44.3186661;23.8003743
X-APPLE-STRUCTURED-LOCATION;VALUE=URI;X-ADDRESS=Teatrul Național Craiova – Sala Amza Pellea Str. A. I. Cuza nr. 11 Craiova Dolj 200585 România;X-APPLE-RADIUS=500;X-TITLE=Str. A. I. Cuza\, nr. 11:geo:23.8003743,44.3186661
END:VEVENT
BEGIN:VEVENT
DTSTART;VALUE=DATE:20260508
DTEND;VALUE=DATE:20260510
DTSTAMP:20260424T002458
CREATED:20241205T173831Z
LAST-MODIFIED:20260419T205742Z
UID:10002864-1778198400-1778371199@craiovalive.ro
SUMMARY:Vast Plains and Goats Fest 5 Craiova 2026
DESCRIPTION:Vast Plains and Goats V revine la Craiova. \nLine-up complet: \nVineri:\nCraven Idol – UK\nDET – Finlanda\nscythe/”>Deathly Scythe – Chille/ Germany\nScythe – Ro\nDiavol – Ro \nSambata:\nAgent Steel – US\nBombarder – Serbia\nNecromorbid – Italia\nXenos – Italia\nDecease – Ro\nWrathhammer – Ro
URL:https://craiovalive.ro/eveniment/vast-plains-and-goats-fest-5-craiova-2026/
LOCATION:Casa de Cultură a Studenților Craiova\, Str. Eugeniu Carada\, nr. 10\, Craiova\, Dolj\, 200390\, România
CATEGORIES:Muzică
ATTACH;FMTTYPE=image/webp:https://craiovalive.ro/wp-content/uploads/2024/12/Vast-Plains-and-Goats-Fest-5-Craiova-2026-1.webp
GEO:44.3158109;23.8003284
X-APPLE-STRUCTURED-LOCATION;VALUE=URI;X-ADDRESS=Casa de Cultură a Studenților Craiova Str. Eugeniu Carada nr. 10 Craiova Dolj 200390 România;X-APPLE-RADIUS=500;X-TITLE=Str. Eugeniu Carada\, nr. 10:geo:23.8003284,44.3158109
END:VEVENT
BEGIN:VEVENT
DTSTART;TZID=Europe/Bucharest:20260509T190000
DTEND;TZID=Europe/Bucharest:20260509T203000
DTSTAMP:20260424T002458
CREATED:20260217T174041Z
LAST-MODIFIED:20260217T174041Z
UID:10014016-1778353200-1778358600@craiovalive.ro
SUMMARY:Alma de Tango - Marthin Marcos
DESCRIPTION:Alma de Tango – cu Marthin Marcos \nTango-ul nu este doar muzică. Este respirație\, destin\, dor și pasiune. Născut în cartierele portuare ale Buenos Aires-ului\, tango-ul poartă în el spiritul porteño – acel amestec unic de melancolie\, forță interioară\, eleganță și dor nestins care definește sufletul orașului. \n„Alma de Tango” este o incursiune autentică în universul tango-ului argentinian\, acolo unde fiecare vers spune o poveste\, iar fiecare acord de bandoneón atinge adânc sufletul. Atmosfera Buenos Aires-ului prinde viață prin muzică\, ritm și emoție pură. \nMarthin Marcos aduce pe scenă esența stilului porteño\, interpretând cu intensitate și rafinament tangouri clasice și contemporane. Vocea sa profundă și expresivă redă dramatismul\, nostalgia și pasiunea care definesc acest gen muzical. Fiecare interpretare devine o confesiune\, fiecare cântec – o poveste trăită. \n„Alma de Tango” nu este doar un concert\, ci o experiență autentică\, o întâlnire cu spiritul Buenos Aires-ului și cu sufletul tango-ului adevărat. Un spectacol dedicat celor care simt muzica dincolo de sunet – în inimă.
URL:https://craiovalive.ro/eveniment/alma-de-tango-marthin-marcos/
LOCATION:Filarmonica Oltenia\, Calea Unirii\, nr. 16\, Craiova\, Dolj\, 200585\, România
CATEGORIES:Muzică
ATTACH;FMTTYPE=image/webp:https://craiovalive.ro/wp-content/uploads/2026/02/Alma-de-Tango-Marthin-Marcos.webp
GEO:44.3172308;23.7944364
X-APPLE-STRUCTURED-LOCATION;VALUE=URI;X-ADDRESS=Filarmonica Oltenia Calea Unirii nr. 16 Craiova Dolj 200585 România;X-APPLE-RADIUS=500;X-TITLE=Calea Unirii\, nr. 16:geo:23.7944364,44.3172308
END:VEVENT
BEGIN:VEVENT
DTSTART;TZID=Europe/Bucharest:20260510T183000
DTEND;TZID=Europe/Bucharest:20260510T210000
DTSTAMP:20260424T002458
CREATED:20260319T175823Z
LAST-MODIFIED:20260413T131208Z
UID:10014376-1778437800-1778446800@craiovalive.ro
SUMMARY:Mara Halunga și Cauê De Marinis - Live în grădina Biergarten
DESCRIPTION:Pe 10 mai vă facem cinste cu ceva frumos: Mara Halunga live\, pe terasa Biergarten.Ea\, româncă\, el\, brazilian\, Mara Halunga și Cauê De Marinis formează\, din 2018\, un proiect muzical unic în România\, ce explorează cu dragoste și fidelitate samba tradițională\, bossa nova și alte ritmuri sud-americane\, inclusiv prin compoziții proprii\, pe care le puteți găsi și pe albumul recent lansat intitulat „Vento Leste” (în traducere\, „vânt estic”).Concertul va fi în curte\, cu acces liber\, însă locurile la mese\, limitate cum sunt\, se pot ocupa numai prin rezervare prealabilă (pe fb mess sau insta dm Biergarten\, nu căutați numere de telefon).
URL:https://craiovalive.ro/eveniment/mara-halunga-si-caue-de-marinis-live-in-gradina-biergarten/
LOCATION:Biergarten\, Str. Fraţii Buzeşti nr. 18\, Craiova\, Dolj\, 200381\, România
CATEGORIES:Muzică
ATTACH;FMTTYPE=image/jpeg:https://craiovalive.ro/wp-content/uploads/2026/03/Mara-Halunga-si-Caue-De-Marinis-Live-in-gradina-Biergarten-2-scaled.jpg
GEO:44.314387198457;23.799027336713
X-APPLE-STRUCTURED-LOCATION;VALUE=URI;X-ADDRESS=Biergarten Str. Fraţii Buzeşti nr. 18 Craiova Dolj 200381 România;X-APPLE-RADIUS=500;X-TITLE=Str. Fraţii Buzeşti nr. 18:geo:23.799027336713,44.314387198457
END:VEVENT
BEGIN:VEVENT
DTSTART;TZID=Europe/Bucharest:20260510T190000
DTEND;TZID=Europe/Bucharest:20260510T210000
DTSTAMP:20260424T002458
CREATED:20260316T123655Z
LAST-MODIFIED:20260316T133938Z
UID:10014200-1778439600-1778446800@craiovalive.ro
SUMMARY:Primăvara - Concert Tudor Gheorghe
DESCRIPTION:Primăvara – Concert Tudor Gheorghe\nLegenda continuă cu o nouă primăvară de excepție\, un concert luminos\, exuberant\, primăvăratec\, cu forța celebrilor salcâmi!\nAcest nou concert este desfășurat alături de Corul și Orchestra Concertino și Dirijorul Marius Hristescu.\n\n\nCorul și Orchestra ConcertinoOrchestrator și Dirijor: Marius Hristescu
URL:https://craiovalive.ro/eveniment/primavara-concert-tudor-gheorghe/2026-05-10/
LOCATION:Teatrul Național Craiova – Sala Amza Pellea\, Str. A. I. Cuza\, nr. 11\, Craiova\, Dolj\, 200585\, România
CATEGORIES:Muzică
ATTACH;FMTTYPE=image/webp:https://craiovalive.ro/wp-content/uploads/2026/03/Concert-Tudor-Gheorghe-Primavara.webp
GEO:44.3186661;23.8003743
X-APPLE-STRUCTURED-LOCATION;VALUE=URI;X-ADDRESS=Teatrul Național Craiova – Sala Amza Pellea Str. A. I. Cuza nr. 11 Craiova Dolj 200585 România;X-APPLE-RADIUS=500;X-TITLE=Str. A. I. Cuza\, nr. 11:geo:23.8003743,44.3186661
END:VEVENT
END:VCALENDAR