BEGIN:VCALENDAR
VERSION:2.0
PRODID:-//Craiova Live - ECPv6.15.18//NONSGML v1.0//EN
CALSCALE:GREGORIAN
METHOD:PUBLISH
X-WR-CALNAME:Craiova Live
X-ORIGINAL-URL:https://craiovalive.ro
X-WR-CALDESC:Evenimente pentru Craiova Live
REFRESH-INTERVAL;VALUE=DURATION:PT1H
X-Robots-Tag:noindex
X-PUBLISHED-TTL:PT1H
BEGIN:VTIMEZONE
TZID:Europe/Bucharest
BEGIN:DAYLIGHT
TZOFFSETFROM:+0200
TZOFFSETTO:+0300
TZNAME:EEST
DTSTART:20250330T010000
END:DAYLIGHT
BEGIN:STANDARD
TZOFFSETFROM:+0300
TZOFFSETTO:+0200
TZNAME:EET
DTSTART:20251026T010000
END:STANDARD
BEGIN:DAYLIGHT
TZOFFSETFROM:+0200
TZOFFSETTO:+0300
TZNAME:EEST
DTSTART:20260329T010000
END:DAYLIGHT
BEGIN:STANDARD
TZOFFSETFROM:+0300
TZOFFSETTO:+0200
TZNAME:EET
DTSTART:20261025T010000
END:STANDARD
BEGIN:DAYLIGHT
TZOFFSETFROM:+0200
TZOFFSETTO:+0300
TZNAME:EEST
DTSTART:20270328T010000
END:DAYLIGHT
BEGIN:STANDARD
TZOFFSETFROM:+0300
TZOFFSETTO:+0200
TZNAME:EET
DTSTART:20271031T010000
END:STANDARD
END:VTIMEZONE
BEGIN:VEVENT
DTSTART;VALUE=DATE:20260420
DTEND;VALUE=DATE:20260425
DTSTAMP:20260423T212145
CREATED:20260418T162152Z
LAST-MODIFIED:20260419T201753Z
UID:10014546-1776643200-1777075199@craiovalive.ro
SUMMARY:Săptămâna Poloneză la Universitatea din Craiova
DESCRIPTION:𝐔𝐧𝐢𝐯𝐞𝐫𝐬𝐢𝐭𝐚𝐭𝐞𝐚 𝐝𝐢𝐧 𝐂𝐫𝐚𝐢𝐨𝐯𝐚 𝐝𝐞𝐯𝐢𝐧𝐞\, 𝐩𝐞𝐧𝐭𝐫𝐮 𝐨 𝐬ă𝐩𝐭ă𝐦𝐚̂𝐧ă\, 𝐩𝐮𝐧𝐜𝐭𝐮𝐥 𝐝𝐞 𝐢̂𝐧𝐭𝐚̂𝐥𝐧𝐢𝐫𝐞 𝐚𝐥 𝐜𝐮𝐥𝐭𝐮𝐫𝐢𝐢 𝐩𝐨𝐥𝐨𝐧𝐞𝐳𝐞\nVă așteptăm la 𝐒ă𝐩𝐭ă𝐦â𝐧𝐚 𝐏𝐨𝐥𝐨𝐧𝐞𝐳ă\, î𝐧𝐭𝐫𝐞 𝟐𝟎-𝟐𝟒 𝐚𝐩𝐫𝐢𝐥𝐢𝐞\, la o serie de evenimente dedicate culturii\, literaturii și cinematografiei poloneze.\n Lecturi și discuții despre laureați ai Premiului Nobel Muzică poloneză – de la Chopin la hip-hop Proiecții de film Expoziții și ateliere de traducere Prelegeri despre romantism\, identitate și istorie\nFie că ești pasionat de cultură\, curios să descoperi lucruri noi sau pur și simplu vrei să petreci timpul altfel\, programul are câte ceva pentru fiecare.\nSalvează data și vino să descoperi 𝐏𝐨𝐥𝐨𝐧𝐢𝐚 mai aproape decât crezi! \nProgram Săptămâna Poloneză la Universitatea din Craiova:\n\nLUNI\, 20 APRILIE \n18:00 – Centrul de Limbă și Cultură Poloneză\, Biblioteca Universității din Craiova\, Lăpuș \nPOLONIA PRIN OCHII NOBELIȘTILOR\nPrelegere istorico-literară care prezintă identitatea culturală poloneză prin opera unor laureați ai Premiului Nobel: Henryk Sienkiewicz\, Władysław Reymont\, Czesław Miłosz\, Wisława Szymborska și Olga Tokarczuk.\nAtelier interactiv:\nLectura unui text de Czesław Miłosz care prezintă elemente ale modului de înțelegere a identității poloneze\, urmată de discuții și încercări de traducere în limba română realizate de participanți. \nMARȚI\, 21 APRILIE \n12:00 – Universitatea din Craiova\, Holul Central \nVERNISAJUL EXPOZIȚIEI „FRYDERYK CHOPIN 1810 – 1849”\nExpoziția despre viața și creația geniului maestru al pianului \n17:30 – Muzeul de Artă Craiova \nSUNETELE POLONIEI: DE LA CHOPIN LA HIP-HOP\nPrelegere despre cultura poloneză prin prisma muzicii clasice și contemporane.\nVor fi prezentate:\n• curentul folcloric\n• „întoarcerea spre tradiția populară”\n• muzica alternativă și hip-hop-ul polonez \n19:00 – Muzeul de Artă din Craiova \nO SEARĂ CU MUZICA POLONEZĂ\nRecital susținut de pianista prof. univ. dr. habil. Barbara Karaśkiewicz\n(cu intervenții ale prof. univ. dr. habil. Adam Regiewicz\, Universitatea „Jan Długosz” din Częstochowa) \nMIERCURI\, 22 APRILIE \n18:00 – Centrul de Limbă și Cultură Poloneză\, Biblioteca Universității din Craiova\, Lăpuș \nROMANTISMUL POLONEZ\nPrelegere despre paradigma romantică ce definește identitatea poloneză\, cu accent pe modul în care romantismul a modelat raportarea polonezilor la război și la istorie.\nAtelier de traducere\nTraduceri ale unor texte literare din limba polonă în limba română. \nJOI\, 23 APRILIE \n17:30 – Universitatea din Craiova\, str. A. I. Cuza\, nr. 13\, sala 444 \nPOLONIA PE MARELE ECRAN\nPrelegere despre cinematografia poloneză susținută de prof.univ.dr.habil Adam Regiewicz de la Universitatea „Jan Długosz” din Częstochowa (în limba engleză) \n19:00 – Universitatea din Craiova\, str. A. I. Cuza\, nr. 13\, sala 444 \nSEARĂ DE FILM POLONEZ\nProiecția filmului „Războiul Rece”\, regia Paweł Pawlikowski\nCâștigător al Premiului pentru regie la Festivalul de la Cannes. \nVINERI\, 24 APRILIE \n10:00 – Centrul de Limbă și Cultură Poloneză\, Biblioteca Universității din Craiova\, Lăpuș \nPOLONIA ÎN EXIL\nPrelegere despre experiența emigrării polonezilor – de la perioada împărțirilor Poloniei până la Al Doilea Război Mondial\, cu accent pe relațiile polono-române din perioada interbelică și prezența guvernului polonez în exil pe teritoriul României.\nAtelier de traducere – continuare \n\nParteneri:\nNAWA Narodowa Agencja Wymiany AkademickiejUniwersytet Jana Długosza w CzęstochowieMuzeul de Artă CraiovaFilarmonica Oltenia CraiovaInstitutul Polonez / Instytut Polski w Bukareszcie
URL:https://craiovalive.ro/eveniment/saptamana-poloneza-la-universitatea-din-craiova/
LOCATION:Locații multiple\, Craiova\, Dolj\, România
CATEGORIES:Conferință,Expoziție,Film,Muzică
ATTACH;FMTTYPE=image/jpeg:https://craiovalive.ro/wp-content/uploads/2026/04/Saptamana-Poloneza-la-Universitatea-din-Craiova.jpg
ORGANIZER;CN="Centrul de Limb%C4%83 %C8%99i Cultur%C4%83 Polonez%C4%83 Craiova":MAILTO:clcp.craiova@gmail.com
GEO:44.3301785;23.7948808
END:VEVENT
BEGIN:VEVENT
DTSTART;TZID=Europe/Bucharest:20260421T190000
DTEND;TZID=Europe/Bucharest:20260421T203000
DTSTAMP:20260423T212145
CREATED:20260419T201641Z
LAST-MODIFIED:20260419T201641Z
UID:10014551-1776798000-1776803400@craiovalive.ro
SUMMARY:Recital de muzică poloneză - Barbara Karaśkiewicz
DESCRIPTION: 𝗥𝗲𝗰𝗶𝘁𝗮𝗹 𝗱𝗲 𝗺𝘂𝘇𝗶𝗰ă 𝗽𝗼𝗹𝗼𝗻𝗲𝘇ă\,  parte din Săptămâna Poloneză \nVă invităm pe 𝟮𝟭 𝗮𝗽𝗿𝗶𝗹𝗶𝗲 𝟮𝟬𝟮𝟲\, 𝗹𝗮 𝗠𝘂𝘇𝗲𝘂𝗹 𝗱𝗲 𝗔𝗿𝘁ă 𝗱𝗶𝗻 𝗖𝗿𝗮𝗶𝗼𝘃𝗮\, la un recital de excepție susținut de renumita pianistă poloneză 𝗕𝗮𝗿𝗯𝗮𝗿𝗮 𝗞𝗮𝗿𝗮ś𝗸𝗶𝗲𝘄𝗶𝗰𝘇.\nArtistă apreciată pe plan internațional\, Barbara Karaśkiewicz se remarcă prin sensibilitatea interpretării și rafinamentul expresiv\, fiind o prezență constantă pe scenele muzicale europene.\nUn program rafinat\, cu lucrări semnate de Chopin\, Szymanowski\, Paderewski și alți compozitori de renume\, ce promite o seară plină de emoție și eleganță muzicală.\n Locație: Muzeul de Artă\, Craiova Data: 21 aprilie 2026 Ora 19:00\nNu ratați o întâlnire deosebită cu muzica poloneză! 
URL:https://craiovalive.ro/eveniment/recital-de-muzica-poloneza-barbara-karaskiewicz/
LOCATION:Muzeul de Artă Craiova\, Calea Unirii\, nr. 15\, Craiova\, Dolj\, România
CATEGORIES:Muzică
ATTACH;FMTTYPE=image/jpeg:https://craiovalive.ro/wp-content/uploads/2026/04/Recital-de-muzica-poloneza-Barbara-Karaskiewicz.jpg
ORGANIZER;CN="Centrul de Limb%C4%83 %C8%99i Cultur%C4%83 Polonez%C4%83 Craiova":MAILTO:clcp.craiova@gmail.com
GEO:44.3191666;23.7952566
X-APPLE-STRUCTURED-LOCATION;VALUE=URI;X-ADDRESS=Muzeul de Artă Craiova Calea Unirii nr. 15 Craiova Dolj România;X-APPLE-RADIUS=500;X-TITLE=Calea Unirii\, nr. 15:geo:23.7952566,44.3191666
END:VEVENT
BEGIN:VEVENT
DTSTART;TZID=Europe/Bucharest:20260422T190000
DTEND;TZID=Europe/Bucharest:20260422T203000
DTSTAMP:20260423T212145
CREATED:20260419T202027Z
LAST-MODIFIED:20260419T202027Z
UID:10014552-1776884400-1776889800@craiovalive.ro
SUMMARY:Concert cameral Arpeggione
DESCRIPTION:MIERCURI\, 22 APRILIE 2026\, ORA 19:00/ Muzeul de Artă Craiova Concert cameral ARPEGGIONEBOGDAN COSTACHE (vioară\, violă) LILIANA IACOBESCU (pian)———-În program:– Wolfgang Amadeus Mozart: Sonata în Sol major pentru vioară și pian; Sonata în Mi minor pentru vioară și pian– Franz Schubert: Sonata „Arpeggione” în La minor pentru violă și pian– Johannes Brahms: Trei Dansuri ungare pentru vioară și pian – nr. 8 în La minor\, nr. 6 în Sol major\, nr. 1 în Sol minor– Camille Saint-Saëns: Introducere și Rondo capriccioso în La minor pentru vioară și pian\, op. 28———Nu este inclus în abonament.
URL:https://craiovalive.ro/eveniment/concert-cameral-arpeggione/
LOCATION:Muzeul de Artă Craiova\, Calea Unirii\, nr. 15\, Craiova\, Dolj\, România
CATEGORIES:Muzică
ATTACH;FMTTYPE=image/jpeg:https://craiovalive.ro/wp-content/uploads/2026/04/Concert-cameral-Arpeggione.jpg
ORGANIZER;CN="Filarmonica Oltenia Craiova":MAILTO:secretariat@filarmonica-oltenia.ro
GEO:44.3191666;23.7952566
X-APPLE-STRUCTURED-LOCATION;VALUE=URI;X-ADDRESS=Muzeul de Artă Craiova Calea Unirii nr. 15 Craiova Dolj România;X-APPLE-RADIUS=500;X-TITLE=Calea Unirii\, nr. 15:geo:23.7952566,44.3191666
END:VEVENT
BEGIN:VEVENT
DTSTART;TZID=Europe/Bucharest:20260424T190000
DTEND;TZID=Europe/Bucharest:20260424T203000
DTSTAMP:20260423T212145
CREATED:20260413T125655Z
LAST-MODIFIED:20260413T125655Z
UID:10014531-1777057200-1777062600@craiovalive.ro
SUMMARY:Imperialul / Pieta - dirijor Jin Wang
DESCRIPTION:INERI\, 24 APRILIE 2026\, ORA 19:00 IMPERIALUL – BEETHOVENORCHESTRA SIMFONICĂ ȘI CORALA ACADEMICĂ ALE FILARMONICII „OLTENIA”\nDIRIJOR: JIN WANG (AUSTRIA)Maestru de cor: Mihail Ștefănescu\nSOLIȘTI: ANDREI LICAREȚ (pian) AIRA TWAROWSKA\, ANCA DOMUȚA – mezzosoprane BIANCA ȚIFREA – soprană DANIEL ZAH – tenor———-În program:– Ludwig van Beethoven: Concertul nr. 5 în Mi bemol major pentru pian și orchestră\, op. 73\, „Imperialul”– Jin Wang: PIETÁ – primă audiție absolută dedicată Filarmonicii Oltenia Craiova
URL:https://craiovalive.ro/eveniment/imperialul-pieta-dirijor-jin-wang/
LOCATION:Filarmonica Oltenia\, Calea Unirii\, nr. 16\, Craiova\, Dolj\, 200585\, România
CATEGORIES:Muzică
ATTACH;FMTTYPE=image/jpeg:https://craiovalive.ro/wp-content/uploads/2026/04/Imperialul-Pieta-dirijor-Jin-Wang.jpg
ORGANIZER;CN="Filarmonica Oltenia Craiova":MAILTO:secretariat@filarmonica-oltenia.ro
GEO:44.3172308;23.7944364
X-APPLE-STRUCTURED-LOCATION;VALUE=URI;X-ADDRESS=Filarmonica Oltenia Calea Unirii nr. 16 Craiova Dolj 200585 România;X-APPLE-RADIUS=500;X-TITLE=Calea Unirii\, nr. 16:geo:23.7944364,44.3172308
END:VEVENT
BEGIN:VEVENT
DTSTART;TZID=Europe/Bucharest:20260424T191500
DTEND;TZID=Europe/Bucharest:20260424T201500
DTSTAMP:20260423T212145
CREATED:20260422T123420Z
LAST-MODIFIED:20260422T123420Z
UID:10014586-1777058100-1777061700@craiovalive.ro
SUMMARY:Spectacol folcloric „Ca la noi\, ca la olteni”
DESCRIPTION:Spectacol folcloric „Ca la noi\, ca la olteni” – Târgul de Paște Craiova 2026 \nVineri\, 24 aprilie\, în intervalul orar 19:15 – 20:15\, pe scena principală din parc vor susține spectacolul „Ca la noi\, ca la olteni” orchestra și soliști ai Secției Folclor „Maria Tănase”: Constantin Enceanu\, Lavinia Bîrsoghe\, Aneta Șișu\, Marius Măgureanu\, alături de invitații lor – Valentin Andrei\, participanții la atelierele de folclor\, dansatorii Centrului Județean de Cultură și Artă Dolj. Conducerea muzicală: Ion Cristian Munteanu. Accesul publicului este liber.
URL:https://craiovalive.ro/eveniment/spectacol-folcloric-ca-la-noi-ca-la-olteni/
LOCATION:Parcul Nicolae Romanescu\, Craiova\, Dolj\, România
CATEGORIES:Muzică
ATTACH;FMTTYPE=image/jpeg:https://craiovalive.ro/wp-content/uploads/2026/04/Ca-la-noi-ca-la-olteni-24-aprilie.jpeg
ORGANIZER;CN="Sec%C8%9Bia Folclor Maria T%C4%83nase Craiova":MAILTO:ansamblulmariatanase@yahoo.com
GEO:44.301907335609;23.799200026224
END:VEVENT
BEGIN:VEVENT
DTSTART;TZID=Europe/Bucharest:20260425T190000
DTEND;TZID=Europe/Bucharest:20260425T210000
DTSTAMP:20260423T212145
CREATED:20260224T115528Z
LAST-MODIFIED:20260224T115528Z
UID:10014063-1777143600-1777150800@craiovalive.ro
SUMMARY:Fără Zahăr - „Nunta de Argint”
DESCRIPTION:Craiova: Concert Fără Zahăr – Nunta de Argint\nCinema Patria\, Craiova\nStr.A.I.Cuza nr.15\, Craiova\nsâmbătă\, 25 aprilie\, ora 19:00 \nTrupa FĂRĂ ZAHĂR aniversează 25 de ani de comedie amăruie la 𝗖𝗿𝗮𝗶𝗼𝘃𝗮 – Cinema Patria\, sâmbătă 𝟮𝟱 𝗮𝗽𝗿𝗶𝗹𝗶𝗲 𝗱𝗲 𝗹𝗮 𝗼𝗿𝗮 𝟭𝟵:𝟬𝟬.\nPionieri ai folkului alternativ\, Bobo Burlăcianu și Bobi Dumitraș celebrează primul sfert de veac al proiectului lor muzical.\n„Nunta de Argint” nu este doar o aniversare\, e și o seară de întâlnire între artiști și nuntașii lor\, o celebrare a fidelității față de muzică\, cu glume spuse pe nume și povești cântate ca la masa mare\, după ce s-a spart gheața.\nVă invităm să le fiți nuntași spectatori
URL:https://craiovalive.ro/eveniment/fara-zahar-nunta-de-argint/
LOCATION:Dolj
CATEGORIES:Muzică
ATTACH;FMTTYPE=image/webp:https://craiovalive.ro/wp-content/uploads/2026/02/Fara-Zahar-„Nunta-de-Argint.webp
END:VEVENT
END:VCALENDAR