BEGIN:VCALENDAR
VERSION:2.0
PRODID:-//Craiova Live - ECPv6.15.18//NONSGML v1.0//EN
CALSCALE:GREGORIAN
METHOD:PUBLISH
X-ORIGINAL-URL:https://craiovalive.ro
X-WR-CALDESC:Evenimente pentru Craiova Live
REFRESH-INTERVAL;VALUE=DURATION:PT1H
X-Robots-Tag:noindex
X-PUBLISHED-TTL:PT1H
BEGIN:VTIMEZONE
TZID:Europe/Bucharest
BEGIN:DAYLIGHT
TZOFFSETFROM:+0200
TZOFFSETTO:+0300
TZNAME:EEST
DTSTART:20250330T010000
END:DAYLIGHT
BEGIN:STANDARD
TZOFFSETFROM:+0300
TZOFFSETTO:+0200
TZNAME:EET
DTSTART:20251026T010000
END:STANDARD
BEGIN:DAYLIGHT
TZOFFSETFROM:+0200
TZOFFSETTO:+0300
TZNAME:EEST
DTSTART:20260329T010000
END:DAYLIGHT
BEGIN:STANDARD
TZOFFSETFROM:+0300
TZOFFSETTO:+0200
TZNAME:EET
DTSTART:20261025T010000
END:STANDARD
BEGIN:DAYLIGHT
TZOFFSETFROM:+0200
TZOFFSETTO:+0300
TZNAME:EEST
DTSTART:20270328T010000
END:DAYLIGHT
BEGIN:STANDARD
TZOFFSETFROM:+0300
TZOFFSETTO:+0200
TZNAME:EET
DTSTART:20271031T010000
END:STANDARD
END:VTIMEZONE
BEGIN:VEVENT
DTSTART;TZID=Europe/Bucharest:20260409T190000
DTEND;TZID=Europe/Bucharest:20260409T203000
DTSTAMP:20260424T015536
CREATED:20260327T112802Z
LAST-MODIFIED:20260327T112802Z
UID:10014402-1775761200-1775766600@craiovalive.ro
SUMMARY:Concert vocal-simfonic Stabat Mater - Antonín Dvořák
DESCRIPTION:JOI\, 9 APRILIE 2026\, ORA 19:00STABAT MATERORCHESTRA SIMFONICĂ ȘI CORALA ACADEMICĂ ALE FILARMONICII „OLTENIA”DIRIJOR: KONSTANTIN ILIEVSKY (BULGARIA)SOLIȘTI: DARIA BÂRZU (soprană)\, CAMELIA CUZUB (mezzosoprană)\,ADRIAN PLEȘCA (tenor)\, HORIA RADU(bas)Maestru de cor: PAVEL ȘOPOVÎn program:Antonín Dvořák: Stabat Mater pentru soliști\, cor și orchestră\, op. 58
URL:https://craiovalive.ro/eveniment/concert-vocal-simfonic-stabat-mater-antonin-dvorak/
LOCATION:Filarmonica Oltenia\, Calea Unirii\, nr. 16\, Craiova\, Dolj\, 200585\, România
CATEGORIES:Muzică
ATTACH;FMTTYPE=image/jpeg:https://craiovalive.ro/wp-content/uploads/2026/03/Concert-vocal-simfonic-Stabat-Mater-Antonin-Dvorak.jpg
ORGANIZER;CN="Filarmonica Oltenia Craiova":MAILTO:secretariat@filarmonica-oltenia.ro
GEO:44.3172308;23.7944364
X-APPLE-STRUCTURED-LOCATION;VALUE=URI;X-ADDRESS=Filarmonica Oltenia Calea Unirii nr. 16 Craiova Dolj 200585 România;X-APPLE-RADIUS=500;X-TITLE=Calea Unirii\, nr. 16:geo:23.7944364,44.3172308
END:VEVENT
BEGIN:VEVENT
DTSTART;TZID=Europe/Bucharest:20260412T150000
DTEND;TZID=Europe/Bucharest:20260412T180000
DTSTAMP:20260424T015536
CREATED:20260324T191032Z
LAST-MODIFIED:20260413T132104Z
UID:10014391-1776006000-1776016800@craiovalive.ro
SUMMARY:Festivalul Petre Magdin - Întâlnirea de la miezul nopții
DESCRIPTION:Craiova devine pentru două zile Capitala Rock-ului Românesc prin Festivalul Petre Magdin  -Întâlnirea de la miezul nopții – 70 de ani de activitate artistică. Evenimentul va avea loc pe 12 și 13 aprilie\, în prima și a doua zi de Paște\, în Parcul Romanescu\, la Craiova!Vă așteptăm pe toți la Craiova! Intrarea este liberă! \n\nLuni\, 13 aprilie\, Festivalul Petre Magdin – 70 de ani de activitate artistică aduce pe scena din poieniță unele dintre cele mai iubite trupe rock din România. Pregătește-te pentru o zi plină de energie\, muzică live și atmosferă de sărbătoare!\n\n\n Main Stage – scena din poieniță\n 15:45 – 16:45 – Celelalte Cuvinte\n 17:15 – 18:15 – Timpuri Noi\n 18:45 – 19:45 – Riff\n 20:15 – 21:15 – Antract\n 21:45 – 23:00 – Iris\n\n\n Lac – Debarcader\n 20:30 – Fairytale on the Lake\, spectacol muzical pe lac\, organizat de Opera Română Craiova și Teatrul Colibri\n Proiecții holografice pe lac\n\n\n Acces gratuit\n Parcul Nicolae Romanescu\, Craiova
URL:https://craiovalive.ro/eveniment/festivalul-petre-magdin-intalnirea-de-la-miezul-noptii/2026-04-12/
LOCATION:Parcul Nicolae Romanescu – Teatrul de Vară\, Craiova\, Dolj\, România
CATEGORIES:Muzică
ATTACH;FMTTYPE=image/jpeg:https://craiovalive.ro/wp-content/uploads/2026/03/Festivalul-Petre-Magdin-Intalnirea-de-la-miezul-noptii.jpg
GEO:44.298975729899;23.803581461806
END:VEVENT
END:VCALENDAR