BEGIN:VCALENDAR
VERSION:2.0
PRODID:-//Craiova Live - ECPv6.15.18//NONSGML v1.0//EN
CALSCALE:GREGORIAN
METHOD:PUBLISH
X-ORIGINAL-URL:https://craiovalive.ro
X-WR-CALDESC:Evenimente pentru Craiova Live
REFRESH-INTERVAL;VALUE=DURATION:PT1H
X-Robots-Tag:noindex
X-PUBLISHED-TTL:PT1H
BEGIN:VTIMEZONE
TZID:Europe/Bucharest
BEGIN:DAYLIGHT
TZOFFSETFROM:+0200
TZOFFSETTO:+0300
TZNAME:EEST
DTSTART:20250330T010000
END:DAYLIGHT
BEGIN:STANDARD
TZOFFSETFROM:+0300
TZOFFSETTO:+0200
TZNAME:EET
DTSTART:20251026T010000
END:STANDARD
BEGIN:DAYLIGHT
TZOFFSETFROM:+0200
TZOFFSETTO:+0300
TZNAME:EEST
DTSTART:20260329T010000
END:DAYLIGHT
BEGIN:STANDARD
TZOFFSETFROM:+0300
TZOFFSETTO:+0200
TZNAME:EET
DTSTART:20261025T010000
END:STANDARD
BEGIN:DAYLIGHT
TZOFFSETFROM:+0200
TZOFFSETTO:+0300
TZNAME:EEST
DTSTART:20270328T010000
END:DAYLIGHT
BEGIN:STANDARD
TZOFFSETFROM:+0300
TZOFFSETTO:+0200
TZNAME:EET
DTSTART:20271031T010000
END:STANDARD
END:VTIMEZONE
BEGIN:VEVENT
DTSTART;TZID=Europe/Bucharest:20260309T190000
DTEND;TZID=Europe/Bucharest:20260309T203000
DTSTAMP:20260423T225514
CREATED:20260214T152106Z
LAST-MODIFIED:20260214T152106Z
UID:10013075-1773082800-1773088200@craiovalive.ro
SUMMARY:Recital de pian Robert Bașcoveanu
DESCRIPTION:LUNI\, 9 MARTIE 2026\, ORA 19:00Recital de pianROBERT BAȘCOVEANU————În program:– Johann Sebastian Bach: Preludiu și Fugă în fa minor\, BWV 857\, din Clavecinul bine temperat\, Caietul I– Joseph Haydn: Sonata în Mi bemol major pentru pian\, Hob. XVI:49– Frédéric Chopin: Scherzo nr. 3 în Do diez minor\, op. 39– Franz Liszt: Studiu transcendental nr. 4 „Mazeppa”\, S.139– Johannes Brahms: Intermezzo în Si bemol minor\, op. 117\, nr. 2Intermezzo în La major\, op. 118\, nr. 2– Aleksandr Scriabin: Sonata nr. 2 pentru pian „Sonata-Fantezie” în Sol diez minor\, op. 19
URL:https://craiovalive.ro/eveniment/recital-de-pian-robert-bascoveanu-2/
LOCATION:Filarmonica Oltenia\, Calea Unirii\, nr. 16\, Craiova\, Dolj\, 200585\, România
CATEGORIES:Muzică
ATTACH;FMTTYPE=image/jpeg:https://craiovalive.ro/wp-content/uploads/2026/02/Recital-de-pian-Robert-Bascoveanu.jpg
ORGANIZER;CN="Filarmonica Oltenia Craiova":MAILTO:secretariat@filarmonica-oltenia.ro
GEO:44.3172308;23.7944364
X-APPLE-STRUCTURED-LOCATION;VALUE=URI;X-ADDRESS=Filarmonica Oltenia Calea Unirii nr. 16 Craiova Dolj 200585 România;X-APPLE-RADIUS=500;X-TITLE=Calea Unirii\, nr. 16:geo:23.7944364,44.3172308
END:VEVENT
BEGIN:VEVENT
DTSTART;TZID=Europe/Bucharest:20260310T190000
DTEND;TZID=Europe/Bucharest:20260310T203000
DTSTAMP:20260423T225514
CREATED:20260214T152307Z
LAST-MODIFIED:20260214T152307Z
UID:10013076-1773169200-1773174600@craiovalive.ro
SUMMARY:Recital vioară-pian Valentin Șerban & Mihai Diaconescu
DESCRIPTION:MARȚI\, 10 MARTIE 2026\, ORA 19:00Recital vioară-pianVALENTIN ȘERBANMIHAI DIACONESCU———În program:– Fritz Kreisler: Preludiu și Allegro (în stilul lui Pugnani)– Johannes Brahms: Sonata nr. 1 în Sol major pentru vioară și pian\, op. 78(„Sonata Regenlied”)– Antonín Dvořák:Romanța în Fa minor pentru vioară și pian\, op. 11– Serghei Prokofiev: Sonata nr. 2 în Re major pentru vioară și pian\, op. 94bis
URL:https://craiovalive.ro/eveniment/recital-vioara-pian-valentin-serban-mihai-diaconescu/
LOCATION:Filarmonica Oltenia\, Calea Unirii\, nr. 16\, Craiova\, Dolj\, 200585\, România
CATEGORIES:Muzică
ATTACH;FMTTYPE=image/jpeg:https://craiovalive.ro/wp-content/uploads/2026/02/Recital-vioara-pian-Valentin-Serban-Mihai-Diaconescu.jpg
ORGANIZER;CN="Filarmonica Oltenia Craiova":MAILTO:secretariat@filarmonica-oltenia.ro
GEO:44.3172308;23.7944364
X-APPLE-STRUCTURED-LOCATION;VALUE=URI;X-ADDRESS=Filarmonica Oltenia Calea Unirii nr. 16 Craiova Dolj 200585 România;X-APPLE-RADIUS=500;X-TITLE=Calea Unirii\, nr. 16:geo:23.7944364,44.3172308
END:VEVENT
BEGIN:VEVENT
DTSTART;TZID=Europe/Bucharest:20260311T200000
DTEND;TZID=Europe/Bucharest:20260311T213000
DTSTAMP:20260423T225514
CREATED:20251208T130732Z
LAST-MODIFIED:20251208T130732Z
UID:10012616-1773259200-1773264600@craiovalive.ro
SUMMARY:Simfonia Iubirii
DESCRIPTION:SIMFONIA IUBIRII 11 MARTIE ora 20:00FILARMONICA OLTENIA CRAIOVAARMONIILE IUBIRII ÎN CAPODOPERELE MARILOR COMPOZITORI: DE LA MOZART LA ROSSINI ȘI DONIZETTI ȘI DE LA VERDI LA PUCCINI\, CEAIKOVSKI ȘI PÂNĂ LA ENNIO MORRICONEO seară în care muzica\, dansul și vocile spun cea mai frumoasă poveste a lumii: IUBIREA.Vă invităm la un spectacol grandios în care Orchestra di Teatro d’Opera Italiana\, Orchestra Opera Vox\, Baletul și Corul Opera Vox\, alături de dirijorul și solistul violonist Bogdan Costache\, se împletesc într-o experiență artistică unică.De la eleganța eternă a lui Mozart\, la bucuria muzicii lui Rossini și Donizetti\, până la iubirea romantică dusă până la sacrificiu din operele lui Verdi\, continuând cu eroii romantici din baletul lui Ceaikovski :Romeo și Julieta\, veți asculta și vedea cele mai celebre pagini muzicale dedicate iubirii.Pe scenă\, muzica prinde culoare\, pașii de dans devin emoție\, iar vocile corului și ale soliștilor aduc profunzime fiecărui moment.DE LA JOHANN STRAUSS LA BOGDAN COSTACHE SAU DESPRE MODELUL VIENEZ DE A DIRIJA CU VIOARA IN MANAConducerea muzicală a spectacolului va fi asigurată de tânărul dirijor și solist violonist Bogdan Costache\, unul dintre cei mai talentați conducători de orchestră ai tinerei generații\, născut în România.Prezența lui Bogdan Costache în spectacolul Simfonia Iubirii se datorează dumneavoastră\, publicului spectator\, care îl îndrăgiți atât de mult și vă doriți să îl revedeți cât mai des pe scenele din România.Astfel\, spectacolul va fi unul interactiv\, dirijat „cu vioara în mână” după modelul lui Johann Strauss sau André Rieu.Bogdan vă va surprinde cu multe piese celebre dedicate iubirii\, multe dintre ele în prima audiție națională. Nelipsite vor fi și piesele compozitorilor români dedicate iubirii.Spectacolul va fi desăvârșit de Corul și Baletul Operei Vox\, regia și coregrafia fiind semnate de Vlad Sebastian\, un nume cu rezonanță în teatrele muzicale din țară și străinătate.TINERI ROMÂNI TALENTAȚI LA ÎNCEPUT DE DRUMPromovarea noii generații de muzicieni români este o parte esențială a misiunii noastre. An de an\, aducem în fața publicului artiști tineri\, aflați la început de carieră\, dar deja apreciați și premiați la competiții muzicale din țară și din străinătate.Anul acesta\, vă invităm să descoperiți talentul chitaristului Gabriel Popescu\, care va urca pe scenă alături de profesorul și mentorul său\, Mădălin Antonesei.SIMFONIA IUBIRII – UN SPECTACOL CARE VĂ VA ATINGE SUFLETUL!
URL:https://craiovalive.ro/eveniment/simfonia-iubirii/
LOCATION:Filarmonica Oltenia\, Calea Unirii\, nr. 16\, Craiova\, Dolj\, 200585\, România
CATEGORIES:Muzică
ATTACH;FMTTYPE=image/jpeg:https://craiovalive.ro/wp-content/uploads/2025/12/Simfonia-Iubirii.jpg
GEO:44.3172308;23.7944364
X-APPLE-STRUCTURED-LOCATION;VALUE=URI;X-ADDRESS=Filarmonica Oltenia Calea Unirii nr. 16 Craiova Dolj 200585 România;X-APPLE-RADIUS=500;X-TITLE=Calea Unirii\, nr. 16:geo:23.7944364,44.3172308
END:VEVENT
BEGIN:VEVENT
DTSTART;TZID=Europe/Bucharest:20260312T210000
DTEND;TZID=Europe/Bucharest:20260312T230000
DTSTAMP:20260423T225514
CREATED:20251208T132207Z
LAST-MODIFIED:20260127T141642Z
UID:10012618-1773349200-1773356400@craiovalive.ro
SUMMARY:Joia de Muzică ’25 – Madicine Band & Friends Live la Curte
DESCRIPTION:Lineup ca între prieteni la #JoiaDeMuzică\, fix cum ne place la #Curte! Ne reîntâlnim cu sârbii noștri preferați de la Madicine Band pentru o seară cu vibe bun\, hituri live și multă energie  – marca unor artiști care știu cum să transforme o seară de joi într-un concert de zile mari.\nÎncepem de la 21:00 și nu ne oprim până nu goliți ultima halbă de #TimiLaTank  și nu vă dor palmele de la aplaudat. Hai și voi cu gașca\, rezervați-vă masa din timp și veniți să umpleți Curtea de bucurie!\n Open doors: 21:00 Artist support: 50 lei Info & Rezervări: 0761.342.919
URL:https://craiovalive.ro/eveniment/joia-de-muzica-25-madicine-band-friends-live-la-curte/
LOCATION:Curtea Berarilor Craiova\, Strada Traian Demetrescu 12\, Craiova\, Dolj\, România
CATEGORIES:Muzică
ATTACH;FMTTYPE=image/png:https://craiovalive.ro/wp-content/uploads/2025/12/Curtea-berarilor-Joia-de-Muzica-cu-madicine-band.png
GEO:44.3165732;23.7999731
X-APPLE-STRUCTURED-LOCATION;VALUE=URI;X-ADDRESS=Curtea Berarilor Craiova Strada Traian Demetrescu 12 Craiova Dolj România;X-APPLE-RADIUS=500;X-TITLE=Strada Traian Demetrescu 12:geo:23.7999731,44.3165732
END:VEVENT
BEGIN:VEVENT
DTSTART;TZID=Europe/Bucharest:20260313T190000
DTEND;TZID=Europe/Bucharest:20260313T203000
DTSTAMP:20260423T225514
CREATED:20260215T191018Z
LAST-MODIFIED:20260217T175515Z
UID:10013468-1773428400-1773433800@craiovalive.ro
SUMMARY:Concert vocal-simfonic Mozart Requiem - dirijor: Gian Luigi Zampieri
DESCRIPTION:VINERI\, 13 MARTIE 2026\, ORA 19:00\nConcert vocal-simfonic\nORCHESTRA SIMFONICĂ ȘI CORALA ACADEMICĂ ALE FILARMONICII „OLTENIA”\nDIRIJOR: GIAN LUIGI ZAMPIERI (ITALIA)\nSOLIȘTI: MĂDĂLINA STAN (soprană)\, CLAUDIA CODREANU (mezzosoprană)\, LUCIAN CORCHIȘ (tenor)\, IUSTINIAN ZETEA (bas)\nMaestru de cor: PAVEL ȘOPOV\nÎn program:\nWolfgang Amadeus Mozart: -Misericordias Domini pentru cor și orchestră\, K. 222\n-Recviem în Re minor pentru soliști\, cor și orchestră\, K. 626
URL:https://craiovalive.ro/eveniment/mozart-requiem-dirijor-gian-luigi-zampieri/
LOCATION:Filarmonica Oltenia\, Calea Unirii\, nr. 16\, Craiova\, Dolj\, 200585\, România
CATEGORIES:Muzică
ATTACH;FMTTYPE=image/jpeg:https://craiovalive.ro/wp-content/uploads/2026/02/Mozart-Requiem-dirijor-Gian-Luigi-Zampieri.jpg
ORGANIZER;CN="Filarmonica Oltenia Craiova":MAILTO:secretariat@filarmonica-oltenia.ro
GEO:44.3172308;23.7944364
X-APPLE-STRUCTURED-LOCATION;VALUE=URI;X-ADDRESS=Filarmonica Oltenia Calea Unirii nr. 16 Craiova Dolj 200585 România;X-APPLE-RADIUS=500;X-TITLE=Calea Unirii\, nr. 16:geo:23.7944364,44.3172308
END:VEVENT
BEGIN:VEVENT
DTSTART;TZID=Europe/Bucharest:20260314T190000
DTEND;TZID=Europe/Bucharest:20260314T203000
DTSTAMP:20260423T225514
CREATED:20250909T194949Z
LAST-MODIFIED:20250909T194949Z
UID:10009712-1773514800-1773520200@craiovalive.ro
SUMMARY:Evoluție | Turneu Leo de la Roșiori
DESCRIPTION:EVOLUȚIE – TURNEU LEO DE LA ROȘIORI \nUn fenomen fără precedent în România! \nLeo de la Roșiori Music\, singurul artist român care susține un turneu de 30 de concerte în toată România si in diaspora\, îți aduce pe scenă un show grandios\, autentic și memorabil. \n\n\nEVOLUȚIE nu e doar un nume – este declarația curajoasă a unui artist care și-a schimbat drumul\, dar și-a păstrat sufletul.De la petreceri private la scenele mari ale țării – Leo cântă de acum doar în concerte\, pentru publicul care îl iubește cu adevărat\, alături de minunata Orchestra „Ethno Republic” condusă de maestrul Marcel Ștefănet\, reunita cu Orchestra „Leo de la Roșiori ” și vocile superbe ale Korneliei Ștefanet și Dianei Sârbu.Emoție live. Sunet impecabil. Momente intense. O experiență care te va marca.\n„Este un vis devenit realitate să pornesc la drum prin toată țara și prin Europa alături de niște artiști și oameni extraordinari: maestrul Marcel Ștefăneț & Orchestra Ethno Republic și vocile superbe ale Korneliei Ștefăneț și Dianei Sârbu.” (Leo de la Roșiori)\n\nCopiii până în 7 ani – intrare gratuită.
URL:https://craiovalive.ro/eveniment/evolutie-turneu-leo-de-la-rosiori/
LOCATION:Sala Polivalentă\, Bvd. Ilie Balaci\, nr.6\, Craiova\, Dolj\, România
CATEGORIES:Muzică
ATTACH;FMTTYPE=image/webp:https://craiovalive.ro/wp-content/uploads/2025/09/Evolutie-Turneu-Leo-de-la-Rosiori.webp
GEO:44.3133053;23.7867478
X-APPLE-STRUCTURED-LOCATION;VALUE=URI;X-ADDRESS=Sala Polivalentă Bvd. Ilie Balaci nr.6 Craiova Dolj România;X-APPLE-RADIUS=500;X-TITLE=Bvd. Ilie Balaci\, nr.6:geo:23.7867478,44.3133053
END:VEVENT
END:VCALENDAR