BEGIN:VCALENDAR
VERSION:2.0
PRODID:-//Craiova Live - ECPv6.15.18//NONSGML v1.0//EN
CALSCALE:GREGORIAN
METHOD:PUBLISH
X-ORIGINAL-URL:https://craiovalive.ro
X-WR-CALDESC:Evenimente pentru Craiova Live
REFRESH-INTERVAL;VALUE=DURATION:PT1H
X-Robots-Tag:noindex
X-PUBLISHED-TTL:PT1H
BEGIN:VTIMEZONE
TZID:Europe/Bucharest
BEGIN:DAYLIGHT
TZOFFSETFROM:+0200
TZOFFSETTO:+0300
TZNAME:EEST
DTSTART:20250330T010000
END:DAYLIGHT
BEGIN:STANDARD
TZOFFSETFROM:+0300
TZOFFSETTO:+0200
TZNAME:EET
DTSTART:20251026T010000
END:STANDARD
BEGIN:DAYLIGHT
TZOFFSETFROM:+0200
TZOFFSETTO:+0300
TZNAME:EEST
DTSTART:20260329T010000
END:DAYLIGHT
BEGIN:STANDARD
TZOFFSETFROM:+0300
TZOFFSETTO:+0200
TZNAME:EET
DTSTART:20261025T010000
END:STANDARD
BEGIN:DAYLIGHT
TZOFFSETFROM:+0200
TZOFFSETTO:+0300
TZNAME:EEST
DTSTART:20270328T010000
END:DAYLIGHT
BEGIN:STANDARD
TZOFFSETFROM:+0300
TZOFFSETTO:+0200
TZNAME:EET
DTSTART:20271031T010000
END:STANDARD
END:VTIMEZONE
BEGIN:VEVENT
DTSTART;TZID=Europe/Bucharest:20260206T190000
DTEND;TZID=Europe/Bucharest:20260206T203000
DTSTAMP:20260424T015523
CREATED:20260127T131108Z
LAST-MODIFIED:20260127T131108Z
UID:10012934-1770404400-1770409800@craiovalive.ro
SUMMARY:Concert simfonic Din lumea nouă - dirijor: Christo Pavlov
DESCRIPTION:VINERI\, 6 FEBRUARIE 2026\, ORA 19:00\nDIN LUMEA NOUĂ\nORCHESTRA SIMFONICĂ A FILARMONICII „OLTENIA”\nDIRIJOR: CHRISTO PAVLOV (BULGARIA)\nSOLIST: ATANAS KRASTEV (violoncel\, BULGARIA)\nÎn program:\n– Fanny Mendelssohn: Uvertura în Do major\n– Veselin Stoyanov: Concertul pentru violoncel și orchestră (primă audiție)\n– Antonín Dvořák: Simfonia nr. 9 în Mi minor\, op. 95\, „Din Lumea Nouă”
URL:https://craiovalive.ro/eveniment/concert-simfonic-din-lumea-noua-dirijor-christo-pavlov/
LOCATION:Filarmonica Oltenia\, Calea Unirii\, nr. 16\, Craiova\, Dolj\, 200585\, România
CATEGORIES:Muzică
ATTACH;FMTTYPE=image/jpeg:https://craiovalive.ro/wp-content/uploads/2026/01/Concert-simfonic-Din-lumea-noua-dirijor-Christo-Pavlov.jpg
ORGANIZER;CN="Filarmonica Oltenia Craiova":MAILTO:secretariat@filarmonica-oltenia.ro
GEO:44.3172308;23.7944364
X-APPLE-STRUCTURED-LOCATION;VALUE=URI;X-ADDRESS=Filarmonica Oltenia Calea Unirii nr. 16 Craiova Dolj 200585 România;X-APPLE-RADIUS=500;X-TITLE=Calea Unirii\, nr. 16:geo:23.7944364,44.3172308
END:VEVENT
BEGIN:VEVENT
DTSTART;TZID=Europe/Bucharest:20260207T160000
DTEND;TZID=Europe/Bucharest:20260207T180000
DTSTAMP:20260424T015523
CREATED:20241006T170307Z
LAST-MODIFIED:20260116T181727Z
UID:10012908-1770480000-1770487200@craiovalive.ro
SUMMARY:When Violin Meets Guitar - MetaVivaldi
DESCRIPTION:WHEN VIOLIN MEETS GUITAR \n\n7 feb 2026 – ora 16:00 \n7 feb 2026 – ora 19:00 SOLD OUT \n  \n\nCu 𝐍𝐚𝐭𝐚𝐥𝐢𝐚 𝐏𝐚𝐧𝐜𝐞𝐜 la vioară și 𝐄𝐦𝐢𝐥𝐢𝐚𝐧 𝐅𝐥𝐨𝐫𝐞𝐧𝐭𝐢𝐧 𝐆𝐡𝐞𝐨𝐫𝐠𝐡𝐞 la chitară\, veți trăi o experiență muzicală de neuitat\, plină de virtuozitate și pasiune. Rock\, balade și 𝐀𝐧𝐨𝐭𝐢𝐦𝐩𝐮𝐫𝐢𝐥𝐞 𝐥𝐮𝐢 𝐕𝐢𝐯𝐚𝐥𝐝𝐢 se întâlnesc într-un spectacol inedit\, care vă va captiva trupul\, sufletul și mintea!\nFiți martorii unei simfonii senzaționale\, unde vioara cântă rock și chitara interpretează balade și rapsodii clasice. Este o oportunitate unică de a fi aproape de doi artiști virtuoși și de a trăi magia proiectului „𝑾𝒉𝒆𝒏 𝑽𝒊𝒐𝒍𝒊𝒏 𝑴𝒆𝒆𝒕𝒔 𝑮𝒖𝒊𝒕𝒂𝒓”.\nAșadar\, pregătiți-vă să fiți purtați de valul emoțiilor și frumuseții muzicale într-o seară plină de magie și rafinament! \nPovestitorul spectacolului: actorul Vlad Andrei \n  \nÎn program:\nIngwie Malmsteen – Black Star\nA. Vivaldi – Primăvara partea I\nLed Zeppelin – Whole Lotte Love\nA. Vivaldi – Primăvara partea a III a \n  \nA. Vivaldi – Vara partea I\nPink Floyd – Shine on you crazy diamond\nA. Vivaldi – Vara partea a III a \n  \nA. Vivaldi – Toamna partea I\nLed Zeppelin – Stairway to heaven\nA. Vivaldi – Toamna partea a III a \n  \nMetallica – Master of puppets\nCiprian Porumbescu – Balada\nMetallica – Nothing else matters\nThe Doors – Riders on the storm\nBlack Sabbath – Paranoid\nAC/DC – Thunderstruck \n  \nA. Vivaldi – Iarna partea I\nDeep Purple – Child in time\nA. Vivaldi – Iarna partea a II a\nA. Vivaldi – Iarna partea a III a \n  \nQueen – Bohemian Rhapsody\nGeorge Enescu – Rapsodia Nr. I \n  \n”Este un mare privilegiu să fii aproape de doi instrumentiști virtuoși care oferă prin proiectul „𝑾𝒉𝒆𝒏 𝑽𝒊𝒐𝒍𝒊𝒏 𝑴𝒆𝒆𝒕𝒔 𝑮𝒖𝒊𝒕𝒂𝒓” o combinație acustică senzațională cântată pe corzi de vioară și chitară.\nViolonista Natalia Pancec și chitaristul Emilian Florentin Gheorghe ne-au captat\, trup\, suflet și minte\, într-un spectacol inedit interpretat cu mare virtuozitate instrumentală\, bucurie și sensibilitate.\nAm ascultat vioara cântând ce știe chitara mai bine\, rock în forță și balade.\nAm ascultat chitara cântând ce știe vioara mai bine\, balade și rapsodii clasice.\nRepertoriul alternant\, o piesă clasică\, una rock\, ne-a trecut cu o fluiditate fascinantă prin Ciprian Porumbescu\, Metallica\, George Enescu\, The Doors\, Vivaldi\, Queen\, Brahms\, Led Zeppelin. Trecutul cu prezentul s-au contopit. Când ne-am trezit din vârtej aveam fiori\, iar palmele aplaudau frenetic.”.\nContacte Culturale.2023
URL:https://craiovalive.ro/eveniment/when-violin-meets-guitar-metavivaldi/2026-02-07/1/
LOCATION:Filarmonica Oltenia\, Calea Unirii\, nr. 16\, Craiova\, Dolj\, 200585\, România
CATEGORIES:Muzică
ATTACH;FMTTYPE=image/png:https://craiovalive.ro/wp-content/uploads/2024/10/when-violin-meets-guitar-craiova-feb-2025.png
ORGANIZER;CN="Filarmonica Oltenia Craiova":MAILTO:secretariat@filarmonica-oltenia.ro
GEO:44.3172308;23.7944364
X-APPLE-STRUCTURED-LOCATION;VALUE=URI;X-ADDRESS=Filarmonica Oltenia Calea Unirii nr. 16 Craiova Dolj 200585 România;X-APPLE-RADIUS=500;X-TITLE=Calea Unirii\, nr. 16:geo:23.7944364,44.3172308
END:VEVENT
BEGIN:VEVENT
DTSTART;TZID=Europe/Bucharest:20260207T190000
DTEND;TZID=Europe/Bucharest:20260207T210000
DTSTAMP:20260424T015523
CREATED:20241006T170307Z
LAST-MODIFIED:20260116T181727Z
UID:10003650-1770490800-1770498000@craiovalive.ro
SUMMARY:When Violin Meets Guitar - MetaVivaldi
DESCRIPTION:WHEN VIOLIN MEETS GUITAR \n\n7 feb 2026 – ora 16:00 \n7 feb 2026 – ora 19:00 SOLD OUT \n  \n\nCu 𝐍𝐚𝐭𝐚𝐥𝐢𝐚 𝐏𝐚𝐧𝐜𝐞𝐜 la vioară și 𝐄𝐦𝐢𝐥𝐢𝐚𝐧 𝐅𝐥𝐨𝐫𝐞𝐧𝐭𝐢𝐧 𝐆𝐡𝐞𝐨𝐫𝐠𝐡𝐞 la chitară\, veți trăi o experiență muzicală de neuitat\, plină de virtuozitate și pasiune. Rock\, balade și 𝐀𝐧𝐨𝐭𝐢𝐦𝐩𝐮𝐫𝐢𝐥𝐞 𝐥𝐮𝐢 𝐕𝐢𝐯𝐚𝐥𝐝𝐢 se întâlnesc într-un spectacol inedit\, care vă va captiva trupul\, sufletul și mintea!\nFiți martorii unei simfonii senzaționale\, unde vioara cântă rock și chitara interpretează balade și rapsodii clasice. Este o oportunitate unică de a fi aproape de doi artiști virtuoși și de a trăi magia proiectului „𝑾𝒉𝒆𝒏 𝑽𝒊𝒐𝒍𝒊𝒏 𝑴𝒆𝒆𝒕𝒔 𝑮𝒖𝒊𝒕𝒂𝒓”.\nAșadar\, pregătiți-vă să fiți purtați de valul emoțiilor și frumuseții muzicale într-o seară plină de magie și rafinament! \nPovestitorul spectacolului: actorul Vlad Andrei \n  \nÎn program:\nIngwie Malmsteen – Black Star\nA. Vivaldi – Primăvara partea I\nLed Zeppelin – Whole Lotte Love\nA. Vivaldi – Primăvara partea a III a \n  \nA. Vivaldi – Vara partea I\nPink Floyd – Shine on you crazy diamond\nA. Vivaldi – Vara partea a III a \n  \nA. Vivaldi – Toamna partea I\nLed Zeppelin – Stairway to heaven\nA. Vivaldi – Toamna partea a III a \n  \nMetallica – Master of puppets\nCiprian Porumbescu – Balada\nMetallica – Nothing else matters\nThe Doors – Riders on the storm\nBlack Sabbath – Paranoid\nAC/DC – Thunderstruck \n  \nA. Vivaldi – Iarna partea I\nDeep Purple – Child in time\nA. Vivaldi – Iarna partea a II a\nA. Vivaldi – Iarna partea a III a \n  \nQueen – Bohemian Rhapsody\nGeorge Enescu – Rapsodia Nr. I \n  \n”Este un mare privilegiu să fii aproape de doi instrumentiști virtuoși care oferă prin proiectul „𝑾𝒉𝒆𝒏 𝑽𝒊𝒐𝒍𝒊𝒏 𝑴𝒆𝒆𝒕𝒔 𝑮𝒖𝒊𝒕𝒂𝒓” o combinație acustică senzațională cântată pe corzi de vioară și chitară.\nViolonista Natalia Pancec și chitaristul Emilian Florentin Gheorghe ne-au captat\, trup\, suflet și minte\, într-un spectacol inedit interpretat cu mare virtuozitate instrumentală\, bucurie și sensibilitate.\nAm ascultat vioara cântând ce știe chitara mai bine\, rock în forță și balade.\nAm ascultat chitara cântând ce știe vioara mai bine\, balade și rapsodii clasice.\nRepertoriul alternant\, o piesă clasică\, una rock\, ne-a trecut cu o fluiditate fascinantă prin Ciprian Porumbescu\, Metallica\, George Enescu\, The Doors\, Vivaldi\, Queen\, Brahms\, Led Zeppelin. Trecutul cu prezentul s-au contopit. Când ne-am trezit din vârtej aveam fiori\, iar palmele aplaudau frenetic.”.\nContacte Culturale.2023
URL:https://craiovalive.ro/eveniment/when-violin-meets-guitar-metavivaldi/2026-02-07/2/
LOCATION:Filarmonica Oltenia\, Calea Unirii\, nr. 16\, Craiova\, Dolj\, 200585\, România
CATEGORIES:Muzică
ATTACH;FMTTYPE=image/png:https://craiovalive.ro/wp-content/uploads/2024/10/when-violin-meets-guitar-craiova-feb-2025.png
ORGANIZER;CN="Filarmonica Oltenia Craiova":MAILTO:secretariat@filarmonica-oltenia.ro
GEO:44.3172308;23.7944364
X-APPLE-STRUCTURED-LOCATION;VALUE=URI;X-ADDRESS=Filarmonica Oltenia Calea Unirii nr. 16 Craiova Dolj 200585 România;X-APPLE-RADIUS=500;X-TITLE=Calea Unirii\, nr. 16:geo:23.7944364,44.3172308
END:VEVENT
BEGIN:VEVENT
DTSTART;TZID=Europe/Bucharest:20260207T190000
DTEND;TZID=Europe/Bucharest:20260208T040000
DTSTAMP:20260424T015523
CREATED:20241224T132540Z
LAST-MODIFIED:20251210T192002Z
UID:10003785-1770490800-1770523200@craiovalive.ro
SUMMARY:NOSTALGIA în România | Craiova
DESCRIPTION:​​​​​​​🌼 NOSTALGIA în România | Craiova este un eveniment de tip discotecă ’90s – ’00s\, în care se pot întâlni decoruri retro & future\, selfie museum sau experiențe imersive.\n🌼 NOSTALGIA Retro Disco Future a reușit să se claseze în top 10 Best Medium Sized Festivals în Europa\, în ultimii 3 ani\, în cadrul European Festival Awards. \n🌼 Dată: sâmbătă\, 7 februarie 2026\n🌼 Loc desfășurare: Sala Polivalenta\, Craiova\n🌼 Genul programului: Retro-Disco-Future \n* Accesul minorilor este interzis!
URL:https://craiovalive.ro/eveniment/nostalgia-in-romania-craiova/
LOCATION:Sala Polivalentă\, Bvd. Ilie Balaci\, nr.6\, Craiova\, Dolj\, România
CATEGORIES:Muzică,Party
ATTACH;FMTTYPE=image/png:https://craiovalive.ro/wp-content/uploads/2024/12/NOSTALGIA-in-Romania-Craiova-2026.png
GEO:44.3133053;23.7867478
X-APPLE-STRUCTURED-LOCATION;VALUE=URI;X-ADDRESS=Sala Polivalentă Bvd. Ilie Balaci nr.6 Craiova Dolj România;X-APPLE-RADIUS=500;X-TITLE=Bvd. Ilie Balaci\, nr.6:geo:23.7867478,44.3133053
END:VEVENT
BEGIN:VEVENT
DTSTART;TZID=Europe/Bucharest:20260208T170000
DTEND;TZID=Europe/Bucharest:20260208T183000
DTSTAMP:20260424T015523
CREATED:20260104T220709Z
LAST-MODIFIED:20260202T094313Z
UID:10012708-1770570000-1770575400@craiovalive.ro
SUMMARY:Concert Întâlnirile Musicâme
DESCRIPTION:🎶 Concert la Craiova – De la Vivaldi la Piazzolla \nMusicâme France invită publicul din Craiova la un concert excepțional\, găzduit de Filarmonica Oltenia\, pe 8 februarie\, de la ora 17:00.O seară rafinată\, în care muzica creează punți între stiluri\, epoci și trăiri. \nDe la eleganța barocă a lui Vivaldi la pasiunea tangoului semnat Piazzolla\, trecând prin sonorități inspirate de Cantemir și energia lui Armstrong\, programul propune o adevărată călătorie muzicală. Muzica clasică se împletește cu accente de operă și ritmuri sud-americane\, într-un dialog vibrant pe aceeași scenă. \nAcest concert la Craiova se distinge prin finețe artistică și forță emoțională. Autenticitatea interpretării și nivelul înalt al expresiei muzicale fac din această seară un moment deosebit pentru iubitorii de muzică. \n🎟️ Un concert care nu doar se ascultă\, ci se trăiește.
URL:https://craiovalive.ro/eveniment/concert-intalnirile-musicame/
LOCATION:Filarmonica Oltenia\, Calea Unirii\, nr. 16\, Craiova\, Dolj\, 200585\, România
CATEGORIES:Muzică
ATTACH;FMTTYPE=image/png:https://craiovalive.ro/wp-content/uploads/2026/01/Concert-Intalnirile-Musicame.png
GEO:44.3172308;23.7944364
X-APPLE-STRUCTURED-LOCATION;VALUE=URI;X-ADDRESS=Filarmonica Oltenia Calea Unirii nr. 16 Craiova Dolj 200585 România;X-APPLE-RADIUS=500;X-TITLE=Calea Unirii\, nr. 16:geo:23.7944364,44.3172308
END:VEVENT
END:VCALENDAR