BEGIN:VCALENDAR
VERSION:2.0
PRODID:-//Craiova Live - ECPv6.15.18//NONSGML v1.0//EN
CALSCALE:GREGORIAN
METHOD:PUBLISH
X-WR-CALNAME:Craiova Live
X-ORIGINAL-URL:https://craiovalive.ro
X-WR-CALDESC:Evenimente pentru Craiova Live
REFRESH-INTERVAL;VALUE=DURATION:PT1H
X-Robots-Tag:noindex
X-PUBLISHED-TTL:PT1H
BEGIN:VTIMEZONE
TZID:Europe/Bucharest
BEGIN:DAYLIGHT
TZOFFSETFROM:+0200
TZOFFSETTO:+0300
TZNAME:EEST
DTSTART:20250330T010000
END:DAYLIGHT
BEGIN:STANDARD
TZOFFSETFROM:+0300
TZOFFSETTO:+0200
TZNAME:EET
DTSTART:20251026T010000
END:STANDARD
BEGIN:DAYLIGHT
TZOFFSETFROM:+0200
TZOFFSETTO:+0300
TZNAME:EEST
DTSTART:20260329T010000
END:DAYLIGHT
BEGIN:STANDARD
TZOFFSETFROM:+0300
TZOFFSETTO:+0200
TZNAME:EET
DTSTART:20261025T010000
END:STANDARD
BEGIN:DAYLIGHT
TZOFFSETFROM:+0200
TZOFFSETTO:+0300
TZNAME:EEST
DTSTART:20270328T010000
END:DAYLIGHT
BEGIN:STANDARD
TZOFFSETFROM:+0300
TZOFFSETTO:+0200
TZNAME:EET
DTSTART:20271031T010000
END:STANDARD
END:VTIMEZONE
BEGIN:VEVENT
DTSTART;TZID=Europe/Bucharest:20260114T190000
DTEND;TZID=Europe/Bucharest:20260114T200000
DTSTAMP:20260424T173703
CREATED:20250109T204905Z
LAST-MODIFIED:20260110T152517Z
UID:10003824-1768417200-1768420800@craiovalive.ro
SUMMARY:Spectacol de Ziua Culturii Naționale la Filarmonica Oltenia
DESCRIPTION: MIERCURI\, 14 IANUARIE 2026\, ORA 19:00Concert extraordinarZIUA CULTURII NAȚIONALE CORALA ACADEMICĂ A FILARMONICII „OLTENIA” DIRIJORI: ANDREI STĂNCULESCU\, MIHAIL ȘTEFĂNESCUCu participarea extraordinară a actorului  EMIL BOROGHINĂ La pian: CORINA STĂNESCU———În program:Paul Constantinescu: „Freamăt de codru”\, “La mijloc de codru des”\, “Peste vârfuri”\, “Stelele-n cer”Tudor Jarda: „Rugăciune”Vasile Popovici: „Dorința” (solist: Nicolae Cucu)Vasile Timiș: “O\, rămâi”Vasile Popovici: „Sara pe deal”D. G. Kiriac: „Revedere”G. Scheletti arm. E. Mezzetti: „Ce te legeni\, codrule”Laurențiu Profeta: “La steaua”Vasile Timiș: “După ce atâta vreme”\, “Și dacă”\, “Adio”————\n Program agenție: luni-vineri\, 10:00-18:00Detalii pe site sau la  0251 414 698\nConcert inclus în Abonamentul Melomanului.
URL:https://craiovalive.ro/eveniment/spectacol-ziua-culturii-nationale/
LOCATION:Filarmonica Oltenia\, Calea Unirii\, nr. 16\, Craiova\, Dolj\, 200585\, România
CATEGORIES:Muzică
ATTACH;FMTTYPE=image/jpeg:https://craiovalive.ro/wp-content/uploads/2025/01/Spectacol-de-Ziua-Culturii-Nationale-2026-la-Filarmonica-Oltenia.jpg
ORGANIZER;CN="Filarmonica Oltenia Craiova":MAILTO:secretariat@filarmonica-oltenia.ro
GEO:44.3172308;23.7944364
X-APPLE-STRUCTURED-LOCATION;VALUE=URI;X-ADDRESS=Filarmonica Oltenia Calea Unirii nr. 16 Craiova Dolj 200585 România;X-APPLE-RADIUS=500;X-TITLE=Calea Unirii\, nr. 16:geo:23.7944364,44.3172308
END:VEVENT
BEGIN:VEVENT
DTSTART;TZID=Europe/Bucharest:20260115T193000
DTEND;TZID=Europe/Bucharest:20260115T210000
DTSTAMP:20260424T173703
CREATED:20231229T155729Z
LAST-MODIFIED:20260110T152526Z
UID:10000525-1768505400-1768510800@craiovalive.ro
SUMMARY:Concert de Ziua Culturii Naționale - Bijuterii corale în creația românească
DESCRIPTION:Data: 15 ianuarie 2026 \nOra: 19.30 \nLocația: Filarmonica Oltenia \nDescriere: \nOpera Română Craiova sărbătorește Ziua Culturii Naționale cu un concert coral care include o selecție specială de lucrări ale compozitorilor români. Corul Operei Române Craiova\, condus de dirijorul Florian George Zamfir\, va fi acompaniat la pian de Maria Cristiana Stan. Concertul – care va avea loc pe 15 ianuarie 2026\, pe scena Filarmonicii Oltenia – este o invitație la celebrarea frumuseții și diversității culturii noastre naționale. \n\nOra și locul evenimentului \nVă așteptăm pe 15 ianuarie\, începând cu ora 19:30 la Filarmonica Oltenia \nPreț: 60 RON
URL:https://craiovalive.ro/eveniment/bijuterii-corale-in-creatia-romaneasca/
LOCATION:Filarmonica Oltenia\, Calea Unirii\, nr. 16\, Craiova\, Dolj\, 200585\, România
CATEGORIES:Muzică
ATTACH;FMTTYPE=image/webp:https://craiovalive.ro/wp-content/uploads/2023/12/Concert-de-Ziua-Culturii-Nationale-Bijuterii-corale-in-creatia-romaneasca.webp
ORGANIZER;CN="Opera Rom%C3%A2n%C4%83 Craiova":MAILTO:rezervari@operacraiova.ro
GEO:44.3172308;23.7944364
X-APPLE-STRUCTURED-LOCATION;VALUE=URI;X-ADDRESS=Filarmonica Oltenia Calea Unirii nr. 16 Craiova Dolj 200585 România;X-APPLE-RADIUS=500;X-TITLE=Calea Unirii\, nr. 16:geo:23.7944364,44.3172308
END:VEVENT
BEGIN:VEVENT
DTSTART;TZID=Europe/Bucharest:20260117T180000
DTEND;TZID=Europe/Bucharest:20260117T190000
DTSTAMP:20260424T173703
CREATED:20260114T131305Z
LAST-MODIFIED:20260114T131305Z
UID:10012827-1768672800-1768676400@craiovalive.ro
SUMMARY:Concert Gilles Apap & Colors of Invention - Brâncuși\, Colors of Invention
DESCRIPTION:2026 este Anul Brâncuși în România\, iar la Craiova și în Dolj\, Consiliul Județean Dolj a anunțat organizarea câte unui eveniment de marcă în fiecare lună\, pentru a omagia personalitatea imensă a sculptorului oltean Constantin Brâncuși\, cel care a făcut piatra să cânte pentru omenire. \nPrimul eveniment din această suită are loc pe 17 ianuarie\, de la ora 18:00\, la Centrul „Constantin Brâncuși”. Violonistul francez Gilles Apap revine la Craiova alături de cvartetul său\, Colors of Inventions\, pentru a crea o punte simbolică între România și Franța\, țara care i-a fost casă pentru atâta vreme artistului român. Astfel\, de la muzicienii Gilles Apap (vioară)\, Myriam Lafargue (acordeon)\, Philippe Noharet (contrabas) și Ludovit Kovac (țambal) vom primi o mostră binemeritată a spiritului vibrant al atelierului lui Brâncuși din Impasse Ronsin. Greutatea acestei alegeri este cu atât mai mare cu cât Centrul „Constantin Brâncuși” găzduiește chiar bârnele pe care Brâncuși le-a avut în atelierul său din Paris.\nRepertoriul ales este un dialog cultural fascinant\, ce reunește geniul unor compozitori – dintre care amintim Bach\, Mozart\, Enescu ori Satie – cu libertatea jazzului și autenticitatea muzicii tradiționale oltenești. \nSursă: Discover Dolj
URL:https://craiovalive.ro/eveniment/concert-gilles-apap-colors-of-invention-brancusi-colors-of-invention/
LOCATION:Centrul Constantin Brâncuși\, Calea Unirii\, nr. 15\, Craiova\, Dolj\, România
CATEGORIES:Muzică
ATTACH;FMTTYPE=image/jpeg:https://craiovalive.ro/wp-content/uploads/2026/01/Concert-Gilles-Apap-Brancusi-Colors-of-Invention.jpg
ORGANIZER;CN="Consiliul Jude%C8%9Bean Dolj":MAILTO:office.cjdolj@gmail.com
GEO:44.318902447163;23.795509159946
X-APPLE-STRUCTURED-LOCATION;VALUE=URI;X-ADDRESS=Centrul Constantin Brâncuși Calea Unirii nr. 15 Craiova Dolj România;X-APPLE-RADIUS=500;X-TITLE=Calea Unirii\, nr. 15:geo:23.795509159946,44.318902447163
END:VEVENT
BEGIN:VEVENT
DTSTART;TZID=Europe/Bucharest:20260117T190000
DTEND;TZID=Europe/Bucharest:20260117T203000
DTSTAMP:20260424T173703
CREATED:20260104T223154Z
LAST-MODIFIED:20260110T151107Z
UID:10012710-1768676400-1768681800@craiovalive.ro
SUMMARY:Concert extraordinar Ceaikovski & Șostakovici - dirijor: Cristian Mandeal
DESCRIPTION:Concert extraordinar\n\nSAMBATA 17 IAN 2026 – 19:00 \n Sala Filarmonicii Oltenia \n\n\n\n\n\n\n\nCEAIKOVSKI/ ȘOSTAKOVICIORCHESTRA SIMFONICĂ A FILARMONICII „OLTENIA” \n\n\nDirijor: CRISTIAN MANDEAL\n\n\nSolist: REMUS- VINCENTIU AZOITEI – vioară\n\n\nProgram\n\nPiotr Ilici Ceaikovski Concertul în Re major pentru vioară și orchestră\, op. 35\nDmitri Șostakovici Simfonia nr. 5 în Re minor\, op. 47\n\n——- Rezervați locurile la Filarmonică sau online. Bilete: 70 lei\n Program agenție: luni-vineri\, 10:00-18:00Detalii pe site sau la  0251 414 698\nConcertul nu este inclus în Abonamentul Melomanului.
URL:https://craiovalive.ro/eveniment/concert-extraordinar-ceaikovski-sostakovici-dirijor-cristian-mandeal/
LOCATION:Filarmonica Oltenia\, Calea Unirii\, nr. 16\, Craiova\, Dolj\, 200585\, România
CATEGORIES:Muzică
ATTACH;FMTTYPE=image/jpeg:https://craiovalive.ro/wp-content/uploads/2026/01/Concert-extraordinar-Ceaikovski-Sostakovici-dirijor-Cristian-Mandeal.jpg
ORGANIZER;CN="Filarmonica Oltenia Craiova":MAILTO:secretariat@filarmonica-oltenia.ro
GEO:44.3172308;23.7944364
X-APPLE-STRUCTURED-LOCATION;VALUE=URI;X-ADDRESS=Filarmonica Oltenia Calea Unirii nr. 16 Craiova Dolj 200585 România;X-APPLE-RADIUS=500;X-TITLE=Calea Unirii\, nr. 16:geo:23.7944364,44.3172308
END:VEVENT
END:VCALENDAR